BEGIN:VCALENDAR
VERSION:2.0
PRODID:-//NYCDH Week - ECPv6.15.17//NONSGML v1.0//EN
CALSCALE:GREGORIAN
METHOD:PUBLISH
X-WR-CALNAME:NYCDH Week
X-ORIGINAL-URL:https://nycdh.org/dhweek
X-WR-CALDESC:Events for NYCDH Week
REFRESH-INTERVAL;VALUE=DURATION:PT1H
X-Robots-Tag:noindex
X-PUBLISHED-TTL:PT1H
BEGIN:VTIMEZONE
TZID:America/New_York
BEGIN:DAYLIGHT
TZOFFSETFROM:-0500
TZOFFSETTO:-0400
TZNAME:EDT
DTSTART:20210314T070000
END:DAYLIGHT
BEGIN:STANDARD
TZOFFSETFROM:-0400
TZOFFSETTO:-0500
TZNAME:EST
DTSTART:20211107T060000
END:STANDARD
BEGIN:DAYLIGHT
TZOFFSETFROM:-0500
TZOFFSETTO:-0400
TZNAME:EDT
DTSTART:20220313T070000
END:DAYLIGHT
BEGIN:STANDARD
TZOFFSETFROM:-0400
TZOFFSETTO:-0500
TZNAME:EST
DTSTART:20221106T060000
END:STANDARD
BEGIN:DAYLIGHT
TZOFFSETFROM:-0500
TZOFFSETTO:-0400
TZNAME:EDT
DTSTART:20230312T070000
END:DAYLIGHT
BEGIN:STANDARD
TZOFFSETFROM:-0400
TZOFFSETTO:-0500
TZNAME:EST
DTSTART:20231105T060000
END:STANDARD
END:VTIMEZONE
BEGIN:VEVENT
DTSTART;TZID=America/New_York:20220210T080000
DTEND;TZID=America/New_York:20220210T100000
DTSTAMP:20260422T121007
CREATED:20220131T204051Z
LAST-MODIFIED:20220209T144822Z
UID:7453-1644480000-1644487200@nycdh.org
SUMMARY:Supporting Open Learning with Commons In A Box OpenLab
DESCRIPTION:Commons In A Box OpenLab (https://cboxopenlab.org/) is free\, open source software that enables anyone to create a commons space specifically designed for open learning\, where students\, faculty\, and staff can collaborate across disciplinary boundaries and share their work openly with one another and the world. \nThe project brings together Commons In A Box\, the software that powers NYCDH (CBOX\, https://commonsinabox.org/)\, and City Tech’s OpenLab platform for teaching\, learning\, and collaboration (https://openlab.citytech.cuny.edu/). The result is a teaching-focused version of CBOX that provides a powerful and flexible alternative to closed\, proprietary systems\, and is already being adopted at CUNY and beyond. \nWe will showcase CBOX OpenLab’s features and functionality\, using examples from City Tech’s OpenLab and BMCC’s installation of the software (https://openlab.bmcc.cuny.edu/)\, then discuss how CBOX OpenLab can support open learning in your community.
URL:https://nycdh.org/dhweek/event/supporting-open-learning-with-commons-in-a-box-openlab/
LOCATION:Online\, New York\, NY\, United States
CATEGORIES:Collaboration,Community,homefeature,Pedagogy,Support
ORGANIZER;CN="Charlie Edwards":MAILTO:cedwards@citytech.cuny.edu
END:VEVENT
BEGIN:VEVENT
DTSTART;TZID=America/New_York:20220210T090000
DTEND;TZID=America/New_York:20220210T100000
DTSTAMP:20260422T121007
CREATED:20220125T204823Z
LAST-MODIFIED:20220209T145105Z
UID:6921-1644483600-1644487200@nycdh.org
SUMMARY:Mapping with Palladio
DESCRIPTION:“Mapping with Palladio” introduces scholars in the humanities to Palladio (https://hdlab.stanford.edu/palladio)\, a web-based tool for visualizing multi-dimensional data on a map.
URL:https://nycdh.org/dhweek/event/mapping-with-palladio-2/
LOCATION:Online\, New York\, NY\, United States
CATEGORIES:2022,Beginner,Mapping,Workshop
ORGANIZER;CN="Caterina Agostini":MAILTO:caterina.agostini@rutgers.edu
END:VEVENT
BEGIN:VEVENT
DTSTART;TZID=America/New_York:20220210T100000
DTEND;TZID=America/New_York:20220210T120000
DTSTAMP:20260422T121007
CREATED:20220125T205847Z
LAST-MODIFIED:20220209T145230Z
UID:6938-1644487200-1644494400@nycdh.org
SUMMARY:Introduction to Omeka
DESCRIPTION:Omeka is a free\, flexible\, and open source web-publishing platform for the display of library\, museum\, archives\, and scholarly collections and exhibitions. This workshop will explain the basics of why and when to use Omeka and include a walkthrough of how to use Omeka to manage online collections and create digital exhibitions.
URL:https://nycdh.org/dhweek/event/introduction-to-omeka-6/
LOCATION:Online\, New York\, NY\, United States
CATEGORIES:2022,Beginner,CMSs,Omeka,Workshop
ORGANIZER;CN="Kimon Keramidas":MAILTO:kimon.keramidas@nyu.edu
END:VEVENT
BEGIN:VEVENT
DTSTART;TZID=America/New_York:20220210T100000
DTEND;TZID=America/New_York:20220210T120000
DTSTAMP:20260422T121007
CREATED:20220125T205947Z
LAST-MODIFIED:20220209T145341Z
UID:6940-1644487200-1644494400@nycdh.org
SUMMARY:Collecting Twitter Data for Research
DESCRIPTION:This workshop presents a few of the best and most approachable tools for collecting Twitter data for research. We’ll also address the kinds of information we can glean from social media data as well as several important factors and limitations to consider when doing social media research.
URL:https://nycdh.org/dhweek/event/collecting-twitter-data-for-research-2/
LOCATION:Online\, New York\, NY\, United States
CATEGORIES:2022,Beginner,Social Media,Twitter,Workshop
ORGANIZER;CN="Francesca Giannetti":MAILTO:francesca.giannetti@rutgers.edu
END:VEVENT
BEGIN:VEVENT
DTSTART;TZID=America/New_York:20220210T110000
DTEND;TZID=America/New_York:20220210T130000
DTSTAMP:20260422T121007
CREATED:20220128T034149Z
LAST-MODIFIED:20220209T145456Z
UID:7120-1644490800-1644498000@nycdh.org
SUMMARY:Open Refine for Beginners
DESCRIPTION:Looking to organize and rearrange a large spreadsheet for a project? Join us for an interactive\, step-by-step introduction to OpenRefine\, an open source desktop application described as “a powerful tool for working with messy data.” This session will cover OpenRefine basics including editing and reconciling data\, transforming data into different formats\, and connecting to external data sources like Wikidata and Getty Vocabularies.
URL:https://nycdh.org/dhweek/event/open-refine-for-beginners/
LOCATION:Online\, New York\, NY\, United States
CATEGORIES:2022,Data Management,Workshop
ORGANIZER;CN="Tierney Gleason":MAILTO:tgleason11@fordham.edu
END:VEVENT
BEGIN:VEVENT
DTSTART;TZID=America/New_York:20220210T130000
DTEND;TZID=America/New_York:20220210T150000
DTSTAMP:20260422T121007
CREATED:20220125T210630Z
LAST-MODIFIED:20220204T192047Z
UID:6956-1644498000-1644505200@nycdh.org
SUMMARY:Advanced Omeka
DESCRIPTION:Building on the Introduction to Omeka workshop\, this workshop will show you how to gain greater control of your Omeka installation. Participants will learn the difference between different deployments of Omeka\, how to manage your own hosted Omeka installation\, and how to use plugins\, themes\, HTML\, CSS\, and PHP to customize your collections and exhibitions. \nAlthough not required\, attendees are encouraged to have file transfer (i.e. Cyberduck\, Filezilla) and text editing software (i.e. TextEdit\, Notebook\, TextWrangler\, TextMate\, Bbedit) installed on their computers.
URL:https://nycdh.org/dhweek/event/advanced-omeka-7/
LOCATION:Online\, New York\, NY\, United States
CATEGORIES:2022,CMSs,Cultural Heritage,Intermediate,Omeka,Workshop
ORGANIZER;CN="Kimon Keramidas":MAILTO:kimon.keramidas@nyu.edu
END:VEVENT
BEGIN:VEVENT
DTSTART;TZID=America/New_York:20220210T130000
DTEND;TZID=America/New_York:20220210T150000
DTSTAMP:20260422T121007
CREATED:20220125T210715Z
LAST-MODIFIED:20220209T145655Z
UID:6958-1644498000-1644505200@nycdh.org
SUMMARY:Textual Corpus Creation with Corpus-DB
DESCRIPTION:In this workshop\, participants will learn how to set up a text analysis project\, by automatically assembling a large collection of text\, using the Corpus-DB API. Corpus-DB allows digital humanities researchers to quickly assemble a textual corpus\, according to publication date\, literary genre\, author\, and more. We will generate corpora which may be of interest to those in literary studies\, history\, and other text-based disciplines. No prior programming experience is required.
URL:https://nycdh.org/dhweek/event/textual-corpus-creation-with-corpus-db/
LOCATION:Online\, New York\, NY\, United States
CATEGORIES:2022,Text Analysis,Workshop
ORGANIZER;CN="Jonathan Reeve":MAILTO:jonathan.reeve@columbia.edu
END:VEVENT
BEGIN:VEVENT
DTSTART;TZID=America/New_York:20220210T130000
DTEND;TZID=America/New_York:20220210T150000
DTSTAMP:20260422T121007
CREATED:20220128T194053Z
LAST-MODIFIED:20220203T002424Z
UID:7166-1644498000-1644505200@nycdh.org
SUMMARY:Seed to Scale: Leveraging Institutional Grants for Additional Funding
DESCRIPTION:This roundtable session features projects that have leveraged NYU DH Seed Grants to scale up and receive additional funding from external sources. Given the NYCDH theme of Support\, panelists will share their processes and highlight elements of their work that made a difference in their ability to grow their projects and attract new funding. Participants will include: \nElaine Ayers\, “”Inverting the Wunderkammer: Rethinking the Digital Humanities through Botanic Histories and Archives\,”” $50\,000 Digital Humanities Advancement Grant from the National Endowment for the Humanities \nHilke Schellmann and Mona Sloane\, “Transparency For All – Bringing public records expertise\, advanced AI\, and editorial support to under-resourced newsrooms across America”\, $200\,000 from Patrick J. McGovern Foundation\, to collaborate with MuckRock. \nSince 2019\, NYU Center for the Humanities\, NYU Research Technologies\, and NYU Libraries have jointly sponsored a DH Seed Grant program\, which aims to seed projects that may go on to receive greater funding from other sources or otherwise build NYU’s institutional capacity in Digital Humanities work. Projects that give voice or expression to underrepresented communities; that engage with the urban fabric of the cities in which NYU has campuses; and that contribute to the subfield of Global Digital Humanities are especially welcomed. “
URL:https://nycdh.org/dhweek/event/seed-to-scale/
LOCATION:Online\, New York\, NY\, United States
CATEGORIES:2022,All Levels,Event,homefeature,Support
ORGANIZER;CN="Jojo Karlin":MAILTO:jojo.karlin@gmail.com
END:VEVENT
BEGIN:VEVENT
DTSTART;TZID=America/New_York:20220210T130000
DTEND;TZID=America/New_York:20220210T150000
DTSTAMP:20260422T121007
CREATED:20220202T021936Z
LAST-MODIFIED:20220209T150055Z
UID:7747-1644498000-1644505200@nycdh.org
SUMMARY:Lessons from Hybrid Teaching
DESCRIPTION:This free online NYC Digital Humanities session organized by Cinema Studies professor Marina Hassapopoulou will focus on hybrid teaching methods adaptable to various subjects and fields in the Humanities. Participants will be introduced to new (and DIY) tools and practices for collaborative learning\, mind-mapping\, visualizations\, and other low/no-budget platforms. The demonstration and talk will be followed by a showcase of student projects and other virtual classroom activities.
URL:https://nycdh.org/dhweek/event/lessons-from-hybrid-teaching/
LOCATION:Online\, New York\, NY\, United States
CATEGORIES:2022,All Levels,Pedagogy,Visualization,Workshop
ORGANIZER;CN="Marina Hassapopoulou":MAILTO:mh193@nyu.edu
END:VEVENT
BEGIN:VEVENT
DTSTART;TZID=America/New_York:20220210T150000
DTEND;TZID=America/New_York:20220210T170000
DTSTAMP:20260422T121007
CREATED:20220125T211112Z
LAST-MODIFIED:20220209T150205Z
UID:6968-1644505200-1644512400@nycdh.org
SUMMARY:Text Analysis with a Zine Corpus
DESCRIPTION:Working with transcribed zines from the Barnard Zine Library\, we will engage participants in the ethics and steps of creating a corpus and how to explore them using Voyant-Tools and a pre-written Python script. Corpus metadata highlight zine creators holding one or more minoritized identities. All are welcome\, and no coding experience is necessary. \nThis workshop is hosted by Filipa Calado (CUNY GC Ph.D student)\, Jenna Freedman (Barnard Zine Library curator)\, and Miranda Johnson (University of Wisconsin-Madison\, MLIS student).
URL:https://nycdh.org/dhweek/event/text-analysis-with-a-zine-corpus/
LOCATION:Online\, New York\, NY\, United States
CATEGORIES:2022,Beginner,Text Analysis,Workshop,Zines
ORGANIZER;CN="Jenna Freedman":MAILTO:jfreedma@barnard.edu
END:VEVENT
BEGIN:VEVENT
DTSTART;TZID=America/New_York:20220210T150000
DTEND;TZID=America/New_York:20220210T170000
DTSTAMP:20260422T121007
CREATED:20220127T182119Z
LAST-MODIFIED:20220209T150310Z
UID:7067-1644505200-1644512400@nycdh.org
SUMMARY:The Web Is All You Need: A Data Analysis Stack for the 2020s
DESCRIPTION:For most of the last decade digital humanists doing data analysis have chosen between R and Python. But in the past few years\, the Javascript ecosystem has blossomed in a way that makes it a viable–and dare I say\, fun–way to collaboratively share\, explore\, and analyze data. Students don’t need to install anything to start a lesson\, collaborators can work directly with you in real time\, and anyone who can code can easily add interactive sliders\, controls to unlock datasets for others. \nThis workshop will provide an introduction to building and sharing data analysis for and of the web using observable notebooks. We’ll explore the basic platform\, and how it improves on python- or r-based notebooks you may have used; introduce the arquero and vega-lite packages that allow data manipulation and visualization; and talk about some strategies for making even the largest datasets explorable to anyone with a smartphone.
URL:https://nycdh.org/dhweek/event/the-web-is-all-you-need-a-data-analysis-stack-for-the-2020s/
LOCATION:Online\, New York\, NY\, United States
CATEGORIES:2022,Data Analysis,Mapping,Visualization,Workshop
ORGANIZER;CN="Ben Schmidt":MAILTO:bmschmidt@gmail.com
END:VEVENT
BEGIN:VEVENT
DTSTART;TZID=America/New_York:20220210T160000
DTEND;TZID=America/New_York:20220210T180000
DTSTAMP:20260422T121007
CREATED:20220128T200956Z
LAST-MODIFIED:20220209T150428Z
UID:7175-1644508800-1644516000@nycdh.org
SUMMARY:DH Proposal Development
DESCRIPTION:You have an idea\, but how do you get started with your digital project? If you’re interested in doing a digital humanities project\, the best way to get started is with an effective plan. During this workshop\, we will work hands-on beginning to develop a project proposal that can be used for purposes ranging from a thesis proposal to a grant proposal. We’ll identify existing resources and those that you need to complete your work\, craft an audience statement\, a statement o need\, identify collaborators\, and discuss how you will plan for outreach\, data management\, sustainability\, and labor. \nCome with your budding ideas and either pen and paper or your word processor so that you can begin working on your  1-2 page draft proposal.
URL:https://nycdh.org/dhweek/event/dh-proposal-development/
LOCATION:Online\, New York\, NY\, United States
CATEGORIES:2022,All Levels,homefeature,Project Planning,Support,Workshop
ORGANIZER;CN="Lisa Rhody":MAILTO:lisarhody.gc@gmail.com
END:VEVENT
BEGIN:VEVENT
DTSTART;TZID=America/New_York:20220210T170000
DTEND;TZID=America/New_York:20220210T190000
DTSTAMP:20260422T121007
CREATED:20220125T211556Z
LAST-MODIFIED:20220209T150542Z
UID:6977-1644512400-1644519600@nycdh.org
SUMMARY:NEH Funding Opportunities for Digital Humanities Projects
DESCRIPTION:This session will give attendees the opportunity to learn from NEH senior program officer\, Jennifer Serventi\, about the many funding opportunities offered by the National Endowment for the Humanities for digitally-inflected projects. In her presentation\, she will address two related questions: 1) What opportunities are available to institutions\, faculty and staff for digital projects? and\, 2) What kinds of strategies can you employ to take advantage of them? \nShe also will discuss ways that you can participate in NEH projects and special initiatives beyond applying for an award directly from NEH. \nSession will be conducted using Microsoft Teams
URL:https://nycdh.org/dhweek/event/neh-funding-opportunities-for-digital-humanities-projects/
LOCATION:Online\, New York\, NY\, United States
CATEGORIES:2022,Support,Workshop
ORGANIZER;CN="Jennifer Serventi":MAILTO:jserventi@neh.gov
END:VEVENT
END:VCALENDAR