BEGIN:VCALENDAR
VERSION:2.0
PRODID:-//NYCDH Week - ECPv6.15.17//NONSGML v1.0//EN
CALSCALE:GREGORIAN
METHOD:PUBLISH
X-ORIGINAL-URL:https://nycdh.org/dhweek
X-WR-CALDESC:Events for NYCDH Week
REFRESH-INTERVAL;VALUE=DURATION:PT1H
X-Robots-Tag:noindex
X-PUBLISHED-TTL:PT1H
BEGIN:VTIMEZONE
TZID:America/New_York
BEGIN:DAYLIGHT
TZOFFSETFROM:-0500
TZOFFSETTO:-0400
TZNAME:EDT
DTSTART:20170312T070000
END:DAYLIGHT
BEGIN:STANDARD
TZOFFSETFROM:-0400
TZOFFSETTO:-0500
TZNAME:EST
DTSTART:20171105T060000
END:STANDARD
BEGIN:DAYLIGHT
TZOFFSETFROM:-0500
TZOFFSETTO:-0400
TZNAME:EDT
DTSTART:20180311T070000
END:DAYLIGHT
BEGIN:STANDARD
TZOFFSETFROM:-0400
TZOFFSETTO:-0500
TZNAME:EST
DTSTART:20181104T060000
END:STANDARD
BEGIN:DAYLIGHT
TZOFFSETFROM:-0500
TZOFFSETTO:-0400
TZNAME:EDT
DTSTART:20190310T070000
END:DAYLIGHT
BEGIN:STANDARD
TZOFFSETFROM:-0400
TZOFFSETTO:-0500
TZNAME:EST
DTSTART:20191103T060000
END:STANDARD
BEGIN:DAYLIGHT
TZOFFSETFROM:-0500
TZOFFSETTO:-0400
TZNAME:EDT
DTSTART:20200308T070000
END:DAYLIGHT
BEGIN:STANDARD
TZOFFSETFROM:-0400
TZOFFSETTO:-0500
TZNAME:EST
DTSTART:20201101T060000
END:STANDARD
END:VTIMEZONE
BEGIN:VEVENT
DTSTART;TZID=America/New_York:20190205T100000
DTEND;TZID=America/New_York:20190205T120000
DTSTAMP:20260421T020146
CREATED:20190120T183900Z
LAST-MODIFIED:20200127T181449Z
UID:2616-1549360800-1549368000@nycdh.org
SUMMARY:Hands-on with 360 Photo and Video Storytelling
DESCRIPTION:Tell stories and explore space from a first-person perspective in this workshop. See how to get started with 360-storytelling and try a 360 camera. We’ll watch a 360-video\, go over immersive production tools\, use the 360 camera and discuss how 360 can be applied to your work. \nRequirements: attendees should bring a smartphone. \n  \n 
URL:https://nycdh.org/dhweek/event/hands-on-with-360-photo-and-video-storytelling/
LOCATION:Newmark Graduate School of Journalism\, Room 444\, 219 W 40th St\, Fl 3\, New York\, NY\, 10018
CATEGORIES:360 photography,AR/VR,Beginner
ORGANIZER;CN="Matt MacVey":MAILTO:matthew.macvey@journalism.cuny.edu
END:VEVENT
BEGIN:VEVENT
DTSTART;TZID=America/New_York:20180209T130000
DTEND;TZID=America/New_York:20180209T150000
DTSTAMP:20260421T020146
CREATED:20180118T202502Z
LAST-MODIFIED:20180207T171557Z
UID:1601-1518181200-1518188400@nycdh.org
SUMMARY:Experimenting with Locative Media/ AR
DESCRIPTION:This workshop will cover ways of incorporating locative media (such as Augmented Reality [AR] apps and Geographic Information System [GIS] platforms) into teaching. The workshop will be partly hands-on\, demonstrating some easy-to-use AR and GIS tools\, and partly discursive\, illustrating collaborative student projects from Film and Media Studies courses to explore the pedagogical potential of these new locative media. \nLEVEL: Beginner\nNOTES: Laptop or smartphone
URL:https://nycdh.org/dhweek/event/experimenting-with-locative-media-ar/
LOCATION:Tisch School of the Arts: Cinema Studies Department\, Room 670\, 721 Broadway\, New York\, NY\, 10003\, United States
CATEGORIES:AR/VR,Beginner,GIS,Locative Media
ORGANIZER;CN="Marina Hassapopoulou":MAILTO:mh193@nyu.edu
GEO:40.7295255;-73.9938442
X-APPLE-STRUCTURED-LOCATION;VALUE=URI;X-ADDRESS=Tisch School of the Arts: Cinema Studies Department Room 670 721 Broadway New York NY 10003 United States;X-APPLE-RADIUS=500;X-TITLE=721 Broadway:geo:-73.9938442,40.7295255
END:VEVENT
BEGIN:VEVENT
DTSTART;TZID=America/New_York:20180206T130000
DTEND;TZID=America/New_York:20180206T150000
DTSTAMP:20260421T020146
CREATED:20180124T155925Z
LAST-MODIFIED:20180125T184226Z
UID:1809-1517922000-1517929200@nycdh.org
SUMMARY:ARIS: Augmented Reality Interactive Storytelling
DESCRIPTION:ARIS is an open source platform developed at the University of Wisconsin – Madison that allows you to create mobile games\, interactive stories\, scavenger hunts\, tours and data collection activities.  Come learn the basics of the program\,  get some ideas to start you off\, and learn more about integrating place-based\, active learning experiences in your classroom! \nARIS has two key parts. One part of the platform is the editor\, which allows you to build things (i.e.\, tours\, games and interactive stories). The other part is the iOS app that allows you to play things you and other people have created. The app can be downloaded for free from the app store. At the moment\, ARIS only runs on iOS devices (iPod\, iPad\, iPhone). We will have some iPads available during the workshop if you do not have access to an iOS device. \nPlease\, sign up in advance for an ARIS account\nAnd download the app \nSkill Level: Beginner\nRequirements: Computers available. Feel free to bring a laptop. \n  \n 
URL:https://nycdh.org/dhweek/event/aris-augmented-reality-interactive-storytelling/
LOCATION:Bard Graduate Center Digital Media Lab\, 38 West 86th St.\, 3rd Floor\, New York\, 10024\, United States
CATEGORIES:AR/VR,Beginner,Mapping
ORGANIZER;CN="Jesse Merandy":MAILTO:Jesse.merandy@bgc.bard.edu
GEO:40.786077;-73.9711883
X-APPLE-STRUCTURED-LOCATION;VALUE=URI;X-ADDRESS=Bard Graduate Center Digital Media Lab 38 West 86th St. 3rd Floor New York 10024 United States;X-APPLE-RADIUS=500;X-TITLE=38 West 86th St.\, 3rd Floor:geo:-73.9711883,40.786077
END:VEVENT
END:VCALENDAR