BEGIN:VCALENDAR
VERSION:2.0
PRODID:-//NYCDH Week - ECPv6.15.17//NONSGML v1.0//EN
CALSCALE:GREGORIAN
METHOD:PUBLISH
X-WR-CALNAME:NYCDH Week
X-ORIGINAL-URL:https://nycdh.org/dhweek
X-WR-CALDESC:Events for NYCDH Week
REFRESH-INTERVAL;VALUE=DURATION:PT1H
X-Robots-Tag:noindex
X-PUBLISHED-TTL:PT1H
BEGIN:VTIMEZONE
TZID:America/New_York
BEGIN:DAYLIGHT
TZOFFSETFROM:-0500
TZOFFSETTO:-0400
TZNAME:EDT
DTSTART:20210314T070000
END:DAYLIGHT
BEGIN:STANDARD
TZOFFSETFROM:-0400
TZOFFSETTO:-0500
TZNAME:EST
DTSTART:20211107T060000
END:STANDARD
BEGIN:DAYLIGHT
TZOFFSETFROM:-0500
TZOFFSETTO:-0400
TZNAME:EDT
DTSTART:20220313T070000
END:DAYLIGHT
BEGIN:STANDARD
TZOFFSETFROM:-0400
TZOFFSETTO:-0500
TZNAME:EST
DTSTART:20221106T060000
END:STANDARD
BEGIN:DAYLIGHT
TZOFFSETFROM:-0500
TZOFFSETTO:-0400
TZNAME:EDT
DTSTART:20230312T070000
END:DAYLIGHT
BEGIN:STANDARD
TZOFFSETFROM:-0400
TZOFFSETTO:-0500
TZNAME:EST
DTSTART:20231105T060000
END:STANDARD
END:VTIMEZONE
BEGIN:VEVENT
DTSTART;TZID=America/New_York:20220208T080000
DTEND;TZID=America/New_York:20220208T100000
DTSTAMP:20260421T034430
CREATED:20220125T204702Z
LAST-MODIFIED:20220203T140049Z
UID:6919-1644307200-1644314400@nycdh.org
SUMMARY:Containing DH: How to Use Docker to Run Just About Anything
DESCRIPTION:This session with be a demonstration of how to use Docker in Reclaim Cloud to run just about any application on the web. It will be interactive in that after the initial demonstration we will be taking requests from the audience to install those hard to run applications in order to model the process. Come to this session if you want to get your Digital Humanities project up and running without the need of an IT department.
URL:https://nycdh.org/dhweek/event/containing-dh-how-to-use-docker-to-run-just-about-anything/
LOCATION:Online\, New York\, NY\, United States
CATEGORIES:2022,Beginner,Cloud,Demonstration,Digital Humanities,Docker,Hosting,Support
END:VEVENT
END:VCALENDAR