BEGIN:VCALENDAR
VERSION:2.0
PRODID:-//NYCDH Week - ECPv6.15.17//NONSGML v1.0//EN
CALSCALE:GREGORIAN
METHOD:PUBLISH
X-ORIGINAL-URL:https://nycdh.org/dhweek
X-WR-CALDESC:Events for NYCDH Week
REFRESH-INTERVAL;VALUE=DURATION:PT1H
X-Robots-Tag:noindex
X-PUBLISHED-TTL:PT1H
BEGIN:VTIMEZONE
TZID:America/New_York
BEGIN:DAYLIGHT
TZOFFSETFROM:-0500
TZOFFSETTO:-0400
TZNAME:EDT
DTSTART:20150308T070000
END:DAYLIGHT
BEGIN:STANDARD
TZOFFSETFROM:-0400
TZOFFSETTO:-0500
TZNAME:EST
DTSTART:20151101T060000
END:STANDARD
BEGIN:DAYLIGHT
TZOFFSETFROM:-0500
TZOFFSETTO:-0400
TZNAME:EDT
DTSTART:20160313T070000
END:DAYLIGHT
BEGIN:STANDARD
TZOFFSETFROM:-0400
TZOFFSETTO:-0500
TZNAME:EST
DTSTART:20161106T060000
END:STANDARD
BEGIN:DAYLIGHT
TZOFFSETFROM:-0500
TZOFFSETTO:-0400
TZNAME:EDT
DTSTART:20170312T070000
END:DAYLIGHT
BEGIN:STANDARD
TZOFFSETFROM:-0400
TZOFFSETTO:-0500
TZNAME:EST
DTSTART:20171105T060000
END:STANDARD
BEGIN:DAYLIGHT
TZOFFSETFROM:-0500
TZOFFSETTO:-0400
TZNAME:EDT
DTSTART:20180311T070000
END:DAYLIGHT
BEGIN:STANDARD
TZOFFSETFROM:-0400
TZOFFSETTO:-0500
TZNAME:EST
DTSTART:20181104T060000
END:STANDARD
BEGIN:DAYLIGHT
TZOFFSETFROM:-0500
TZOFFSETTO:-0400
TZNAME:EDT
DTSTART:20190310T070000
END:DAYLIGHT
BEGIN:STANDARD
TZOFFSETFROM:-0400
TZOFFSETTO:-0500
TZNAME:EST
DTSTART:20191103T060000
END:STANDARD
BEGIN:DAYLIGHT
TZOFFSETFROM:-0500
TZOFFSETTO:-0400
TZNAME:EDT
DTSTART:20200308T070000
END:DAYLIGHT
BEGIN:STANDARD
TZOFFSETFROM:-0400
TZOFFSETTO:-0500
TZNAME:EST
DTSTART:20201101T060000
END:STANDARD
BEGIN:DAYLIGHT
TZOFFSETFROM:-0500
TZOFFSETTO:-0400
TZNAME:EDT
DTSTART:20210314T070000
END:DAYLIGHT
BEGIN:STANDARD
TZOFFSETFROM:-0400
TZOFFSETTO:-0500
TZNAME:EST
DTSTART:20211107T060000
END:STANDARD
BEGIN:DAYLIGHT
TZOFFSETFROM:-0500
TZOFFSETTO:-0400
TZNAME:EDT
DTSTART:20220313T070000
END:DAYLIGHT
BEGIN:STANDARD
TZOFFSETFROM:-0400
TZOFFSETTO:-0500
TZNAME:EST
DTSTART:20221106T060000
END:STANDARD
END:VTIMEZONE
BEGIN:VEVENT
DTSTART;TZID=America/New_York:20210211T100000
DTEND;TZID=America/New_York:20210211T110000
DTSTAMP:20260423T062229
CREATED:20210126T211510Z
LAST-MODIFIED:20210208T193916Z
UID:6074-1613037600-1613041200@nycdh.org
SUMMARY:Bringing Eileen Online: Reimagining Bard Graduate Center's Eileen Gray Exhibition during the Pandemic
DESCRIPTION:When Covid-19 hit New York City in March\, Bard Graduate Center was forced to close the Eileen Gray exhibition that had opened to the public just two weeks earlier. With no timeline for reopening and limited access to the gallery space\, the curatorial staff coordinated with the Director of DH/DX (Digital Humanities and Exhibitions) to devise a plan to bring the exhibition to life online. These efforts resulted in an interactive exhibition featured in the New York Times that reimagined the objects and research on display in the gallery and aimed at reaching a global audience during the pandemic.    \nEileen Gray Online Exhibition \nThis demo will explore the challenges involved in transferring the objects and spirit of a physical exhibition online. It will also reveal some of the tools BGC used to create interactive experiences for the project and outline the ways in which this endeavor provided a new path forward for future exhibitions at the institution. \nThis demo is hosted by:\nEmma Cormack: Associate Curator at Bard Graduate Center\nJesse Merandy: Director of Digital Humanities and Digital Exhibitions at Bard Graduate Center
URL:https://nycdh.org/dhweek/event/bringing-eileen-online-reimagining-bard-graduate-centers-eileen-gray-exhibition-during-the-pandemic/
LOCATION:Virtual\, NY\, United States
CATEGORIES:2021,Demonstration,Exhibits,homefeature
ORGANIZER;CN="Jesse Merandy":MAILTO:Jesse.merandy@bgc.bard.edu
END:VEVENT
BEGIN:VEVENT
DTSTART;TZID=America/New_York:20200206T170000
DTEND;TZID=America/New_York:20200206T200000
DTSTAMP:20260423T062229
CREATED:20200128T144413Z
LAST-MODIFIED:20200128T144709Z
UID:4528-1581008400-1581019200@nycdh.org
SUMMARY:Edition Launch: Secrets of Craft and Nature in Renaissance France by the Making and Knowing Project
DESCRIPTION:Join the Making and Knowing Project for the release of its digital critical edition of the sixteenth-century art and technical manuscript\, BnF Ms. Fr. 640. Five years in the making\, Secrets of Craft and Knowledge in Renaissance France: A Digital Critical Edition of BnF Ms. Fr. 640 resulted from collaborative pedagogy and research. The edition allows users to read and experience the manuscript’s firsthand accounts of trials with many materials and techniques of metalworking\, painting\, imitation gem production\, preservation of animals\, plants\, and much else. The text is augmented with multimedia essays\, researched through hands-on reconstruction of the manuscript’s recipes in the Making and Knowing Project Laboratory. \nPlease RSVP to attend\, and drop by as your schedule permits. Remarks and brief demonstrations of the Edition at 5:30 and 6:30 pm. Tours of the Making and Knowing Project Laboratory will take place at approximately 6:00 and 7:00 pm. \nRSVP
URL:https://nycdh.org/dhweek/event/edition-launch-secrets-of-craft-and-nature-in-renaissance-france-by-the-making-and-knowing-project/
LOCATION:Columbia University\, Fayerweather Hall\, Room 513\, 1180 Amsterdam Avenue\, New York\, NY\, 10027\, United States
CATEGORIES:Exhibits,Publishing
END:VEVENT
BEGIN:VEVENT
DTSTART;TZID=America/New_York:20200204T183000
DTEND;TZID=America/New_York:20200204T203000
DTSTAMP:20260423T062229
CREATED:20200123T171353Z
LAST-MODIFIED:20200127T180000Z
UID:4128-1580841000-1580848200@nycdh.org
SUMMARY:The Social Backend: Community-Driven Digital Archives and Exhibits
DESCRIPTION:Do you want to connect the public with digital archives? In this talk\, public historian and digital humanist Mary Rizzo will use her work on community-driven digital archives and exhibits to help you make those connections. Through case studies of exhibits on police reform and LGBTQ history\, she will discuss how to work with communities and bring students into these projects. \nMary Rizzo is Assistant Professor of History at Rutgers University-Newark. She is the author of the forthcoming book\, Come and Be Shocked: Baltimore Beyond John Waters and The Wire (Johns Hopkins University Press\, 2020). She tweets as Rizzo_pubhist. \nSponsored by the Graduate Center Digital Initiatives (GCDI) and the Digital Archive Research Collective (DARC). \n 
URL:https://nycdh.org/dhweek/event/the-social-backend-community-driven-digital-archives-and-exhibits/
LOCATION:CUNY Graduate Center\, Skylight Room\, 365 5th Ave\, New York\, NY\, 10016\, United States
CATEGORIES:Archive,Beginner,CMSs,Exhibits
ORGANIZER;CN="Mary Rizzo":MAILTO:gc.digitalfellows@gmail.com
END:VEVENT
BEGIN:VEVENT
DTSTART;TZID=America/New_York:20180208T153000
DTEND;TZID=America/New_York:20180208T173000
DTSTAMP:20260423T062229
CREATED:20180118T203157Z
LAST-MODIFIED:20180207T172029Z
UID:1610-1518103800-1518111000@nycdh.org
SUMMARY:Advanced Omeka
DESCRIPTION:Building on the Introduction to Omeka workshop\, this workshop will show you how to gain greater control of your Omeka installation. Participants will learn the difference between different deployments of Omeka\, how to manage your own hosted Omeka installation\, and how to use plugins\, themes\, HTML\, CSS\, and PHP to customize your collections and exhibitions. \nLEVEL: Intermediate/Familiarity with Omeka. Some familiarity with web file transfers\, web design\, and content management system administration is recommended.\nNOTES: Although not required\, attendees are encouraged to bring their own laptops with file transfer (i.e. Cyberduck\, Filezilla) and text editing software (i.e. TextEdit\, Notebook\, TextWrangler\, TextMate\, Bbedit) installed.
URL:https://nycdh.org/dhweek/event/advanced-omeka-3/
LOCATION:Bobst Library\, NYU\, Room 619\, 70 Washington Square S\, New York\, NY\, 10012\, United States
CATEGORIES:CMSs,Exhibits,Intermediate,Omeka
ORGANIZER;CN="Kimon Keramidas":MAILTO:kimon.keramidas@nyu.edu
GEO:40.7294345;-73.9972124
X-APPLE-STRUCTURED-LOCATION;VALUE=URI;X-ADDRESS=Bobst Library NYU Room 619 70 Washington Square S New York NY 10012 United States;X-APPLE-RADIUS=500;X-TITLE=70 Washington Square S:geo:-73.9972124,40.7294345
END:VEVENT
BEGIN:VEVENT
DTSTART;TZID=America/New_York:20180208T130000
DTEND;TZID=America/New_York:20180208T150000
DTSTAMP:20260423T062229
CREATED:20180118T202833Z
LAST-MODIFIED:20180207T172101Z
UID:1604-1518094800-1518102000@nycdh.org
SUMMARY:Introduction to Omeka
DESCRIPTION:Omeka is a free\, flexible\, and open source web-publishing platform for the display of library\, museum\, archives\, and scholarly collections and exhibitions. This workshop will explain the basics of why and when to use Omeka and include a walkthrough of how to use Omeka to manage online collections and create digital exhibitions. \nLEVEL: Beginner\nNOTES: Bringing a personal laptop is recommended
URL:https://nycdh.org/dhweek/event/introduction-to-omeka-3/
LOCATION:Bobst Library\, NYU\, Room 619\, 70 Washington Square S\, New York\, NY\, 10012\, United States
CATEGORIES:Beginner,Exhibits,Omeka
ORGANIZER;CN="Kimon Keramidas":MAILTO:kimon.keramidas@nyu.edu
GEO:40.7294345;-73.9972124
X-APPLE-STRUCTURED-LOCATION;VALUE=URI;X-ADDRESS=Bobst Library NYU Room 619 70 Washington Square S New York NY 10012 United States;X-APPLE-RADIUS=500;X-TITLE=70 Washington Square S:geo:-73.9972124,40.7294345
END:VEVENT
BEGIN:VEVENT
DTSTART;TZID=America/New_York:20160210T080000
DTEND;TZID=America/New_York:20160210T100000
DTSTAMP:20260423T062229
CREATED:20160121T014248Z
LAST-MODIFIED:20161122T221254Z
UID:153-1455091200-1455098400@nycdh.org
SUMMARY:Pinterest as Exhibition Gallery
DESCRIPTION:Pinterest offers a unique way to display and interrelate digital assets with a wider world of interconnected materials and activity. Learn how UK-based research group\, Architecture_MPS promotes its journal articles\, conferences and online resources by exposing it’s relationships with other research\, exhibitions\, and imagery. As part of our engagement with scholarly communication AMPS provides current listings supported by additional materials relevant to both academics and discipline information professionals. Since 2014\, we have used Pinterest for curating collections of images and articles on topics related to our published journal articles. The boards function as a resource guide or reference to current books\, films\, exhibits\, conferences\, lectures and competitions related to the AMPS remit. \nLocation: METRO\, 57 East 11th Street\, 4th Floor Training Room
URL:https://nycdh.org/dhweek/event/pinterest-as-exhibition-gallery/
LOCATION:METRO\, 599 11th Avenue\, 8th floor\, New York\, NY\, 10036\, United States
CATEGORIES:Beginner,Exhibits
ORGANIZER;CN="Noreen Whysel":MAILTO:Nwhysel@gmail.com
GEO:40.573477;-74.1187026
X-APPLE-STRUCTURED-LOCATION;VALUE=URI;X-ADDRESS=METRO 599 11th Avenue 8th floor New York NY 10036 United States;X-APPLE-RADIUS=500;X-TITLE=599 11th Avenue\, 8th floor:geo:-74.1187026,40.573477
END:VEVENT
END:VCALENDAR