BEGIN:VCALENDAR
VERSION:2.0
PRODID:-//NYCDH Week - ECPv6.15.17//NONSGML v1.0//EN
CALSCALE:GREGORIAN
METHOD:PUBLISH
X-WR-CALNAME:NYCDH Week
X-ORIGINAL-URL:https://nycdh.org/dhweek
X-WR-CALDESC:Events for NYCDH Week
REFRESH-INTERVAL;VALUE=DURATION:PT1H
X-Robots-Tag:noindex
X-PUBLISHED-TTL:PT1H
BEGIN:VTIMEZONE
TZID:America/New_York
BEGIN:DAYLIGHT
TZOFFSETFROM:-0500
TZOFFSETTO:-0400
TZNAME:EDT
DTSTART:20150308T070000
END:DAYLIGHT
BEGIN:STANDARD
TZOFFSETFROM:-0400
TZOFFSETTO:-0500
TZNAME:EST
DTSTART:20151101T060000
END:STANDARD
BEGIN:DAYLIGHT
TZOFFSETFROM:-0500
TZOFFSETTO:-0400
TZNAME:EDT
DTSTART:20160313T070000
END:DAYLIGHT
BEGIN:STANDARD
TZOFFSETFROM:-0400
TZOFFSETTO:-0500
TZNAME:EST
DTSTART:20161106T060000
END:STANDARD
BEGIN:DAYLIGHT
TZOFFSETFROM:-0500
TZOFFSETTO:-0400
TZNAME:EDT
DTSTART:20170312T070000
END:DAYLIGHT
BEGIN:STANDARD
TZOFFSETFROM:-0400
TZOFFSETTO:-0500
TZNAME:EST
DTSTART:20171105T060000
END:STANDARD
BEGIN:DAYLIGHT
TZOFFSETFROM:-0500
TZOFFSETTO:-0400
TZNAME:EDT
DTSTART:20180311T070000
END:DAYLIGHT
BEGIN:STANDARD
TZOFFSETFROM:-0400
TZOFFSETTO:-0500
TZNAME:EST
DTSTART:20181104T060000
END:STANDARD
BEGIN:DAYLIGHT
TZOFFSETFROM:-0500
TZOFFSETTO:-0400
TZNAME:EDT
DTSTART:20190310T070000
END:DAYLIGHT
BEGIN:STANDARD
TZOFFSETFROM:-0400
TZOFFSETTO:-0500
TZNAME:EST
DTSTART:20191103T060000
END:STANDARD
END:VTIMEZONE
BEGIN:VEVENT
DTSTART;TZID=America/New_York:20180208T130000
DTEND;TZID=America/New_York:20180208T140000
DTSTAMP:20260423T083211
CREATED:20180122T193104Z
LAST-MODIFIED:20180207T172054Z
UID:1694-1518094800-1518098400@nycdh.org
SUMMARY:Life of a Gothic Cathedral: An Interactive Experience
DESCRIPTION:Our new website\, Life of a Gothic Cathedral: Notre-Dame of Amiens 1220-1530 is intended to change the way we understand and teach the cathedral: it was designed especially for use in the Core Curriculum. This session will be a demonstration of how the website allows you to experience Amiens Cathedral not just as a thing of the distant past\, but existing in our own time and space. There will also be a discussion of the process of building the interactive experience and its pedagogical uses. \nThe three-hundred year “life” of the Gothic cathedral embraced the agency of three overlapping worlds of makers and users: the layfolk who visit it\, the clergy in their sumptuous choir and the artisans who built it. The website will allow you to enter into each of these three worlds. You can do this by clicking on the three major buttons at the top of the home page or by reading the EText which is linked with the high-resolution images and panoramas. \nLEVEL: Beginner
URL:https://nycdh.org/dhweek/event/life-of-a-gothic-cathedral-an-interactive-experience/
LOCATION:Studio@Butler\, 535 W. 114th St.\, New York\, NY\, 10027\, United States
CATEGORIES:Art History,Beginner,Interactive Design
ORGANIZER;CN="Stephen Murray":MAILTO:sm42@columbia.edu
GEO:40.8064029;-73.9632198
X-APPLE-STRUCTURED-LOCATION;VALUE=URI;X-ADDRESS=Studio@Butler 535 W. 114th St. New York NY 10027 United States;X-APPLE-RADIUS=500;X-TITLE=535 W. 114th St.:geo:-73.9632198,40.8064029
END:VEVENT
BEGIN:VEVENT
DTSTART;TZID=America/New_York:20170207T133000
DTEND;TZID=America/New_York:20170207T153000
DTSTAMP:20260423T083211
CREATED:20170128T015057Z
LAST-MODIFIED:20170128T024249Z
UID:1001-1486474200-1486481400@nycdh.org
SUMMARY:Strategies for Interactive and Immersive Dance
DESCRIPTION:We will discuss strategies for creating experiences and performances that cross the domains of software\, sound\, and dance while respecting each medium’s idiosyncratic strengths. D. Schmüdde will provide a brief overview of the hardware\, software\, and original code he wrote to track bodies and manipulate sound in “Borderless.” Co-creator Kim Burgas will discuss the process of developing a physical language for video and highlight how the subject matter affected the medium and how the medium affected the subject. After establishing this context\, the group will workshop themes and initiatives brought by each member. This may include specific projects or general research interests. We’ll discuss tools and techniques\, implementing by direct experimentation wherever possible. \nSkill Level\nBeginner \nPrerequisites\nNone \nEquipment & Software requirements\nNone
URL:https://nycdh.org/dhweek/event/strategies-for-interactive-and-immersive-dance/
LOCATION:Kitchen Table Coders\, 274 Morgan\, Brooklyn\, NY\, 11211\, United States
CATEGORIES:Beginner,Interactive Design,Performance
ORGANIZER;CN="D. Schm%C3%BCdde":MAILTO:d@schmud.de
GEO:40.7139481;-73.9348124
X-APPLE-STRUCTURED-LOCATION;VALUE=URI;X-ADDRESS=Kitchen Table Coders 274 Morgan Brooklyn NY 11211 United States;X-APPLE-RADIUS=500;X-TITLE=274 Morgan:geo:-73.9348124,40.7139481
END:VEVENT
BEGIN:VEVENT
DTSTART;TZID=America/New_York:20160212T050000
DTEND;TZID=America/New_York:20160212T071500
DTSTAMP:20260423T083211
CREATED:20151208T212537Z
LAST-MODIFIED:20161122T220703Z
UID:61-1455253200-1455261300@nycdh.org
SUMMARY:Gallery Interactive Design: Prototype to Product
DESCRIPTION:This workshop will examine the process of creating digital interactives for the Bard Graduate Center’s Focus Gallery\, an academic gallery located on 86th Street and Central Park West. We will be discussing methods used to bring digital projects from idea to installation with a focus on the thoughtful and effective integration of pedagogical practice into digital production. The workshop will look at several previous examples of gallery interactives and will conclude with a visit to the gallery to view the exhibitions currently on display: Swedish Wooden Toys and Revisions. Reception to follow (12:15PM-1:00PM). \n 
URL:https://nycdh.org/dhweek/event/gallery-interactive-design-prototype-to-product/
LOCATION:Bard Graduate Center Digital Media Lab\, 38 West 86th St.\, 3rd Floor\, New York\, 10024\, United States
CATEGORIES:Interactive Design
ORGANIZER;CN="Jesse Merandy":MAILTO:Jesse.merandy@bgc.bard.edu
GEO:40.786077;-73.9711883
X-APPLE-STRUCTURED-LOCATION;VALUE=URI;X-ADDRESS=Bard Graduate Center Digital Media Lab 38 West 86th St. 3rd Floor New York 10024 United States;X-APPLE-RADIUS=500;X-TITLE=38 West 86th St.\, 3rd Floor:geo:-73.9711883,40.786077
END:VEVENT
BEGIN:VEVENT
DTSTART;TZID=America/New_York:20160211T050000
DTEND;TZID=America/New_York:20160211T070000
DTSTAMP:20260423T083211
CREATED:20151208T213511Z
LAST-MODIFIED:20161122T220851Z
UID:73-1455166800-1455174000@nycdh.org
SUMMARY:User Experience for Digital Humanists: A Primer
DESCRIPTION:In today’s technology-driven world\, digital projects are not judged by how fast or attractive they are but rather by their ability to consistently offer memorable and engaging experiences for users. In this workshop\, attendees will learn the key concepts and methods of User Experience (UX) and how a combination of design thinking and experience-centered strategy can help researchers and practitioners create digital tools that consistently engage users on both cognitive and emotional levels.
URL:https://nycdh.org/dhweek/event/user-experience-for-digital-humanists-a-primer/
LOCATION:School of Information\, Pratt Institute\, Room 609\, Pratt Institute\, School of Information\, 144 W 14th Street\, New York\, NY 10011\, Room 609
CATEGORIES:Digital Humanities,Interactive Design
ORGANIZER;CN="Craig MacDonald":MAILTO:cmacdona@pratt.edu
END:VEVENT
END:VCALENDAR