BEGIN:VCALENDAR
VERSION:2.0
PRODID:-//NYCDH Week - ECPv6.15.17//NONSGML v1.0//EN
CALSCALE:GREGORIAN
METHOD:PUBLISH
X-WR-CALNAME:NYCDH Week
X-ORIGINAL-URL:https://nycdh.org/dhweek
X-WR-CALDESC:Events for NYCDH Week
REFRESH-INTERVAL;VALUE=DURATION:PT1H
X-Robots-Tag:noindex
X-PUBLISHED-TTL:PT1H
BEGIN:VTIMEZONE
TZID:America/New_York
BEGIN:DAYLIGHT
TZOFFSETFROM:-0500
TZOFFSETTO:-0400
TZNAME:EDT
DTSTART:20190310T070000
END:DAYLIGHT
BEGIN:STANDARD
TZOFFSETFROM:-0400
TZOFFSETTO:-0500
TZNAME:EST
DTSTART:20191103T060000
END:STANDARD
BEGIN:DAYLIGHT
TZOFFSETFROM:-0500
TZOFFSETTO:-0400
TZNAME:EDT
DTSTART:20200308T070000
END:DAYLIGHT
BEGIN:STANDARD
TZOFFSETFROM:-0400
TZOFFSETTO:-0500
TZNAME:EST
DTSTART:20201101T060000
END:STANDARD
BEGIN:DAYLIGHT
TZOFFSETFROM:-0500
TZOFFSETTO:-0400
TZNAME:EDT
DTSTART:20210314T070000
END:DAYLIGHT
BEGIN:STANDARD
TZOFFSETFROM:-0400
TZOFFSETTO:-0500
TZNAME:EST
DTSTART:20211107T060000
END:STANDARD
BEGIN:DAYLIGHT
TZOFFSETFROM:-0500
TZOFFSETTO:-0400
TZNAME:EDT
DTSTART:20220313T070000
END:DAYLIGHT
BEGIN:STANDARD
TZOFFSETFROM:-0400
TZOFFSETTO:-0500
TZNAME:EST
DTSTART:20221106T060000
END:STANDARD
BEGIN:DAYLIGHT
TZOFFSETFROM:-0500
TZOFFSETTO:-0400
TZNAME:EDT
DTSTART:20230312T070000
END:DAYLIGHT
BEGIN:STANDARD
TZOFFSETFROM:-0400
TZOFFSETTO:-0500
TZNAME:EST
DTSTART:20231105T060000
END:STANDARD
END:VTIMEZONE
BEGIN:VEVENT
DTSTART;TZID=America/New_York:20220208T150000
DTEND;TZID=America/New_York:20220208T170000
DTSTAMP:20260420T214956
CREATED:20220125T210949Z
LAST-MODIFIED:20220126T014148Z
UID:6964-1644332400-1644339600@nycdh.org
SUMMARY:Introduction to Manifold\, an Open Source Publishing Platform
DESCRIPTION:Please join us for a workshop on Manifold\, a Mellon-funded digital publishing platform developed by the CUNY Graduate Center\, The University of Minnesota Press\, and Cast Iron Coding. Learn how you can use Manifold to create beautiful\, dynamic projects that can include text\, images\, audio\, video\, and social annotation. We will provide an overview of Manifold and show you how to use it to publish scholarly works\, host community discussion and/or peer review through annotations and reading groups\, and create custom versions of public domain course texts and Open Educational Resources (OER). The workshop will include a hands-on demonstration of how to publish your first text—either something you have written or a public domain/openly licensed text. We will also cover how to customize your project’s structure\, look\, and feel\, and how you can participate in conversations in the margins of your texts using Manifold’s social annotation features.
URL:https://nycdh.org/dhweek/event/introduction-to-manifold-an-open-source-publishing-platform/
LOCATION:Online\, New York\, NY\, United States
CATEGORIES:2022,Digital Humanities,Open Access,Pedagogy,Web Publishing,Workshop
ORGANIZER;CN="Robin Miller":MAILTO:rmiller2@gc.cuny.edu
END:VEVENT
BEGIN:VEVENT
DTSTART;TZID=America/New_York:20210210T130000
DTEND;TZID=America/New_York:20210210T150000
DTSTAMP:20260420T214956
CREATED:20210119T172612Z
LAST-MODIFIED:20210208T194428Z
UID:5397-1612962000-1612969200@nycdh.org
SUMMARY:Introduction to Open Digital Scholarship in the Humanities
DESCRIPTION:Open access\, open science\, open knowledge\, open data … what does all of this openness mean\, and what does it mean for those working in or alongside the humanities in particular? This offering will explore the role of open knowledge dissemination in the humanities\, academia\, and at large. We will focus on the history\, evolution\, forms\, and impact of open digital scholarship within the domain of scholarly communication. Our time together will be content- and discussion-driven\, but we’ll also engage with an open publishing tool or two. This workshop is geared toward students\, librarians\, scholars\, publishers\, government representatives\, and others who are invested in the open development and sharing of research output.
URL:https://nycdh.org/dhweek/event/introduction-to-open-digital-scholarship-in-the-humanities/
LOCATION:Virtual\, NY\, United States
CATEGORIES:2021,OER,Open Access,Pedagogy,Public Humanities,WIDH2021
ORGANIZER;CN="Alyssa Arbuckle":MAILTO:alyssaa@uvic.ca
END:VEVENT
BEGIN:VEVENT
DTSTART;TZID=America/New_York:20200206T180000
DTEND;TZID=America/New_York:20200206T200000
DTSTAMP:20260420T214956
CREATED:20200121T165418Z
LAST-MODIFIED:20200121T193523Z
UID:4085-1581012000-1581019200@nycdh.org
SUMMARY:Publishing with Manifold
DESCRIPTION:Manifold Scholarship invites teachers and scholars to learn how to publish materials on Manifold\, a digital platform for scholarly publishing. Participants will learn how to turn a Google Doc into a polished publication or create a mobile-friendly version of a public domain text. Manifold Graduate Fellow Jojo Karlin will lead a quick introduction to putting projects onto the free\, open-source CUNY Manifold platform. Participants will then create projects of their own that they and their students can collaboratively annotate. \nEquipment Requirements: Personal Laptop if possible
URL:https://nycdh.org/dhweek/event/publishing-with-manifold/
LOCATION:CUNY Graduate Center\, Room 5307\, 365 Fifth Avenue\, New York\, NY\, 10016
CATEGORIES:Beginner,Open Access,Open Source,Publishing
ORGANIZER;CN="Jojo Karlin":MAILTO:jojo.karlin@gmail.com
END:VEVENT
BEGIN:VEVENT
DTSTART;TZID=America/New_York:20200206T150000
DTEND;TZID=America/New_York:20200206T170000
DTSTAMP:20260420T214956
CREATED:20200123T174918Z
LAST-MODIFIED:20200127T145854Z
UID:4125-1581001200-1581008400@nycdh.org
SUMMARY:Humanitarian Map-a-thon: DH for Disaster Relief
DESCRIPTION:This session will focus on the use of digital tools for social justice and humanitarian disaster relief work. Utilizing digital mapping\, you will join the Humanitarian OpenStreetMapping Team to learn basic GIS skills. Attendees will get familiar with iD editor\, and JSOM using OpenStreetMaps for this and many other projects. We will discuss the need for volunteers in this work\, the importance of conversations on social justice in the use of digital tools\, as well as how to incorporate a map-a-thon into your courses!\n \nEquipment: attendees should bring a laptop that can hold an internet connection \n 
URL:https://nycdh.org/dhweek/event/humanitarian-map-a-thon-dh-for-disaster-relief/
LOCATION:Pace University\, Babble Lab\, Rm. 202\, 41 Park Row\, New York\, NY\, 10038\, United States
CATEGORIES:Beginner,GIS,Mapping,Open Access
ORGANIZER;CN="Adrianna Martinez":MAILTO:amarti48@nyit.edu
END:VEVENT
END:VCALENDAR