BEGIN:VCALENDAR
VERSION:2.0
PRODID:-//NYCDH Week - ECPv6.15.17//NONSGML v1.0//EN
CALSCALE:GREGORIAN
METHOD:PUBLISH
X-WR-CALNAME:NYCDH Week
X-ORIGINAL-URL:https://nycdh.org/dhweek
X-WR-CALDESC:Events for NYCDH Week
REFRESH-INTERVAL;VALUE=DURATION:PT1H
X-Robots-Tag:noindex
X-PUBLISHED-TTL:PT1H
BEGIN:VTIMEZONE
TZID:America/New_York
BEGIN:DAYLIGHT
TZOFFSETFROM:-0500
TZOFFSETTO:-0400
TZNAME:EDT
DTSTART:20170312T070000
END:DAYLIGHT
BEGIN:STANDARD
TZOFFSETFROM:-0400
TZOFFSETTO:-0500
TZNAME:EST
DTSTART:20171105T060000
END:STANDARD
BEGIN:DAYLIGHT
TZOFFSETFROM:-0500
TZOFFSETTO:-0400
TZNAME:EDT
DTSTART:20180311T070000
END:DAYLIGHT
BEGIN:STANDARD
TZOFFSETFROM:-0400
TZOFFSETTO:-0500
TZNAME:EST
DTSTART:20181104T060000
END:STANDARD
BEGIN:DAYLIGHT
TZOFFSETFROM:-0500
TZOFFSETTO:-0400
TZNAME:EDT
DTSTART:20190310T070000
END:DAYLIGHT
BEGIN:STANDARD
TZOFFSETFROM:-0400
TZOFFSETTO:-0500
TZNAME:EST
DTSTART:20191103T060000
END:STANDARD
END:VTIMEZONE
BEGIN:VEVENT
DTSTART;TZID=America/New_York:20180208T183000
DTEND;TZID=America/New_York:20180208T203000
DTSTAMP:20260423T062117
CREATED:20180118T205949Z
LAST-MODIFIED:20180207T172022Z
UID:1642-1518114600-1518121800@nycdh.org
SUMMARY:Programming with R
DESCRIPTION:R has become an indispensable tool for academics in a range of disciplines for analyzing data. Many users come to it though with limited programming experience which can often lead to many more headaches than anyone should reasonably suffer. This workshop attempts to make R a bit less painful. Fortunately the past few years have seen a flowering of open source packages that have tried to do just that. We will learn about some of these packages and how they can be incorporated into our projects. Though this workshop does not require you already know R\, it makes more sense for those who have already begun using it or are considering using it for a future project. \nLEVEL: Intermediate\nNOTES: Can bring own laptop or borrow one at workshop
URL:https://nycdh.org/dhweek/event/programming-with-r/
LOCATION:CUNY Graduate Center\, Room C201\, 365 Fifth Avenue\, New York\, NY\, 10016\, United States
CATEGORIES:Intermediate,R
ORGANIZER;CN="Tahir Butt":MAILTO:gc.digitalfellows@gmail.com
GEO:40.7486485;-73.984007
X-APPLE-STRUCTURED-LOCATION;VALUE=URI;X-ADDRESS=CUNY Graduate Center Room C201 365 Fifth Avenue New York NY 10016 United States;X-APPLE-RADIUS=500;X-TITLE=365 Fifth Avenue:geo:-73.984007,40.7486485
END:VEVENT
BEGIN:VEVENT
DTSTART;TZID=America/New_York:20180207T100000
DTEND;TZID=America/New_York:20180207T120000
DTSTAMP:20260423T062117
CREATED:20180122T194248Z
LAST-MODIFIED:20180123T184557Z
UID:1695-1517997600-1518004800@nycdh.org
SUMMARY:Thinking Through Word Embeddings
DESCRIPTION:Word embeddings are a family of algorithms that can be remarkably effective at representing the meanings of words\, and their relationships to each other. We’ll cover the basics of word embeddings: what they do\, how to train a model using word2vec\, and how to use them to search for synonyms and analogies. And we’ll look at issues more specific to the humanities and social sciences\, including how to compare models trained on different sets of texts to each other\, when to use word2vec vs topic models\, and strategies for visualizing models. Finally\, we’ll talk about the social biases embodied in the space of language models\, both as a technical problem with solutions and as an opportunity for algorithmic criticism. \nHands-on analysis and visualization will be done editing pre-written scripts in the R statistical environment; no prior programming experience is necessary. We’ll distribute several pre-trained models at the workshop\, but you can try to train one on your own texts ahead of time as well. \nLEVEL: Beginner\nNOTES: Laptop with R and Rstudio programs installed required. Instructions available.
URL:https://nycdh.org/dhweek/event/thinking-through-word-embeddings/
LOCATION:Babble Lab @ Pace University\, Room 1105\, 163 William St.\, New York\, NY\, 10038\, United States
CATEGORIES:Beginner,R,Statistics,Text Analysis,Visualization
ORGANIZER;CN="Ben Schmidt":MAILTO:bmschmidt@gmail.com
GEO:40.710219;-74.00619
X-APPLE-STRUCTURED-LOCATION;VALUE=URI;X-ADDRESS=Babble Lab @ Pace University Room 1105 163 William St. New York NY 10038 United States;X-APPLE-RADIUS=500;X-TITLE=163 William St.:geo:-74.00619,40.710219
END:VEVENT
BEGIN:VEVENT
DTSTART;TZID=America/New_York:20180206T180000
DTEND;TZID=America/New_York:20180206T200000
DTSTAMP:20260423T062117
CREATED:20180118T194721Z
LAST-MODIFIED:20180125T183811Z
UID:1578-1517940000-1517947200@nycdh.org
SUMMARY:Introduction to R and Emacs
DESCRIPTION:Almost everyone is going to have to load data and make graphs. You want to do this in a stat system that is free and open source. Also\, it is a waste of time to reinvent the wheel every time you change languages. We will use simple crime and poverty data but generate a wide variety of plots including maps. \nLEVEL: Intermediate\nNOTES: Personal laptop in which software can be downloaded (Chromebooks are discouraged)
URL:https://nycdh.org/dhweek/event/intro-to-r-and-emacs/
LOCATION:John Jay College\, 6th Floor\, Math Conference Room\, 524 West 59th. Street\, New York\, NY\, 10019\, United States
CATEGORIES:Intermediate,Mapping,R,Statistics
ORGANIZER;CN="Evan Misshula":MAILTO:EvanMisshula@gmail.com
GEO:40.7707237;-73.9892342
X-APPLE-STRUCTURED-LOCATION;VALUE=URI;X-ADDRESS=John Jay College 6th Floor Math Conference Room 524 West 59th. Street New York NY 10019 United States;X-APPLE-RADIUS=500;X-TITLE=524 West 59th. Street:geo:-73.9892342,40.7707237
END:VEVENT
END:VCALENDAR