BEGIN:VCALENDAR
VERSION:2.0
PRODID:-//NYCDH Week - ECPv6.15.17//NONSGML v1.0//EN
CALSCALE:GREGORIAN
METHOD:PUBLISH
X-ORIGINAL-URL:https://nycdh.org/dhweek
X-WR-CALDESC:Events for NYCDH Week
REFRESH-INTERVAL;VALUE=DURATION:PT1H
X-Robots-Tag:noindex
X-PUBLISHED-TTL:PT1H
BEGIN:VTIMEZONE
TZID:America/New_York
BEGIN:DAYLIGHT
TZOFFSETFROM:-0500
TZOFFSETTO:-0400
TZNAME:EDT
DTSTART:20160313T070000
END:DAYLIGHT
BEGIN:STANDARD
TZOFFSETFROM:-0400
TZOFFSETTO:-0500
TZNAME:EST
DTSTART:20161106T060000
END:STANDARD
BEGIN:DAYLIGHT
TZOFFSETFROM:-0500
TZOFFSETTO:-0400
TZNAME:EDT
DTSTART:20170312T070000
END:DAYLIGHT
BEGIN:STANDARD
TZOFFSETFROM:-0400
TZOFFSETTO:-0500
TZNAME:EST
DTSTART:20171105T060000
END:STANDARD
BEGIN:DAYLIGHT
TZOFFSETFROM:-0500
TZOFFSETTO:-0400
TZNAME:EDT
DTSTART:20180311T070000
END:DAYLIGHT
BEGIN:STANDARD
TZOFFSETFROM:-0400
TZOFFSETTO:-0500
TZNAME:EST
DTSTART:20181104T060000
END:STANDARD
BEGIN:DAYLIGHT
TZOFFSETFROM:-0500
TZOFFSETTO:-0400
TZNAME:EDT
DTSTART:20190310T070000
END:DAYLIGHT
BEGIN:STANDARD
TZOFFSETFROM:-0400
TZOFFSETTO:-0500
TZNAME:EST
DTSTART:20191103T060000
END:STANDARD
BEGIN:DAYLIGHT
TZOFFSETFROM:-0500
TZOFFSETTO:-0400
TZNAME:EDT
DTSTART:20200308T070000
END:DAYLIGHT
BEGIN:STANDARD
TZOFFSETFROM:-0400
TZOFFSETTO:-0500
TZNAME:EST
DTSTART:20201101T060000
END:STANDARD
BEGIN:DAYLIGHT
TZOFFSETFROM:-0500
TZOFFSETTO:-0400
TZNAME:EDT
DTSTART:20210314T070000
END:DAYLIGHT
BEGIN:STANDARD
TZOFFSETFROM:-0400
TZOFFSETTO:-0500
TZNAME:EST
DTSTART:20211107T060000
END:STANDARD
END:VTIMEZONE
BEGIN:VEVENT
DTSTART;TZID=America/New_York:20200205T150000
DTEND;TZID=America/New_York:20200205T170000
DTSTAMP:20260423T081900
CREATED:20200122T155253Z
LAST-MODIFIED:20200127T160756Z
UID:4116-1580914800-1580922000@nycdh.org
SUMMARY:Digital Tools for Teaching Undergraduate Research: A GIS History of NYC Theatre
DESCRIPTION:In this session we will share the design and implementation of a digital mapping project used in an undergraduate class in theater history. The independent research project utilizes ESRI Story Maps software–a free online GIS software for everyday users. As part of an interdisciplinary course on theater and architecture\, students conduct research on historical sites around the city and enter the data into spreadsheets. The data and images on urban performance are projected onto a digital map of New York City\, and then narrativized into cohesive geographical and temporal units. Since the information is vast\, the project will continue to evolve as the archive grows\, and new maps can be designed to focus on specific historical phenomena in performance culture and urban architecture. Click for a preview of the Story Map: Architectural History of NYC Theatre. \nThe demonstration will include a brief overview of georeferencing\, data and image collection and attribution\, basic functionality of ESRI Story Maps\, and a description of classroom assignments for teaching and research in digital mapping. \n 
URL:https://nycdh.org/dhweek/event/gis-history-of-theater-in-nyc/
LOCATION:Columbia (Butler Library room 208B)\, 535 West 114th St\, New York\, NY\, 10027\, United States
CATEGORIES:Theatre
ORGANIZER;CN="Christopher Swift":MAILTO:cswift@citytech.cuny.edu
END:VEVENT
BEGIN:VEVENT
DTSTART;TZID=America/New_York:20170207T133000
DTEND;TZID=America/New_York:20170207T153000
DTSTAMP:20260423T081900
CREATED:20170112T015907Z
LAST-MODIFIED:20170128T015417Z
UID:485-1486474200-1486481400@nycdh.org
SUMMARY:Preserving Performance
DESCRIPTION:After a show closes\, how you handle and store materials can mean the difference between preserving theatre legacy and irreversible damage and loss. This workshop introduces artists to the process of archiving their work\, with tips on selection\, storage and preservation. The American Theatre Archive Project (ATAP) is a collaboration of archivists\, dramaturgs\, and academics who support theatre makers in archiving records of their work for the benefit of future generations of artists\, scholars\, patrons\, and the public. \nSkill Level\nBeginner \nPrerequisites\nNone \nEquipment Requirements\nNone
URL:https://nycdh.org/dhweek/event/preserving-performance/
LOCATION:American Jewish Historical Society at the Center For Jewish History\, 5th Floor Conference Room\, 15 W 16th St\, 5th Floor Conference Room\, New York\, NY\, 10011\, United States
CATEGORIES:Archive,Beginner,Performance,Theatre
ORGANIZER;CN="Noreen Whysel":MAILTO:Nwhysel@gmail.com
GEO:40.7380406;-73.9937524
X-APPLE-STRUCTURED-LOCATION;VALUE=URI;X-ADDRESS=American Jewish Historical Society at the Center For Jewish History 5th Floor Conference Room 15 W 16th St 5th Floor Conference Room New York NY 10011 United States;X-APPLE-RADIUS=500;X-TITLE=15 W 16th St\, 5th Floor Conference Room:geo:-73.9937524,40.7380406
END:VEVENT
END:VCALENDAR