BEGIN:VCALENDAR
VERSION:2.0
PRODID:-//NYCDH Week - ECPv6.15.17//NONSGML v1.0//EN
CALSCALE:GREGORIAN
METHOD:PUBLISH
X-ORIGINAL-URL:https://nycdh.org/dhweek
X-WR-CALDESC:Events for NYCDH Week
REFRESH-INTERVAL;VALUE=DURATION:PT1H
X-Robots-Tag:noindex
X-PUBLISHED-TTL:PT1H
BEGIN:VTIMEZONE
TZID:America/New_York
BEGIN:DAYLIGHT
TZOFFSETFROM:-0500
TZOFFSETTO:-0400
TZNAME:EDT
DTSTART:20210314T070000
END:DAYLIGHT
BEGIN:STANDARD
TZOFFSETFROM:-0400
TZOFFSETTO:-0500
TZNAME:EST
DTSTART:20211107T060000
END:STANDARD
BEGIN:DAYLIGHT
TZOFFSETFROM:-0500
TZOFFSETTO:-0400
TZNAME:EDT
DTSTART:20220313T070000
END:DAYLIGHT
BEGIN:STANDARD
TZOFFSETFROM:-0400
TZOFFSETTO:-0500
TZNAME:EST
DTSTART:20221106T060000
END:STANDARD
BEGIN:DAYLIGHT
TZOFFSETFROM:-0500
TZOFFSETTO:-0400
TZNAME:EDT
DTSTART:20230312T070000
END:DAYLIGHT
BEGIN:STANDARD
TZOFFSETFROM:-0400
TZOFFSETTO:-0500
TZNAME:EST
DTSTART:20231105T060000
END:STANDARD
END:VTIMEZONE
BEGIN:VEVENT
DTSTART;TZID=America/New_York:20220211T090000
DTEND;TZID=America/New_York:20220211T110000
DTSTAMP:20260422T142120
CREATED:20220127T184148Z
LAST-MODIFIED:20220131T211922Z
UID:7077-1644570000-1644577200@nycdh.org
SUMMARY:Interrogating the Archive and Digital Humanities through Latina Feminism
DESCRIPTION:This discussion focuses on the use of underrepresented archives to reconfigure how we understand the past in the aftermath of pivotal change and imagine a more inclusive future. The US Latino Digital Humanities program (USLDH) at the University of Houston draws from the rich archival collections at Recovering the US Hispanic Literary Heritage (Recovery) in order to make visible the legacy of Latinxs in the United States. \nWe will discuss multiethnic archives\, the attention to ethical choices when dealing with underrepresented materials\, and the critical interventions that can take place at pedagogical and research levels to impact future change. The use of archival materials in research has the potential to create a more inclusive understanding of public history. Specifically\, we will discuss how applying digital tools to underrepresented archives can amplify the complex voices of multiethnic histories. Furthermore\, the panelists will describe a Latina feminist praxis that requires community work to preserve and raise awareness of history. \nWe will invite the audience to interrogate the ways they incorporate primary materials in their research and classrooms\, and the ways these activities should/can engage the communities that are the subject of their research.
URL:https://nycdh.org/dhweek/event/interrogating-the-archive-and-digital-humanities-through-latina-feminism/
LOCATION:Online\, New York\, NY\, United States
CATEGORIES:2022,All Levels,Archive,Pedagogy,Public Humanities
ORGANIZER;CN="Lorena Gauthereau":MAILTO:lgauthereau@uh.edu
END:VEVENT
BEGIN:VEVENT
DTSTART;TZID=America/New_York:20220211T100000
DTEND;TZID=America/New_York:20220211T120000
DTSTAMP:20260422T142120
CREATED:20220125T210131Z
LAST-MODIFIED:20220210T143856Z
UID:6942-1644573600-1644580800@nycdh.org
SUMMARY:Musical Collaborations: Discussion & Knowledge Sharing
DESCRIPTION:The pandemic did not keep live music from happening\, but it did change the way musicians played and recorded music with others and by ourselves. In this discussion\, we’ll share our experiences from the past couple of years of making music\, recording it\, and attempts at playing live together while apart. What strategies did you use? What worked and what didn’t? How are tools like Garageband\, LogicPro\, SoundCloud\, Soundtrap\, Jamtaba\, Zoom and similar apps making a positive impact on learning\, growing\, and supporting ourselves and our musical communities\, online and in person? Where do these tools and virtual collaborations fall short and what can we do about it? \nActive musicians\, whether pro or amateur\, and people who simply love to listen to music are invited to join this conversation to exchange ideas\, strategies\, and support. \nElizabeth Cornell supports initiatives for digital scholarship at Fordham University and serves as the director of communications for Fordham IT. She is a collaborating editor for the Digital Yoknapatawpha Project at the University of Virginia\, which offers new views of William Faulkner’s works through digitized maps and timelines. She has published essays in South Central Review\, Mississippi Quarterly\, the Journal of American Studies\, and elsewhere. Elizabeth serves on the steering committees for the Fordham Digital Scholarship Consortium and NYCDH. \nLisa Davidson is Professor and Chair of Linguistics and Director of the Phonetics & Experimental Phonology Lab at NYU. Her research is on the production and perception of connected speech\, voice quality\, and second language acquisition. She is the General Editor of Laboratory Phonology\, and is on the editorial board of Journal of Phonetics. She\nalso serves on the Social Media Committee for the Linguistic Society of America.
URL:https://nycdh.org/dhweek/event/musical-collaborations-discussion-knowledge-sharing/
LOCATION:Online\, New York\, NY\, United States
CATEGORIES:2022,All Levels,Audio,Collaboration,Pedagogy,Workshop
ORGANIZER;CN="Elizabeth Cornell":MAILTO:cornellgoldw@fordham.edu
END:VEVENT
BEGIN:VEVENT
DTSTART;TZID=America/New_York:20220211T100000
DTEND;TZID=America/New_York:20220211T120000
DTSTAMP:20260422T142120
CREATED:20220125T210214Z
LAST-MODIFIED:20220127T185020Z
UID:6947-1644573600-1644580800@nycdh.org
SUMMARY:Pandas: The Bare Basics
DESCRIPTION:Pandas is a Python data science library that allows for the manipulation and transformation of data\, and in particular numeric and time series data. In this workshop for people completely new to Pandas\, and possibly also to data science and/or programming\, we’ll take a relatively leisurely look at the Pandas library in conjunction with the Jupyter Notebook environment. We’ll learn about the two main data structures in Pandas\, the series and the dataframe\, reading from and writing to file\, indexing data (including boolean indexing)\, and describing data. If we have time\, we may even make a chart! This workshop is not recommended for those already experienced with Pandas\, we’ll be staying firmly in a beginner-friendly zone.
URL:https://nycdh.org/dhweek/event/pandas-the-bare-basics/
LOCATION:Online\, New York\, NY\, United States
CATEGORIES:2022,Beginner,Data Management,Visualization,Workshop
ORGANIZER;CN="Patrick Smyth":MAILTO:patricksmyth01@gmail.com
END:VEVENT
BEGIN:VEVENT
DTSTART;TZID=America/New_York:20220211T100000
DTEND;TZID=America/New_York:20220211T120000
DTSTAMP:20260422T142120
CREATED:20220127T183447Z
LAST-MODIFIED:20220204T191626Z
UID:7065-1644573600-1644580800@nycdh.org
SUMMARY:DH Project Management
DESCRIPTION:The Digital Humanities landscape is littered with the good ideas of enterprising scholars never realized. From the lack of a clearly defined project scope\, to insufficient resources\, to over ambitious scheduling\, there are a myriad of factors that can derail even the best of DH projects. And while we can not account for every potential problem and obstacle\, strong project management skills can help to take a vision\, keep it on track\, and make it a reality. This workshop will focus on building these critical skills\, exploring a variety of tools and tactics available to successfully plan and develop a DH project throughout its entire life cycle. Join us for an overview of tools to add to your DH project management tool kit and to brainstorm methods to move your DH project forward.
URL:https://nycdh.org/dhweek/event/dh-project-management/
LOCATION:Online\, New York\, NY\, United States
CATEGORIES:2022,Beginner,Project Planning,Support,Workshop
ORGANIZER;CN="Jesse Merandy":MAILTO:Jesse.merandy@bgc.bard.edu
END:VEVENT
BEGIN:VEVENT
DTSTART;TZID=America/New_York:20220211T130000
DTEND;TZID=America/New_York:20220211T150000
DTSTAMP:20260422T142120
CREATED:20220125T210812Z
LAST-MODIFIED:20220210T144758Z
UID:6960-1644584400-1644591600@nycdh.org
SUMMARY:Python - A Gentle Introduction
DESCRIPTION:A very beginner friendly introduction to Python for the humanities. We will cover basic tools and installation methods\, as well as how Python can be used to sort through messy information and automate simple and repetitive tasks. Brief examples will be covered\, and we’ll talk about how to explore and learn in the future. There will be a lot of room for questions and discussion.
URL:https://nycdh.org/dhweek/event/python-a-gentle-introduction/
LOCATION:Online\, New York\, NY\, United States
CATEGORIES:2022,Beginner,Data Management,Programming Languages,Python,Workshop
ORGANIZER;CN="Katie Wolf":MAILTO:kwolf9@fordham.edu
END:VEVENT
BEGIN:VEVENT
DTSTART;TZID=America/New_York:20220211T130000
DTEND;TZID=America/New_York:20220211T150000
DTSTAMP:20260422T142120
CREATED:20220125T210856Z
LAST-MODIFIED:20220203T002342Z
UID:6962-1644584400-1644591600@nycdh.org
SUMMARY:Building a Custom Vector Tile API
DESCRIPTION:This demonstration will walk through the workflow we are using for many of our web mapping apps at CUNY’s Center for Urban research. I will explain how our geography data is exported from QGIS to Postgres and how we customized our own tile server and application API in nodejs.
URL:https://nycdh.org/dhweek/event/building-a-custom-vector-tile-api/
LOCATION:Online\, New York\, NY\, United States
CATEGORIES:2022,Advanced,Demonstration,GIS,homefeature,Intermediate,Mapping
ORGANIZER;CN="Will Field":MAILTO:wfield@gc.cuny.edu
END:VEVENT
BEGIN:VEVENT
DTSTART;TZID=America/New_York:20220211T150000
DTEND;TZID=America/New_York:20220211T170000
DTSTAMP:20260422T142120
CREATED:20220125T211206Z
LAST-MODIFIED:20220204T184532Z
UID:6970-1644591600-1644598800@nycdh.org
SUMMARY:Accessible Design
DESCRIPTION:Over the last thirty years\, the internet has become of vital importance to daily life\, especially in the time of the COVID-19 pandemic. Unfortunately\, accessibility on the internet has often remained a low priority\, making this indispensable resource difficult to use for many people. Participants in this workshop will learn how to combat this problem by being proactive in their own design. We will discuss why accessibility is important\, best practices for designing an accessible site or visualization\, and some of the follies of “universal design.” We will conclude with some hands-on practice with accessibility checkers that participants can use for their own work.
URL:https://nycdh.org/dhweek/event/accessible-design-2/
LOCATION:Online\, New York\, NY\, United States
CATEGORIES:2022,Web Design,Workshop
ORGANIZER;CN="Heather V. Hill":MAILTO:hhill3@fordham.edu
END:VEVENT
END:VCALENDAR