BEGIN:VCALENDAR
VERSION:2.0
PRODID:-//NYCDH Week - ECPv6.15.17//NONSGML v1.0//EN
CALSCALE:GREGORIAN
METHOD:PUBLISH
X-ORIGINAL-URL:https://nycdh.org/dhweek
X-WR-CALDESC:Events for NYCDH Week
REFRESH-INTERVAL;VALUE=DURATION:PT1H
X-Robots-Tag:noindex
X-PUBLISHED-TTL:PT1H
BEGIN:VTIMEZONE
TZID:America/New_York
BEGIN:DAYLIGHT
TZOFFSETFROM:-0500
TZOFFSETTO:-0400
TZNAME:EDT
DTSTART:20200308T070000
END:DAYLIGHT
BEGIN:STANDARD
TZOFFSETFROM:-0400
TZOFFSETTO:-0500
TZNAME:EST
DTSTART:20201101T060000
END:STANDARD
BEGIN:DAYLIGHT
TZOFFSETFROM:-0500
TZOFFSETTO:-0400
TZNAME:EDT
DTSTART:20210314T070000
END:DAYLIGHT
BEGIN:STANDARD
TZOFFSETFROM:-0400
TZOFFSETTO:-0500
TZNAME:EST
DTSTART:20211107T060000
END:STANDARD
BEGIN:DAYLIGHT
TZOFFSETFROM:-0500
TZOFFSETTO:-0400
TZNAME:EDT
DTSTART:20220313T070000
END:DAYLIGHT
BEGIN:STANDARD
TZOFFSETFROM:-0400
TZOFFSETTO:-0500
TZNAME:EST
DTSTART:20221106T060000
END:STANDARD
END:VTIMEZONE
BEGIN:VEVENT
DTSTART;TZID=America/New_York:20210212T130000
DTEND;TZID=America/New_York:20210212T150000
DTSTAMP:20260420T223616
CREATED:20210119T174203Z
LAST-MODIFIED:20210208T193027Z
UID:5393-1613134800-1613142000@nycdh.org
SUMMARY:Cybersecurity for Humanists
DESCRIPTION:In this session\, we will discuss security challenges facing the humanities and how to defend research interests online. We will learn many of the common terms and issues related to Cybersecurity and think about how to protect our project infrastructure beyond institutional IT requirements. We will discuss how to detect\, respond\, and recover from an attack. We will think about a broader threat model for the humanities and academic research in general. We will also take time to consider particular threats faced by researchers engaged in politically charged issues. There are no prerequisites to participate in this session.
URL:https://nycdh.org/dhweek/event/cybersecurity-for-humanists/
LOCATION:Virtual\, NY\, United States
CATEGORIES:2021,Security,WIDH2021
ORGANIZER;CN="Aaron Mauro":MAILTO:amauro@brocku.ca
END:VEVENT
END:VCALENDAR