BEGIN:VCALENDAR
VERSION:2.0
PRODID:-//NYCDH Week - ECPv6.15.17//NONSGML v1.0//EN
CALSCALE:GREGORIAN
METHOD:PUBLISH
X-ORIGINAL-URL:https://nycdh.org/dhweek
X-WR-CALDESC:Events for NYCDH Week
REFRESH-INTERVAL;VALUE=DURATION:PT1H
X-Robots-Tag:noindex
X-PUBLISHED-TTL:PT1H
BEGIN:VTIMEZONE
TZID:America/New_York
BEGIN:DAYLIGHT
TZOFFSETFROM:-0500
TZOFFSETTO:-0400
TZNAME:EDT
DTSTART:20180311T070000
END:DAYLIGHT
BEGIN:STANDARD
TZOFFSETFROM:-0400
TZOFFSETTO:-0500
TZNAME:EST
DTSTART:20181104T060000
END:STANDARD
BEGIN:DAYLIGHT
TZOFFSETFROM:-0500
TZOFFSETTO:-0400
TZNAME:EDT
DTSTART:20190310T070000
END:DAYLIGHT
BEGIN:STANDARD
TZOFFSETFROM:-0400
TZOFFSETTO:-0500
TZNAME:EST
DTSTART:20191103T060000
END:STANDARD
BEGIN:DAYLIGHT
TZOFFSETFROM:-0500
TZOFFSETTO:-0400
TZNAME:EDT
DTSTART:20200308T070000
END:DAYLIGHT
BEGIN:STANDARD
TZOFFSETFROM:-0400
TZOFFSETTO:-0500
TZNAME:EST
DTSTART:20201101T060000
END:STANDARD
BEGIN:DAYLIGHT
TZOFFSETFROM:-0500
TZOFFSETTO:-0400
TZNAME:EDT
DTSTART:20210314T070000
END:DAYLIGHT
BEGIN:STANDARD
TZOFFSETFROM:-0400
TZOFFSETTO:-0500
TZNAME:EST
DTSTART:20211107T060000
END:STANDARD
END:VTIMEZONE
BEGIN:VEVENT
DTSTART;TZID=America/New_York:20200206T150000
DTEND;TZID=America/New_York:20200206T170000
DTSTAMP:20260420T221032
CREATED:20200123T174918Z
LAST-MODIFIED:20200127T145854Z
UID:4125-1581001200-1581008400@nycdh.org
SUMMARY:Humanitarian Map-a-thon: DH for Disaster Relief
DESCRIPTION:This session will focus on the use of digital tools for social justice and humanitarian disaster relief work. Utilizing digital mapping\, you will join the Humanitarian OpenStreetMapping Team to learn basic GIS skills. Attendees will get familiar with iD editor\, and JSOM using OpenStreetMaps for this and many other projects. We will discuss the need for volunteers in this work\, the importance of conversations on social justice in the use of digital tools\, as well as how to incorporate a map-a-thon into your courses!\n \nEquipment: attendees should bring a laptop that can hold an internet connection \n 
URL:https://nycdh.org/dhweek/event/humanitarian-map-a-thon-dh-for-disaster-relief/
LOCATION:Pace University\, Babble Lab\, Rm. 202\, 41 Park Row\, New York\, NY\, 10038\, United States
CATEGORIES:Beginner,GIS,Mapping,Open Access
ORGANIZER;CN="Adrianna Martinez":MAILTO:amarti48@nyit.edu
END:VEVENT
BEGIN:VEVENT
DTSTART;TZID=America/New_York:20190208T150000
DTEND;TZID=America/New_York:20190208T170000
DTSTAMP:20260420T221032
CREATED:20190120T185752Z
LAST-MODIFIED:20190124T173430Z
UID:2630-1549638000-1549645200@nycdh.org
SUMMARY:Humanitarian Open Street Mapping for All
DESCRIPTION:How does digital map use work? Is it always free to use? When you hear open street mapping it may sound daunting\, but it is an excellent introduction to GIS work as well as a low effort way to help organizations like the red cross\, disaster response teams and more. \nRequirements: Attendees should bring their own laptop.
URL:https://nycdh.org/dhweek/event/humanitarian-open-street-mapping-for-all/
LOCATION:NYIT Library\, 1855 Broadway (at 61st Street)\, New York\, NY\, 10023
CATEGORIES:Beginner,GIS,Mapping
ORGANIZER;CN="Adrianna Martinez":MAILTO:amarti48@nyit.edu
END:VEVENT
END:VCALENDAR