BEGIN:VCALENDAR
VERSION:2.0
PRODID:-//NYCDH Week - ECPv6.15.17//NONSGML v1.0//EN
CALSCALE:GREGORIAN
METHOD:PUBLISH
X-ORIGINAL-URL:https://nycdh.org/dhweek
X-WR-CALDESC:Events for NYCDH Week
REFRESH-INTERVAL;VALUE=DURATION:PT1H
X-Robots-Tag:noindex
X-PUBLISHED-TTL:PT1H
BEGIN:VTIMEZONE
TZID:America/New_York
BEGIN:DAYLIGHT
TZOFFSETFROM:-0500
TZOFFSETTO:-0400
TZNAME:EDT
DTSTART:20160313T070000
END:DAYLIGHT
BEGIN:STANDARD
TZOFFSETFROM:-0400
TZOFFSETTO:-0500
TZNAME:EST
DTSTART:20161106T060000
END:STANDARD
BEGIN:DAYLIGHT
TZOFFSETFROM:-0500
TZOFFSETTO:-0400
TZNAME:EDT
DTSTART:20170312T070000
END:DAYLIGHT
BEGIN:STANDARD
TZOFFSETFROM:-0400
TZOFFSETTO:-0500
TZNAME:EST
DTSTART:20171105T060000
END:STANDARD
BEGIN:DAYLIGHT
TZOFFSETFROM:-0500
TZOFFSETTO:-0400
TZNAME:EDT
DTSTART:20180311T070000
END:DAYLIGHT
BEGIN:STANDARD
TZOFFSETFROM:-0400
TZOFFSETTO:-0500
TZNAME:EST
DTSTART:20181104T060000
END:STANDARD
END:VTIMEZONE
BEGIN:VEVENT
DTSTART;TZID=America/New_York:20170207T050000
DTEND;TZID=America/New_York:20170207T063000
DTSTAMP:20260423T083505
CREATED:20170111T233555Z
LAST-MODIFIED:20170112T011908Z
UID:332-1486443600-1486449000@nycdh.org
SUMMARY:Visualizing Qualitative Data
DESCRIPTION:This presentation will introduce attendees to the fundamentals of Nvivo queries and analyses. Participants will be shown to easy-to-follow demonstrations of NVivo functions that allow users to visualize information from data sources such as surveys\, literature reviews\, and interview transcripts. The workshop is geared toward beginners who have had little previous exposure to NVivo. Attendees must bring their own laptops to the session. \nSkill Level\nBeginner \nPrerequisites\nNone \nEquipment Requirements\nLaptop
URL:https://nycdh.org/dhweek/event/visualizing-qualitative-data/
LOCATION:NYU XE: Experimental Humanities and Social Enagement\, Conference Room\, 24 E 8th St.\, New York\, NY\, 10003\, United States
CATEGORIES:Beginner,Visualization
ORGANIZER;CN="Ah-Young Song":MAILTO:as4493@tc.columbia.edu
GEO:40.73169;-73.995173
X-APPLE-STRUCTURED-LOCATION;VALUE=URI;X-ADDRESS=NYU XE: Experimental Humanities and Social Enagement Conference Room 24 E 8th St. New York NY 10003 United States;X-APPLE-RADIUS=500;X-TITLE=24 E 8th St.:geo:-73.995173,40.73169
END:VEVENT
END:VCALENDAR