BEGIN:VCALENDAR
VERSION:2.0
PRODID:-//NYCDH Week - ECPv6.15.17//NONSGML v1.0//EN
CALSCALE:GREGORIAN
METHOD:PUBLISH
X-ORIGINAL-URL:https://nycdh.org/dhweek
X-WR-CALDESC:Events for NYCDH Week
REFRESH-INTERVAL;VALUE=DURATION:PT1H
X-Robots-Tag:noindex
X-PUBLISHED-TTL:PT1H
BEGIN:VTIMEZONE
TZID:America/New_York
BEGIN:DAYLIGHT
TZOFFSETFROM:-0500
TZOFFSETTO:-0400
TZNAME:EDT
DTSTART:20150308T070000
END:DAYLIGHT
BEGIN:STANDARD
TZOFFSETFROM:-0400
TZOFFSETTO:-0500
TZNAME:EST
DTSTART:20151101T060000
END:STANDARD
BEGIN:DAYLIGHT
TZOFFSETFROM:-0500
TZOFFSETTO:-0400
TZNAME:EDT
DTSTART:20160313T070000
END:DAYLIGHT
BEGIN:STANDARD
TZOFFSETFROM:-0400
TZOFFSETTO:-0500
TZNAME:EST
DTSTART:20161106T060000
END:STANDARD
BEGIN:DAYLIGHT
TZOFFSETFROM:-0500
TZOFFSETTO:-0400
TZNAME:EDT
DTSTART:20170312T070000
END:DAYLIGHT
BEGIN:STANDARD
TZOFFSETFROM:-0400
TZOFFSETTO:-0500
TZNAME:EST
DTSTART:20171105T060000
END:STANDARD
BEGIN:DAYLIGHT
TZOFFSETFROM:-0500
TZOFFSETTO:-0400
TZNAME:EDT
DTSTART:20180311T070000
END:DAYLIGHT
BEGIN:STANDARD
TZOFFSETFROM:-0400
TZOFFSETTO:-0500
TZNAME:EST
DTSTART:20181104T060000
END:STANDARD
BEGIN:DAYLIGHT
TZOFFSETFROM:-0500
TZOFFSETTO:-0400
TZNAME:EDT
DTSTART:20190310T070000
END:DAYLIGHT
BEGIN:STANDARD
TZOFFSETFROM:-0400
TZOFFSETTO:-0500
TZNAME:EST
DTSTART:20191103T060000
END:STANDARD
BEGIN:DAYLIGHT
TZOFFSETFROM:-0500
TZOFFSETTO:-0400
TZNAME:EDT
DTSTART:20200308T070000
END:DAYLIGHT
BEGIN:STANDARD
TZOFFSETFROM:-0400
TZOFFSETTO:-0500
TZNAME:EST
DTSTART:20201101T060000
END:STANDARD
BEGIN:DAYLIGHT
TZOFFSETFROM:-0500
TZOFFSETTO:-0400
TZNAME:EDT
DTSTART:20210314T070000
END:DAYLIGHT
BEGIN:STANDARD
TZOFFSETFROM:-0400
TZOFFSETTO:-0500
TZNAME:EST
DTSTART:20211107T060000
END:STANDARD
BEGIN:DAYLIGHT
TZOFFSETFROM:-0500
TZOFFSETTO:-0400
TZNAME:EDT
DTSTART:20220313T070000
END:DAYLIGHT
BEGIN:STANDARD
TZOFFSETFROM:-0400
TZOFFSETTO:-0500
TZNAME:EST
DTSTART:20221106T060000
END:STANDARD
BEGIN:DAYLIGHT
TZOFFSETFROM:-0500
TZOFFSETTO:-0400
TZNAME:EDT
DTSTART:20230312T070000
END:DAYLIGHT
BEGIN:STANDARD
TZOFFSETFROM:-0400
TZOFFSETTO:-0500
TZNAME:EST
DTSTART:20231105T060000
END:STANDARD
END:VTIMEZONE
BEGIN:VEVENT
DTSTART;TZID=America/New_York:20220209T130000
DTEND;TZID=America/New_York:20220209T150000
DTSTAMP:20260420T182902
CREATED:20220125T210501Z
LAST-MODIFIED:20220208T221958Z
UID:6952-1644411600-1644418800@nycdh.org
SUMMARY:Publishing with Github Pages
DESCRIPTION:In this session you will learn the basics of using GitHub and its free web publishing tool\, Github Pages. This tool allows you to easily publish simple websites (blogs\, professional profiles\, event announcements\, etc) at no cost. This course will also serve as a soft introduction to markdown and yaml\, folders and files\, git and between the lines to Jekyll.
URL:https://nycdh.org/dhweek/event/publishing-with-github-pages/
LOCATION:Online\, New York\, NY\, United States
CATEGORIES:2022,Beginner,Web Publishing,Workshop
ORGANIZER;CN="Alex Gil":MAILTO:agil at columbia
END:VEVENT
BEGIN:VEVENT
DTSTART;TZID=America/New_York:20210209T100000
DTEND;TZID=America/New_York:20210209T120000
DTSTAMP:20260420T182902
CREATED:20210118T191809Z
LAST-MODIFIED:20210208T194731Z
UID:5353-1612864800-1612872000@nycdh.org
SUMMARY:Introduction to Hypothes.is web annotation
DESCRIPTION:In this session you will learn how to use the hypothesis web annotation tool in and outside the classroom. Using real life examples\, you will learn how to set up an instance for your classroom to enable online discussion among students that resembles the comment feature on a google doc. You will also learn how to organize events to bring your scholarly community around a single literary or cultural text.
URL:https://nycdh.org/dhweek/event/introduction-to-hypothes-is-web-annotation/
LOCATION:Virtual\, NY\, United States
CATEGORIES:2021,Beginner
ORGANIZER;CN="Alex Gil":MAILTO:agil at columbia
END:VEVENT
BEGIN:VEVENT
DTSTART;TZID=America/New_York:20200205T130000
DTEND;TZID=America/New_York:20200205T150000
DTSTAMP:20260420T182902
CREATED:20200122T170759Z
LAST-MODIFIED:20200203T153720Z
UID:4156-1580907600-1580914800@nycdh.org
SUMMARY:Creating Minimal Humanities Projects with Jekyll
DESCRIPTION:In this session you will get and overview of how to design and deploy Jekyll sites. You will also learn how to apply this knowledge to many genres in the humanities: archives\, exhibits\, editions\, maps\, journals\, etc. \nEquipment: Laptop. Preferably Mac or Linux. If you have a Windows machine\, please update to Windows 10. \nPrerequisites: Not to be afraid of symbols. \n 
URL:https://nycdh.org/dhweek/event/creating-minimal-humanities-projects-with-jekyll/
LOCATION:Columbia (Butler Library room 305)\, 535 West 114th St\, New York\, NY\, 10027\, United States
CATEGORIES:Beginner
ORGANIZER;CN="Alex Gil":MAILTO:agil at columbia
END:VEVENT
BEGIN:VEVENT
DTSTART;TZID=America/New_York:20190207T100000
DTEND;TZID=America/New_York:20190207T120000
DTSTAMP:20260420T182902
CREATED:20190120T201034Z
LAST-MODIFIED:20190124T034800Z
UID:2698-1549533600-1549540800@nycdh.org
SUMMARY:Introduction to GitHub for Scholars
DESCRIPTION:In this workshop participants will learn how to create and use a GitHub repository in order to do collaborative work with each other. \nRequirements: Attendees should bring their own laptop.
URL:https://nycdh.org/dhweek/event/introduction-to-github-for-scholars/
LOCATION:Studio@Butler\, 535 W. 114th St.\, New York\, NY\, 10027\, United States
CATEGORIES:Beginner,Collaboration,Github
ORGANIZER;CN="Alex Gil":MAILTO:agil at columbia
GEO:40.8064029;-73.9632198
X-APPLE-STRUCTURED-LOCATION;VALUE=URI;X-ADDRESS=Studio@Butler 535 W. 114th St. New York NY 10027 United States;X-APPLE-RADIUS=500;X-TITLE=535 W. 114th St.:geo:-73.9632198,40.8064029
END:VEVENT
BEGIN:VEVENT
DTSTART;TZID=America/New_York:20190205T100000
DTEND;TZID=America/New_York:20190205T120000
DTSTAMP:20260420T182902
CREATED:20190120T195443Z
LAST-MODIFIED:20190122T200731Z
UID:2683-1549360800-1549368000@nycdh.org
SUMMARY:Introduction to Jekyll
DESCRIPTION:In this workshop you will learn how to use the static website generator\, Jekyll. Jekyll is so flexible it can be used to create most modern forms of digital humanities projects and related projects\, from personal professional pages\, to fully functional digital exhibits. \nSome familiarity with symbolic computing recommended\, but not required. If using a Windows machine\, please install the Windows Subsystem for Linux (WSL) before the workshop. \nRequirements: attendees should bring their own laptops.
URL:https://nycdh.org/dhweek/event/introduction-to-jekyll/
LOCATION:Studio@Butler\, 535 W. 114th St.\, New York\, NY\, 10027\, United States
CATEGORIES:Advanced,Intermediate,Web Publishing
ORGANIZER;CN="Alex Gil":MAILTO:agil at columbia
GEO:40.8064029;-73.9632198
X-APPLE-STRUCTURED-LOCATION;VALUE=URI;X-ADDRESS=Studio@Butler 535 W. 114th St. New York NY 10027 United States;X-APPLE-RADIUS=500;X-TITLE=535 W. 114th St.:geo:-73.9632198,40.8064029
END:VEVENT
BEGIN:VEVENT
DTSTART;TZID=America/New_York:20190204T170000
DTEND;TZID=America/New_York:20190204T200000
DTSTAMP:20260420T182902
CREATED:20190123T232358Z
LAST-MODIFIED:20190125T051131Z
UID:2881-1549299600-1549310400@nycdh.org
SUMMARY:Digibar
DESCRIPTION:NYCDH folks never stop partying\, so join us at an establishment of fine beverages to continue the conversations and celebrate!
URL:https://nycdh.org/dhweek/event/digibar-4/
LOCATION:The Empire Rooftop Bar\, 44 w 63 st\, New York\, NY\, 10023\, United States
ORGANIZER;CN="Alex Gil":MAILTO:agil at columbia
END:VEVENT
BEGIN:VEVENT
DTSTART;TZID=America/New_York:20180208T140000
DTEND;TZID=America/New_York:20180208T160000
DTSTAMP:20260420T182902
CREATED:20180122T170807Z
LAST-MODIFIED:20180207T172037Z
UID:1675-1518098400-1518105600@nycdh.org
SUMMARY:Introduction to Minimal Computing
DESCRIPTION:In this workshop we will introduce you to minimal computing concepts in general\, and Jekyll and GitHub Pages in particular. Given our political & economic vulnerabilities\, and the imminence of the anthropocene\, several scholars/technologists have begun to design different workflows and tech for producing several genres of digital humanities that seek the essentials in a time of precarity\, offering tentative answers to the question “What do we really need?” In this workshop\, I will introduce you to the concepts with some hands on exercises. At the end of the workshop you will be exposed to the Alpha version of Jekyll Wax—a workflow and set of tools for static minimal exhibitions. \nLEVEL: Intermediate\nNOTES: Bring your own laptop. UNIX systems preferred (Mac or Linux).
URL:https://nycdh.org/dhweek/event/introduction-to-minimal-computing/
LOCATION:Studio@Butler\, 535 W. 114th St.\, New York\, NY\, 10027\, United States
CATEGORIES:Intermediate
ORGANIZER;CN="Alex Gil":MAILTO:agil at columbia
GEO:40.8064029;-73.9632198
X-APPLE-STRUCTURED-LOCATION;VALUE=URI;X-ADDRESS=Studio@Butler 535 W. 114th St. New York NY 10027 United States;X-APPLE-RADIUS=500;X-TITLE=535 W. 114th St.:geo:-73.9632198,40.8064029
END:VEVENT
BEGIN:VEVENT
DTSTART;TZID=America/New_York:20170208T050000
DTEND;TZID=America/New_York:20170208T070000
DTSTAMP:20260420T182902
CREATED:20170111T233356Z
LAST-MODIFIED:20170112T011336Z
UID:340-1486530000-1486537200@nycdh.org
SUMMARY:Making a Minimal Digital Edition of a Historical or Literary Text
DESCRIPTION:Learn how to make and publish an edition online of your source materials using Ed: A Jekyll theme\, designed for documentary editors. \nSkill Level\nBeginner/Intermediate \nPrerequisites\nNone \nEquipment Requirements\nMac or Linux Laptop
URL:https://nycdh.org/dhweek/event/making-a-minimal-digital-edition-of-a-historical-or-literary-text/
LOCATION:Studio@Butler\, 535 W. 114th St.\, New York\, NY\, 10027\, United States
CATEGORIES:Beginner,Digitization,Editing,Intermediate
ORGANIZER;CN="Alex Gil":MAILTO:agil at columbia
GEO:40.8064029;-73.9632198
X-APPLE-STRUCTURED-LOCATION;VALUE=URI;X-ADDRESS=Studio@Butler 535 W. 114th St. New York NY 10027 United States;X-APPLE-RADIUS=500;X-TITLE=535 W. 114th St.:geo:-73.9632198,40.8064029
END:VEVENT
BEGIN:VEVENT
DTSTART;TZID=America/New_York:20170207T080000
DTEND;TZID=America/New_York:20170207T100000
DTSTAMP:20260420T182902
CREATED:20170112T002653Z
LAST-MODIFIED:20170112T012005Z
UID:354-1486454400-1486461600@nycdh.org
SUMMARY:Introduction to Security and Privacy for Researchers
DESCRIPTION:Learn the basic to intermediate steps that you can take to protect yourself against malicious agents\, government surveillance and other threats. \nSkill Level\nBeginner \nPrerequisites\nNone \nEquipment Requirements\nLaptop
URL:https://nycdh.org/dhweek/event/introduction-to-security-and-privacy-for-researchers/
LOCATION:Studio@Butler\, 535 W. 114th St.\, New York\, NY\, 10027\, United States
CATEGORIES:Beginner,Security
ORGANIZER;CN="Alex Gil":MAILTO:agil at columbia
GEO:40.8064029;-73.9632198
X-APPLE-STRUCTURED-LOCATION;VALUE=URI;X-ADDRESS=Studio@Butler 535 W. 114th St. New York NY 10027 United States;X-APPLE-RADIUS=500;X-TITLE=535 W. 114th St.:geo:-73.9632198,40.8064029
END:VEVENT
BEGIN:VEVENT
DTSTART;TZID=America/New_York:20160210T043000
DTEND;TZID=America/New_York:20160210T060000
DTSTAMP:20260420T182902
CREATED:20160120T195154Z
LAST-MODIFIED:20161122T221351Z
UID:131-1455078600-1455084000@nycdh.org
SUMMARY:Git for Humanists
DESCRIPTION:Workshop lead: Dennis Tenen \nThis is a github tutorial for beginners geared towards collaborative work in the humanities. In this tutorial you will learn about Git and Github\, and how to set up your own versioning environment. \nFor this event you will need a pass at the door.
URL:https://nycdh.org/dhweek/event/git-for-humanists/
LOCATION:Studio@Butler\, 535 W. 114th St.\, New York\, NY\, 10027\, United States
CATEGORIES:Command Line,Github
ORGANIZER;CN="Alex Gil":MAILTO:agil at columbia
GEO:40.8064029;-73.9632198
X-APPLE-STRUCTURED-LOCATION;VALUE=URI;X-ADDRESS=Studio@Butler 535 W. 114th St. New York NY 10027 United States;X-APPLE-RADIUS=500;X-TITLE=535 W. 114th St.:geo:-73.9632198,40.8064029
END:VEVENT
BEGIN:VEVENT
DTSTART;TZID=America/New_York:20160209T120000
DTEND;TZID=America/New_York:20160209T150000
DTSTAMP:20260420T182902
CREATED:20160121T013403Z
LAST-MODIFIED:20160124T013357Z
UID:152-1455019200-1455030000@nycdh.org
SUMMARY:Digibar
DESCRIPTION:Ahhh. Time for refreshments among friends! \nWe’ll be gracing the halls of BAR NINE for the merry making. The hope is to head there as soon as our kickoff event is over. No RSVP needed. We get from good authority that they can hold a large group.
URL:https://nycdh.org/dhweek/event/digibar/
LOCATION:BAR NINE\, 807 9th Ave\, New York\, NY\, 10019\, United States
CATEGORIES:Social event
ORGANIZER;CN="Alex Gil":MAILTO:agil at columbia
GEO:40.7657873;-73.9876802
X-APPLE-STRUCTURED-LOCATION;VALUE=URI;X-ADDRESS=BAR NINE 807 9th Ave New York NY 10019 United States;X-APPLE-RADIUS=500;X-TITLE=807 9th Ave:geo:-73.9876802,40.7657873
END:VEVENT
END:VCALENDAR