BEGIN:VCALENDAR
VERSION:2.0
PRODID:-//NYCDH Week - ECPv6.15.17//NONSGML v1.0//EN
CALSCALE:GREGORIAN
METHOD:PUBLISH
X-WR-CALNAME:NYCDH Week
X-ORIGINAL-URL:https://nycdh.org/dhweek
X-WR-CALDESC:Events for NYCDH Week
REFRESH-INTERVAL;VALUE=DURATION:PT1H
X-Robots-Tag:noindex
X-PUBLISHED-TTL:PT1H
BEGIN:VTIMEZONE
TZID:America/New_York
BEGIN:DAYLIGHT
TZOFFSETFROM:-0500
TZOFFSETTO:-0400
TZNAME:EDT
DTSTART:20150308T070000
END:DAYLIGHT
BEGIN:STANDARD
TZOFFSETFROM:-0400
TZOFFSETTO:-0500
TZNAME:EST
DTSTART:20151101T060000
END:STANDARD
BEGIN:DAYLIGHT
TZOFFSETFROM:-0500
TZOFFSETTO:-0400
TZNAME:EDT
DTSTART:20160313T070000
END:DAYLIGHT
BEGIN:STANDARD
TZOFFSETFROM:-0400
TZOFFSETTO:-0500
TZNAME:EST
DTSTART:20161106T060000
END:STANDARD
BEGIN:DAYLIGHT
TZOFFSETFROM:-0500
TZOFFSETTO:-0400
TZNAME:EDT
DTSTART:20170312T070000
END:DAYLIGHT
BEGIN:STANDARD
TZOFFSETFROM:-0400
TZOFFSETTO:-0500
TZNAME:EST
DTSTART:20171105T060000
END:STANDARD
END:VTIMEZONE
BEGIN:VEVENT
DTSTART;TZID=America/New_York:20160212T050000
DTEND;TZID=America/New_York:20160212T070000
DTSTAMP:20260424T153039
CREATED:20160121T024346Z
LAST-MODIFIED:20161122T220716Z
UID:169-1455253200-1455260400@nycdh.org
SUMMARY:Typography for [Digital] Humanists
DESCRIPTION:“Typography is what language looks like.” This quote by educator and designer Ellen Lupton has been used countless times to explain how typography\, the arrangement and use of type\, permeates our visual landscape\, from the printed page to screens to physical environments. Those who work in the digital humanities are called upon to make typographic choices everyday\, yet few have any training in how to select\, arrange and design with type to create effective messages. This workshop will provide an overview of basic typographic principles and will focus specifically on issues related to typography for [digital] humanists\, such as typeface selection for digital projects\, web typography tools and typography for UI/ UX design. Participants must bring a laptop with a recent version of Chrome installed. \nLocation: \nLL608\nLowenstein Building\nFordham University\n60th and Columbus
URL:https://nycdh.org/dhweek/event/typography-for-digital-humanists/
LOCATION:Fordham University’s Lincoln Center Campus\, Room TBA\, 113 W 60th Street\, New York\, 10023\, United States
CATEGORIES:Beginner,Design,Editing,Intermediate
ORGANIZER;CN="Amy Papaelias":MAILTO:papaelia@newpaltz.edu
GEO:40.7708109;-73.9851512
X-APPLE-STRUCTURED-LOCATION;VALUE=URI;X-ADDRESS=Fordham University’s Lincoln Center Campus Room TBA 113 W 60th Street New York 10023 United States;X-APPLE-RADIUS=500;X-TITLE=113 W 60th Street:geo:-73.9851512,40.7708109
END:VEVENT
END:VCALENDAR