BEGIN:VCALENDAR
VERSION:2.0
PRODID:-//NYCDH Week - ECPv6.15.17//NONSGML v1.0//EN
CALSCALE:GREGORIAN
METHOD:PUBLISH
X-WR-CALNAME:NYCDH Week
X-ORIGINAL-URL:https://nycdh.org/dhweek
X-WR-CALDESC:Events for NYCDH Week
REFRESH-INTERVAL;VALUE=DURATION:PT1H
X-Robots-Tag:noindex
X-PUBLISHED-TTL:PT1H
BEGIN:VTIMEZONE
TZID:America/New_York
BEGIN:DAYLIGHT
TZOFFSETFROM:-0500
TZOFFSETTO:-0400
TZNAME:EDT
DTSTART:20190310T070000
END:DAYLIGHT
BEGIN:STANDARD
TZOFFSETFROM:-0400
TZOFFSETTO:-0500
TZNAME:EST
DTSTART:20191103T060000
END:STANDARD
BEGIN:DAYLIGHT
TZOFFSETFROM:-0500
TZOFFSETTO:-0400
TZNAME:EDT
DTSTART:20200308T070000
END:DAYLIGHT
BEGIN:STANDARD
TZOFFSETFROM:-0400
TZOFFSETTO:-0500
TZNAME:EST
DTSTART:20201101T060000
END:STANDARD
BEGIN:DAYLIGHT
TZOFFSETFROM:-0500
TZOFFSETTO:-0400
TZNAME:EDT
DTSTART:20210314T070000
END:DAYLIGHT
BEGIN:STANDARD
TZOFFSETFROM:-0400
TZOFFSETTO:-0500
TZNAME:EST
DTSTART:20211107T060000
END:STANDARD
END:VTIMEZONE
BEGIN:VEVENT
DTSTART;TZID=America/New_York:20200206T130000
DTEND;TZID=America/New_York:20200206T150000
DTSTAMP:20260420T220805
CREATED:20200123T175113Z
LAST-MODIFIED:20200123T175113Z
UID:4133-1580994000-1581001200@nycdh.org
SUMMARY:Web Accessibility
DESCRIPTION:The web’s importance in our daily lives continues to grow. The internet is the new public square. It is a place where ideas\, information\, education\, entertainment\, and commerce are taking place. For accessibility to become embedded in our everyday thinking and world\, we all need to realize the role we all can play in accessibility. We need to incorporate accessibility into our work and considerations. This workshop will go over why accessibility matters\, how to create accessible digital content by explaining accessibility best practices and how to evaluate your digital content. For professors I will also touch on digital accessibility projects you can incorporate into your various courses. \nEquipment: People can bring a laptop if they wish to follow along and experiment with some evaluation tools. \n 
URL:https://nycdh.org/dhweek/event/web-accessibility/
LOCATION:Pace University\, Babble Lab\, Rm. 202\, 41 Park Row\, New York\, NY\, 10038\, United States
CATEGORIES:Accessibility,Beginner,Intermediate
ORGANIZER;CN="Amy Wolfe":MAILTO:amy.wolfe@cuny.edu
END:VEVENT
END:VCALENDAR