BEGIN:VCALENDAR
VERSION:2.0
PRODID:-//NYCDH Week - ECPv6.15.17//NONSGML v1.0//EN
CALSCALE:GREGORIAN
METHOD:PUBLISH
X-WR-CALNAME:NYCDH Week
X-ORIGINAL-URL:https://nycdh.org/dhweek
X-WR-CALDESC:Events for NYCDH Week
REFRESH-INTERVAL;VALUE=DURATION:PT1H
X-Robots-Tag:noindex
X-PUBLISHED-TTL:PT1H
BEGIN:VTIMEZONE
TZID:America/New_York
BEGIN:DAYLIGHT
TZOFFSETFROM:-0500
TZOFFSETTO:-0400
TZNAME:EDT
DTSTART:20160313T070000
END:DAYLIGHT
BEGIN:STANDARD
TZOFFSETFROM:-0400
TZOFFSETTO:-0500
TZNAME:EST
DTSTART:20161106T060000
END:STANDARD
BEGIN:DAYLIGHT
TZOFFSETFROM:-0500
TZOFFSETTO:-0400
TZNAME:EDT
DTSTART:20170312T070000
END:DAYLIGHT
BEGIN:STANDARD
TZOFFSETFROM:-0400
TZOFFSETTO:-0500
TZNAME:EST
DTSTART:20171105T060000
END:STANDARD
BEGIN:DAYLIGHT
TZOFFSETFROM:-0500
TZOFFSETTO:-0400
TZNAME:EDT
DTSTART:20180311T070000
END:DAYLIGHT
BEGIN:STANDARD
TZOFFSETFROM:-0400
TZOFFSETTO:-0500
TZNAME:EST
DTSTART:20181104T060000
END:STANDARD
BEGIN:DAYLIGHT
TZOFFSETFROM:-0500
TZOFFSETTO:-0400
TZNAME:EDT
DTSTART:20190310T070000
END:DAYLIGHT
BEGIN:STANDARD
TZOFFSETFROM:-0400
TZOFFSETTO:-0500
TZNAME:EST
DTSTART:20191103T060000
END:STANDARD
BEGIN:DAYLIGHT
TZOFFSETFROM:-0500
TZOFFSETTO:-0400
TZNAME:EDT
DTSTART:20200308T070000
END:DAYLIGHT
BEGIN:STANDARD
TZOFFSETFROM:-0400
TZOFFSETTO:-0500
TZNAME:EST
DTSTART:20201101T060000
END:STANDARD
BEGIN:DAYLIGHT
TZOFFSETFROM:-0500
TZOFFSETTO:-0400
TZNAME:EDT
DTSTART:20210314T070000
END:DAYLIGHT
BEGIN:STANDARD
TZOFFSETFROM:-0400
TZOFFSETTO:-0500
TZNAME:EST
DTSTART:20211107T060000
END:STANDARD
BEGIN:DAYLIGHT
TZOFFSETFROM:-0500
TZOFFSETTO:-0400
TZNAME:EDT
DTSTART:20220313T070000
END:DAYLIGHT
BEGIN:STANDARD
TZOFFSETFROM:-0400
TZOFFSETTO:-0500
TZNAME:EST
DTSTART:20221106T060000
END:STANDARD
END:VTIMEZONE
BEGIN:VEVENT
DTSTART;TZID=America/New_York:20210212T180000
DTEND;TZID=America/New_York:20210212T200000
DTSTAMP:20260421T021142
CREATED:20210127T015000Z
LAST-MODIFIED:20210205T174155Z
UID:6118-1613152800-1613160000@nycdh.org
SUMMARY:NYCDH Karaoke
DESCRIPTION:Contribute your born-digital cultural output by singing your favorite songs with other NYCDHWeek participants – or support your colleagues and enjoy our musical productions! There are karaoke videos on YouTube for thousands of songs\, from the latest hits to the deepest cuts to the goldenest oldies – and we’ll take turns performing for each other. \nHere are tips for the optimal singing experience\, including how to configure your Zoom!  \nPrerequisites: none!! \nEquipment: Your voice! Sense of rhythm\, pitch\, and tone optional but recommended. It also helps to have a wireless headset.
URL:https://nycdh.org/dhweek/event/nycdh-karaoke/
LOCATION:Virtual\, NY\, United States
CATEGORIES:2021,All Levels,Entertainment,homefeature,Karaoke,Music,Song
ORGANIZER;CN="Angus Grieve-Smith":MAILTO:angus@grieve-smith.com
END:VEVENT
BEGIN:VEVENT
DTSTART;TZID=America/New_York:20170207T080000
DTEND;TZID=America/New_York:20170207T100000
DTSTAMP:20260421T021142
CREATED:20170111T235016Z
LAST-MODIFIED:20170112T011953Z
UID:358-1486454400-1486461600@nycdh.org
SUMMARY:Sampling for the Digital Humanities
DESCRIPTION:Do you have a huge archive to analyze? Do you want to find trends in a large data set? Are your methods time-consuming and difficult to automate? Sampling may be the answer! Learn how sampling can save you time and energy\, why representative sampling matters\, how to pick random subsets of your data\, and how to test if your sample is big enough to generalize! \nSkill Level\nIntermediate \nPrerequisites\nNone \nEquipment Requirements\nNone\, laptop and data if available
URL:https://nycdh.org/dhweek/event/sampling-for-the-digital-humanities/
LOCATION:NYU XE: Experimental Humanities and Social Enagement\, Conference Room\, 24 E 8th St.\, New York\, NY\, 10003\, United States
CATEGORIES:Intermediate,Statistics,Visualization
ORGANIZER;CN="Angus Grieve-Smith":MAILTO:angus@grieve-smith.com
GEO:40.73169;-73.995173
X-APPLE-STRUCTURED-LOCATION;VALUE=URI;X-ADDRESS=NYU XE: Experimental Humanities and Social Enagement Conference Room 24 E 8th St. New York NY 10003 United States;X-APPLE-RADIUS=500;X-TITLE=24 E 8th St.:geo:-73.995173,40.73169
END:VEVENT
END:VCALENDAR