BEGIN:VCALENDAR
VERSION:2.0
PRODID:-//NYCDH Week - ECPv6.15.17//NONSGML v1.0//EN
CALSCALE:GREGORIAN
METHOD:PUBLISH
X-ORIGINAL-URL:https://nycdh.org/dhweek
X-WR-CALDESC:Events for NYCDH Week
REFRESH-INTERVAL;VALUE=DURATION:PT1H
X-Robots-Tag:noindex
X-PUBLISHED-TTL:PT1H
BEGIN:VTIMEZONE
TZID:America/New_York
BEGIN:DAYLIGHT
TZOFFSETFROM:-0500
TZOFFSETTO:-0400
TZNAME:EDT
DTSTART:20170312T070000
END:DAYLIGHT
BEGIN:STANDARD
TZOFFSETFROM:-0400
TZOFFSETTO:-0500
TZNAME:EST
DTSTART:20171105T060000
END:STANDARD
BEGIN:DAYLIGHT
TZOFFSETFROM:-0500
TZOFFSETTO:-0400
TZNAME:EDT
DTSTART:20180311T070000
END:DAYLIGHT
BEGIN:STANDARD
TZOFFSETFROM:-0400
TZOFFSETTO:-0500
TZNAME:EST
DTSTART:20181104T060000
END:STANDARD
BEGIN:DAYLIGHT
TZOFFSETFROM:-0500
TZOFFSETTO:-0400
TZNAME:EDT
DTSTART:20190310T070000
END:DAYLIGHT
BEGIN:STANDARD
TZOFFSETFROM:-0400
TZOFFSETTO:-0500
TZNAME:EST
DTSTART:20191103T060000
END:STANDARD
END:VTIMEZONE
BEGIN:VEVENT
DTSTART;TZID=America/New_York:20180208T090000
DTEND;TZID=America/New_York:20180208T110000
DTSTAMP:20260421T072759
CREATED:20180118T200518Z
LAST-MODIFIED:20180207T172116Z
UID:1589-1518080400-1518087600@nycdh.org
SUMMARY:How to Make Your Humanities Course More Digital: The Syllabus Re-design
DESCRIPTION:One of the most valuable tools in any course is the syllabus as it establishes the first connection between teachers and students\, which also means the syllabus can set the course tone and create the impression of whether the course will a success or failure. A good\, concise syllabus can answer many of the initial questions students may have as well as lessen anxieties felt by students. The power of the syllabus cannot be understated\, which is why the principles of syllabus design require exploration and discovery. \nIn the age of digitizing of almost every aspect of our lives it is important to pay attention to how we approach teaching Humanities courses. By exploring the consequences of integrating the infocommunication technologies into social media\, politics\, economics and social life we could create a fruitful DH course syllabus by re-designing an existed one. \nHow to make your Humanities course more digital? What platform to choose for communicating with your students? How to adjust the tasks to make them more effective and productive for your class? \nBy the end of this task-based learning workshop\, participants will not only have learned the core principles of re-designing the Humanities course syllabus\, but will have been provided by a vital supplementary pedagogical training to make the existed Humanities course more digital. \nLEVEL: Beginners\nNOTES: N/A
URL:https://nycdh.org/dhweek/event/how-to-make-your-humanities-course-more-digital-the-syllabus-re-design/
LOCATION:NYU XE: Experimental Humanities and Social Enagement\, Conference Room\, 24 E 8th St.\, New York\, NY\, 10003\, United States
CATEGORIES:Beginner,Pedagogy
ORGANIZER;CN="Antonina A. Puchkovskaia":MAILTO:artonina@gmail.com
GEO:40.73169;-73.995173
X-APPLE-STRUCTURED-LOCATION;VALUE=URI;X-ADDRESS=NYU XE: Experimental Humanities and Social Enagement Conference Room 24 E 8th St. New York NY 10003 United States;X-APPLE-RADIUS=500;X-TITLE=24 E 8th St.:geo:-73.995173,40.73169
END:VEVENT
END:VCALENDAR