BEGIN:VCALENDAR
VERSION:2.0
PRODID:-//NYCDH Week - ECPv6.15.17//NONSGML v1.0//EN
CALSCALE:GREGORIAN
METHOD:PUBLISH
X-WR-CALNAME:NYCDH Week
X-ORIGINAL-URL:https://nycdh.org/dhweek
X-WR-CALDESC:Events for NYCDH Week
REFRESH-INTERVAL;VALUE=DURATION:PT1H
X-Robots-Tag:noindex
X-PUBLISHED-TTL:PT1H
BEGIN:VTIMEZONE
TZID:America/New_York
BEGIN:DAYLIGHT
TZOFFSETFROM:-0500
TZOFFSETTO:-0400
TZNAME:EDT
DTSTART:20180311T070000
END:DAYLIGHT
BEGIN:STANDARD
TZOFFSETFROM:-0400
TZOFFSETTO:-0500
TZNAME:EST
DTSTART:20181104T060000
END:STANDARD
BEGIN:DAYLIGHT
TZOFFSETFROM:-0500
TZOFFSETTO:-0400
TZNAME:EDT
DTSTART:20190310T070000
END:DAYLIGHT
BEGIN:STANDARD
TZOFFSETFROM:-0400
TZOFFSETTO:-0500
TZNAME:EST
DTSTART:20191103T060000
END:STANDARD
BEGIN:DAYLIGHT
TZOFFSETFROM:-0500
TZOFFSETTO:-0400
TZNAME:EDT
DTSTART:20200308T070000
END:DAYLIGHT
BEGIN:STANDARD
TZOFFSETFROM:-0400
TZOFFSETTO:-0500
TZNAME:EST
DTSTART:20201101T060000
END:STANDARD
END:VTIMEZONE
BEGIN:VEVENT
DTSTART;TZID=America/New_York:20190208T110000
DTEND;TZID=America/New_York:20190208T123000
DTSTAMP:20260421T021158
CREATED:20190120T174050Z
LAST-MODIFIED:20190129T153136Z
UID:2591-1549623600-1549629000@nycdh.org
SUMMARY:Digital Without Tears: Great (and Easy!) DH Tools for Teaching & Learning
DESCRIPTION:Curious to get started with Digital Humanities tools in the classroom but concerned about the learning curve? Afraid that you need to be a coder to do DH? Fear not\, there are tons of easy-to-use tools for creating DH projects\, including timelines\, interactive maps\, websites and more—no coding required. This workshop will introduce participants to over half a dozen free (and mostly open-source) tools that can be learned in minutes to spice up pedagogy or enhance current scholarship. \nPlease register for this event at the following link: https://nyu.libcal.com/event/4873861
URL:https://nycdh.org/dhweek/event/digital-without-tears-great-and-easy-dh-tools-for-teaching-learning/
LOCATION:Bobst Library\, NYU\, Room 619\, 70 Washington Square S\, New York\, NY\, 10012\, United States
CATEGORIES:Beginner,Digital Humanities,Mapping,Pedagogy
ORGANIZER;CN="Ashley Maynor":MAILTO:ashley.maynor@nyu.edu
GEO:40.7294345;-73.9972124
X-APPLE-STRUCTURED-LOCATION;VALUE=URI;X-ADDRESS=Bobst Library NYU Room 619 70 Washington Square S New York NY 10012 United States;X-APPLE-RADIUS=500;X-TITLE=70 Washington Square S:geo:-73.9972124,40.7294345
END:VEVENT
END:VCALENDAR