BEGIN:VCALENDAR
VERSION:2.0
PRODID:-//NYCDH Week - ECPv6.15.17//NONSGML v1.0//EN
CALSCALE:GREGORIAN
METHOD:PUBLISH
X-ORIGINAL-URL:https://nycdh.org/dhweek
X-WR-CALDESC:Events for NYCDH Week
REFRESH-INTERVAL;VALUE=DURATION:PT1H
X-Robots-Tag:noindex
X-PUBLISHED-TTL:PT1H
BEGIN:VTIMEZONE
TZID:America/New_York
BEGIN:DAYLIGHT
TZOFFSETFROM:-0500
TZOFFSETTO:-0400
TZNAME:EDT
DTSTART:20210314T070000
END:DAYLIGHT
BEGIN:STANDARD
TZOFFSETFROM:-0400
TZOFFSETTO:-0500
TZNAME:EST
DTSTART:20211107T060000
END:STANDARD
BEGIN:DAYLIGHT
TZOFFSETFROM:-0500
TZOFFSETTO:-0400
TZNAME:EDT
DTSTART:20220313T070000
END:DAYLIGHT
BEGIN:STANDARD
TZOFFSETFROM:-0400
TZOFFSETTO:-0500
TZNAME:EST
DTSTART:20221106T060000
END:STANDARD
BEGIN:DAYLIGHT
TZOFFSETFROM:-0500
TZOFFSETTO:-0400
TZNAME:EDT
DTSTART:20230312T070000
END:DAYLIGHT
BEGIN:STANDARD
TZOFFSETFROM:-0400
TZOFFSETTO:-0500
TZNAME:EST
DTSTART:20231105T060000
END:STANDARD
END:VTIMEZONE
BEGIN:VEVENT
DTSTART;TZID=America/New_York:20220209T170000
DTEND;TZID=America/New_York:20220209T190000
DTSTAMP:20260421T034719
CREATED:20220125T211452Z
LAST-MODIFIED:20220126T012845Z
UID:6974-1644426000-1644433200@nycdh.org
SUMMARY:Digitalizing the Classroom: The Way Forward.
DESCRIPTION:Since the emergency online transition in March 2020\, teachers have been gathering in strong communities to support each other exploring a plethora of theories (and praxis) on digital pedagogical tools. How effective were these in creating equally great students’ communities and fostering their engagement in classrooms? Back to a new normal in the Fall 2021\, which pedagogical tools and techniques used when fully only online were still effective in the hybrid and in person instructions? What is the future of digital pedagogies in our constantly evolving classrooms with an increasing/decreasing interest of our students towards the digitalization of education?
URL:https://nycdh.org/dhweek/event/digitalizing-the-classroom-the-way-forward/
LOCATION:Online\, New York\, NY\, United States
CATEGORIES:2022,All Levels,Pedagogy,Workshop
ORGANIZER;CN="Blondie Natacha L.N.E. Pawa":MAILTO:bpawa@gradcenter.cuny.edu
END:VEVENT
END:VCALENDAR