BEGIN:VCALENDAR
VERSION:2.0
PRODID:-//NYCDH Week - ECPv6.15.17//NONSGML v1.0//EN
CALSCALE:GREGORIAN
METHOD:PUBLISH
X-WR-CALNAME:NYCDH Week
X-ORIGINAL-URL:https://nycdh.org/dhweek
X-WR-CALDESC:Events for NYCDH Week
REFRESH-INTERVAL;VALUE=DURATION:PT1H
X-Robots-Tag:noindex
X-PUBLISHED-TTL:PT1H
BEGIN:VTIMEZONE
TZID:America/New_York
BEGIN:DAYLIGHT
TZOFFSETFROM:-0500
TZOFFSETTO:-0400
TZNAME:EDT
DTSTART:20190310T070000
END:DAYLIGHT
BEGIN:STANDARD
TZOFFSETFROM:-0400
TZOFFSETTO:-0500
TZNAME:EST
DTSTART:20191103T060000
END:STANDARD
BEGIN:DAYLIGHT
TZOFFSETFROM:-0500
TZOFFSETTO:-0400
TZNAME:EDT
DTSTART:20200308T070000
END:DAYLIGHT
BEGIN:STANDARD
TZOFFSETFROM:-0400
TZOFFSETTO:-0500
TZNAME:EST
DTSTART:20201101T060000
END:STANDARD
BEGIN:DAYLIGHT
TZOFFSETFROM:-0500
TZOFFSETTO:-0400
TZNAME:EDT
DTSTART:20210314T070000
END:DAYLIGHT
BEGIN:STANDARD
TZOFFSETFROM:-0400
TZOFFSETTO:-0500
TZNAME:EST
DTSTART:20211107T060000
END:STANDARD
END:VTIMEZONE
BEGIN:VEVENT
DTSTART;TZID=America/New_York:20200205T100000
DTEND;TZID=America/New_York:20200205T120000
DTSTAMP:20260420T220851
CREATED:20200123T185425Z
LAST-MODIFIED:20200128T184637Z
UID:4240-1580896800-1580904000@nycdh.org
SUMMARY:Text as Data in the Humanities
DESCRIPTION:An introduction to computational text analysis for literature with basic introduction to software packages. This workshop is a primer for working with text as data in the humanities. This workshop will cover: gathering text corpora\, data cleaning\, an introduction to some computational software tools\, reading the output and analysis of topic modeling and cluster analysis\, and a general overview of common questions asked in computational literary studies. \nTo register for this event please use the following link: https://nyu.libcal.com/event/6431701
URL:https://nycdh.org/dhweek/event/text-as-data-in-the-humanities-2/
LOCATION:Bobst Library\, NYU\, Room 617\, 70 Washington Square South\, New York\, NY\, 10012\, United States
CATEGORIES:Data Management,Text Analysis
ORGANIZER;CN="Casey Hampsey":MAILTO:ch3080@nyu.edu
GEO:40.7294345;-73.9972124
X-APPLE-STRUCTURED-LOCATION;VALUE=URI;X-ADDRESS=Bobst Library NYU Room 617 70 Washington Square South New York NY 10012 United States;X-APPLE-RADIUS=500;X-TITLE=70 Washington Square South:geo:-73.9972124,40.7294345
END:VEVENT
END:VCALENDAR