BEGIN:VCALENDAR
VERSION:2.0
PRODID:-//NYCDH Week - ECPv6.15.17//NONSGML v1.0//EN
CALSCALE:GREGORIAN
METHOD:PUBLISH
X-ORIGINAL-URL:https://nycdh.org/dhweek
X-WR-CALDESC:Events for NYCDH Week
REFRESH-INTERVAL;VALUE=DURATION:PT1H
X-Robots-Tag:noindex
X-PUBLISHED-TTL:PT1H
BEGIN:VTIMEZONE
TZID:America/New_York
BEGIN:DAYLIGHT
TZOFFSETFROM:-0500
TZOFFSETTO:-0400
TZNAME:EDT
DTSTART:20150308T070000
END:DAYLIGHT
BEGIN:STANDARD
TZOFFSETFROM:-0400
TZOFFSETTO:-0500
TZNAME:EST
DTSTART:20151101T060000
END:STANDARD
BEGIN:DAYLIGHT
TZOFFSETFROM:-0500
TZOFFSETTO:-0400
TZNAME:EDT
DTSTART:20160313T070000
END:DAYLIGHT
BEGIN:STANDARD
TZOFFSETFROM:-0400
TZOFFSETTO:-0500
TZNAME:EST
DTSTART:20161106T060000
END:STANDARD
BEGIN:DAYLIGHT
TZOFFSETFROM:-0500
TZOFFSETTO:-0400
TZNAME:EDT
DTSTART:20170312T070000
END:DAYLIGHT
BEGIN:STANDARD
TZOFFSETFROM:-0400
TZOFFSETTO:-0500
TZNAME:EST
DTSTART:20171105T060000
END:STANDARD
BEGIN:DAYLIGHT
TZOFFSETFROM:-0500
TZOFFSETTO:-0400
TZNAME:EDT
DTSTART:20180311T070000
END:DAYLIGHT
BEGIN:STANDARD
TZOFFSETFROM:-0400
TZOFFSETTO:-0500
TZNAME:EST
DTSTART:20181104T060000
END:STANDARD
BEGIN:DAYLIGHT
TZOFFSETFROM:-0500
TZOFFSETTO:-0400
TZNAME:EDT
DTSTART:20190310T070000
END:DAYLIGHT
BEGIN:STANDARD
TZOFFSETFROM:-0400
TZOFFSETTO:-0500
TZNAME:EST
DTSTART:20191103T060000
END:STANDARD
BEGIN:DAYLIGHT
TZOFFSETFROM:-0500
TZOFFSETTO:-0400
TZNAME:EDT
DTSTART:20200308T070000
END:DAYLIGHT
BEGIN:STANDARD
TZOFFSETFROM:-0400
TZOFFSETTO:-0500
TZNAME:EST
DTSTART:20201101T060000
END:STANDARD
BEGIN:DAYLIGHT
TZOFFSETFROM:-0500
TZOFFSETTO:-0400
TZNAME:EDT
DTSTART:20210314T070000
END:DAYLIGHT
BEGIN:STANDARD
TZOFFSETFROM:-0400
TZOFFSETTO:-0500
TZNAME:EST
DTSTART:20211107T060000
END:STANDARD
END:VTIMEZONE
BEGIN:VEVENT
DTSTART;TZID=America/New_York:20200206T130000
DTEND;TZID=America/New_York:20200206T150000
DTSTAMP:20260420T222338
CREATED:20200117T152027Z
LAST-MODIFIED:20200117T152111Z
UID:3986-1580994000-1581001200@nycdh.org
SUMMARY:Intro to Networks
DESCRIPTION:This workshop will introduce participants to designing a network study\, including data collection\, analysis\, and visualization. After an overview of network studies in the humanities\, students will get hands on experience using Gephi\, a free and open source software for network analysis and visualization. Attendees can bring their own data\, or sample data will be provided. \nEquipment Requirements: Laptop with current version of Gephi installed
URL:https://nycdh.org/dhweek/event/intro-to-networks-4/
LOCATION:Pratt Manhattan Center\, Room 609\, 144 West 14th\, New York\, NY\, 10011\, United States
CATEGORIES:Beginner,Gephi,Networks,Visualization
ORGANIZER;CN="Chris Sula":MAILTO:csula@pratt.edu
GEO:40.7380726;-73.9989803
X-APPLE-STRUCTURED-LOCATION;VALUE=URI;X-ADDRESS=Pratt Manhattan Center Room 609 144 West 14th New York NY 10011 United States;X-APPLE-RADIUS=500;X-TITLE=144 West 14th:geo:-73.9989803,40.7380726
END:VEVENT
BEGIN:VEVENT
DTSTART;TZID=America/New_York:20190207T100000
DTEND;TZID=America/New_York:20190207T120000
DTSTAMP:20260420T222338
CREATED:20190120T185105Z
LAST-MODIFIED:20190124T034352Z
UID:2627-1549533600-1549540800@nycdh.org
SUMMARY:Intro to Networks
DESCRIPTION:This workshop will introduce participants to designing a network study\, including data collection\, analysis\, and visualization. After an overview of network studies in the humanities\, students will get hands on experience using Gephi\, a free and open source software for network analysis and visualization. \nRequirements: Attendees should bring a laptop with Gephi installed.
URL:https://nycdh.org/dhweek/event/intro-to-networks-3/
LOCATION:School of Information\, Pratt Institute\, Room 609\, Pratt Institute\, School of Information\, 144 W 14th Street\, New York\, NY 10011\, Room 609
CATEGORIES:Beginner,Networks,Visualization
ORGANIZER;CN="Chris Sula":MAILTO:csula@pratt.edu
END:VEVENT
BEGIN:VEVENT
DTSTART;TZID=America/New_York:20180207T100000
DTEND;TZID=America/New_York:20180207T120000
DTSTAMP:20260420T222338
CREATED:20180118T203902Z
LAST-MODIFIED:20180125T184239Z
UID:1618-1517997600-1518004800@nycdh.org
SUMMARY:Introduction to Networks
DESCRIPTION:This workshop will introduce participants to designing a network study\, including data collection\, analysis\, and visualization. After an overview of network studies in the humanities\, students will get hands on experience using Gephi\, a free and open source software for network analysis and visualization. \nLEVEL: Beginner\nNOTES: Laptop with Gephi installed
URL:https://nycdh.org/dhweek/event/intro-to-networks-2/
LOCATION:Pratt Manhattan Center\, Room 609\, 144 West 14th\, New York\, NY\, 10011\, United States
CATEGORIES:Beginner,Networks,Visualization
ORGANIZER;CN="Chris Sula":MAILTO:csula@pratt.edu
GEO:40.7380726;-73.9989803
X-APPLE-STRUCTURED-LOCATION;VALUE=URI;X-ADDRESS=Pratt Manhattan Center Room 609 144 West 14th New York NY 10011 United States;X-APPLE-RADIUS=500;X-TITLE=144 West 14th:geo:-73.9989803,40.7380726
END:VEVENT
BEGIN:VEVENT
DTSTART;TZID=America/New_York:20170208T050000
DTEND;TZID=America/New_York:20170208T070000
DTSTAMP:20260420T222338
CREATED:20170111T232824Z
LAST-MODIFIED:20170112T011409Z
UID:336-1486530000-1486537200@nycdh.org
SUMMARY:Intro to Networks
DESCRIPTION:This workshop will introduce participants to designing a network study\, including data collection\, analysis\, and visualization. After an overview of network studies in the humanities\, students will get hands on experience using Gephi\, a free and open source software for network analysis and visualization. \nSkill Level\nBeginner \nPrerequisites\nNone \nEquipment Requirements\nLaptop with Gephi installed
URL:https://nycdh.org/dhweek/event/intro-to-networks/
LOCATION:Pratt Manhattan Center\, Room 606\, 144 West 14th\, New York\, NY\, 10011\, United States
CATEGORIES:Beginner,Networks
ORGANIZER;CN="Chris Sula":MAILTO:csula@pratt.edu
GEO:40.7380726;-73.9989803
X-APPLE-STRUCTURED-LOCATION;VALUE=URI;X-ADDRESS=Pratt Manhattan Center Room 606 144 West 14th New York NY 10011 United States;X-APPLE-RADIUS=500;X-TITLE=144 West 14th:geo:-73.9989803,40.7380726
END:VEVENT
BEGIN:VEVENT
DTSTART;TZID=America/New_York:20160210T050000
DTEND;TZID=America/New_York:20160210T080000
DTSTAMP:20260420T222338
CREATED:20151208T213347Z
LAST-MODIFIED:20161122T221334Z
UID:71-1455080400-1455091200@nycdh.org
SUMMARY:Introduction to Networks
DESCRIPTION:This workshop will introduce participants to designing a network study\, including data collection\, analysis\, and visualization. After an overview of network studies in the humanities\, students will get hands on experience using Gephi\, a free and open source software for network analysis and visualization. \n\nPCs will be provided\, or bring a laptop with Gephi 0.8.2.\nLocation: Pratt Institute School of Information\, 144 W 14th Street\, Room 606\n\n  \n 
URL:https://nycdh.org/dhweek/event/introduction-to-networks/
LOCATION:School of Information\, Pratt Institute\, Room 609\, Pratt Institute\, School of Information\, 144 W 14th Street\, New York\, NY 10011\, Room 609
CATEGORIES:Beginner,Networks
ORGANIZER;CN="Chris Sula":MAILTO:csula@pratt.edu
END:VEVENT
END:VCALENDAR