BEGIN:VCALENDAR
VERSION:2.0
PRODID:-//NYCDH Week - ECPv6.15.17//NONSGML v1.0//EN
CALSCALE:GREGORIAN
METHOD:PUBLISH
X-ORIGINAL-URL:https://nycdh.org/dhweek
X-WR-CALDESC:Events for NYCDH Week
REFRESH-INTERVAL;VALUE=DURATION:PT1H
X-Robots-Tag:noindex
X-PUBLISHED-TTL:PT1H
BEGIN:VTIMEZONE
TZID:America/New_York
BEGIN:DAYLIGHT
TZOFFSETFROM:-0500
TZOFFSETTO:-0400
TZNAME:EDT
DTSTART:20210314T070000
END:DAYLIGHT
BEGIN:STANDARD
TZOFFSETFROM:-0400
TZOFFSETTO:-0500
TZNAME:EST
DTSTART:20211107T060000
END:STANDARD
BEGIN:DAYLIGHT
TZOFFSETFROM:-0500
TZOFFSETTO:-0400
TZNAME:EDT
DTSTART:20220313T070000
END:DAYLIGHT
BEGIN:STANDARD
TZOFFSETFROM:-0400
TZOFFSETTO:-0500
TZNAME:EST
DTSTART:20221106T060000
END:STANDARD
BEGIN:DAYLIGHT
TZOFFSETFROM:-0500
TZOFFSETTO:-0400
TZNAME:EDT
DTSTART:20230312T070000
END:DAYLIGHT
BEGIN:STANDARD
TZOFFSETFROM:-0400
TZOFFSETTO:-0500
TZNAME:EST
DTSTART:20231105T060000
END:STANDARD
END:VTIMEZONE
BEGIN:VEVENT
DTSTART;TZID=America/New_York:20220208T130000
DTEND;TZID=America/New_York:20220208T150000
DTSTAMP:20260421T003605
CREATED:20220125T210356Z
LAST-MODIFIED:20220126T011746Z
UID:6949-1644325200-1644332400@nycdh.org
SUMMARY:Diamond Printers' Marks Reboot with Omeka and StoryMaps
DESCRIPTION:It is possible in a short space of time\, and spending no money\, to transform a dormant collection of photographs into a meaningful archive and a dramatic presentation using the platforms Omeka and StoryMaps. The process will be presented\, as well as the products.
URL:https://nycdh.org/dhweek/event/diamond-printers-marks-reboot-with-omeka-and-storymaps/
LOCATION:Online\, New York\, NY\, United States
CATEGORIES:2022,Archive,Beginner,Demonstration,Mapping
ORGANIZER;CN="Emily Fairey":MAILTO:emily.fairey86@brooklyn.cuny.edu
END:VEVENT
END:VCALENDAR