BEGIN:VCALENDAR
VERSION:2.0
PRODID:-//NYCDH Week - ECPv6.15.17//NONSGML v1.0//EN
CALSCALE:GREGORIAN
METHOD:PUBLISH
X-WR-CALNAME:NYCDH Week
X-ORIGINAL-URL:https://nycdh.org/dhweek
X-WR-CALDESC:Events for NYCDH Week
REFRESH-INTERVAL;VALUE=DURATION:PT1H
X-Robots-Tag:noindex
X-PUBLISHED-TTL:PT1H
BEGIN:VTIMEZONE
TZID:America/New_York
BEGIN:DAYLIGHT
TZOFFSETFROM:-0500
TZOFFSETTO:-0400
TZNAME:EDT
DTSTART:20160313T070000
END:DAYLIGHT
BEGIN:STANDARD
TZOFFSETFROM:-0400
TZOFFSETTO:-0500
TZNAME:EST
DTSTART:20161106T060000
END:STANDARD
BEGIN:DAYLIGHT
TZOFFSETFROM:-0500
TZOFFSETTO:-0400
TZNAME:EDT
DTSTART:20170312T070000
END:DAYLIGHT
BEGIN:STANDARD
TZOFFSETFROM:-0400
TZOFFSETTO:-0500
TZNAME:EST
DTSTART:20171105T060000
END:STANDARD
BEGIN:DAYLIGHT
TZOFFSETFROM:-0500
TZOFFSETTO:-0400
TZNAME:EDT
DTSTART:20180311T070000
END:DAYLIGHT
BEGIN:STANDARD
TZOFFSETFROM:-0400
TZOFFSETTO:-0500
TZNAME:EST
DTSTART:20181104T060000
END:STANDARD
END:VTIMEZONE
BEGIN:VEVENT
DTSTART;TZID=America/New_York:20170209T130000
DTEND;TZID=America/New_York:20170209T160000
DTSTAMP:20260421T004416
CREATED:20170115T085851Z
LAST-MODIFIED:20170115T085851Z
UID:635-1486645200-1486656000@nycdh.org
SUMMARY:Dealing with Messy Data using Open Refine and other tools
DESCRIPTION:The raw data received or compiled for an analysis project is often messy\, inconsistent\, or in the wrong format. Learn how to use Google Open Refine and Microsoft Excel to transform data into the structure you need to conduct analysis and successfully complete your project. \nSkill Level\nBeginner \nPrerequisites\nNone \nEquipment Requirements\nLaptop with Open Refine installed
URL:https://nycdh.org/dhweek/event/dealing-with-messy-data-using-open-refine-and-other-tools/
LOCATION:Pratt Manhattan Center\, Room 612\, 144 West 14th\, New York\, NY\, 10011\, United States
CATEGORIES:Beginner,Data Management,Editing
ORGANIZER;CN="Heather Seminelli":MAILTO:heather.seminelli@usma.edu
GEO:40.7380726;-73.9989803
X-APPLE-STRUCTURED-LOCATION;VALUE=URI;X-ADDRESS=Pratt Manhattan Center Room 612 144 West 14th New York NY 10011 United States;X-APPLE-RADIUS=500;X-TITLE=144 West 14th:geo:-73.9989803,40.7380726
END:VEVENT
END:VCALENDAR