BEGIN:VCALENDAR
VERSION:2.0
PRODID:-//NYCDH Week - ECPv6.15.17//NONSGML v1.0//EN
CALSCALE:GREGORIAN
METHOD:PUBLISH
X-ORIGINAL-URL:https://nycdh.org/dhweek
X-WR-CALDESC:Events for NYCDH Week
REFRESH-INTERVAL;VALUE=DURATION:PT1H
X-Robots-Tag:noindex
X-PUBLISHED-TTL:PT1H
BEGIN:VTIMEZONE
TZID:America/New_York
BEGIN:DAYLIGHT
TZOFFSETFROM:-0500
TZOFFSETTO:-0400
TZNAME:EDT
DTSTART:20150308T070000
END:DAYLIGHT
BEGIN:STANDARD
TZOFFSETFROM:-0400
TZOFFSETTO:-0500
TZNAME:EST
DTSTART:20151101T060000
END:STANDARD
BEGIN:DAYLIGHT
TZOFFSETFROM:-0500
TZOFFSETTO:-0400
TZNAME:EDT
DTSTART:20160313T070000
END:DAYLIGHT
BEGIN:STANDARD
TZOFFSETFROM:-0400
TZOFFSETTO:-0500
TZNAME:EST
DTSTART:20161106T060000
END:STANDARD
BEGIN:DAYLIGHT
TZOFFSETFROM:-0500
TZOFFSETTO:-0400
TZNAME:EDT
DTSTART:20170312T070000
END:DAYLIGHT
BEGIN:STANDARD
TZOFFSETFROM:-0400
TZOFFSETTO:-0500
TZNAME:EST
DTSTART:20171105T060000
END:STANDARD
END:VTIMEZONE
BEGIN:VEVENT
DTSTART;TZID=America/New_York:20160208T100000
DTEND;TZID=America/New_York:20160208T120000
DTSTAMP:20260423T083347
CREATED:20160120T205001Z
LAST-MODIFIED:20160121T045756Z
UID:145-1454925600-1454932800@nycdh.org
SUMMARY:Book digitization and post-processing
DESCRIPTION:This workshop will cover the basics of both destructive (spine removal) and non-destructive (camera-based) book scanning as well as postprocessing of page images with ScanTailor and finally binding processed images into searchable pdfs. All software used will be FOSS. We will also discuss FOSS pdf manipulation and image conversion tools that will enable participants to take existing document scans\, eg copy packet pdfs\, and re-process them using the same post-processing tools.
URL:https://nycdh.org/dhweek/event/book-digitization-and-post-processing/
LOCATION:Language Resource Center (Columbia University)\, 420 West 118th Street\, New York\, NY 10027\, 10027
CATEGORIES:Beginner,Digitization,Intermediate
ORGANIZER;CN="Ian Sullivan":MAILTO:ian.sullivan@columbia.edu
GEO:40.8077432;-73.9597206
X-APPLE-STRUCTURED-LOCATION;VALUE=URI;X-ADDRESS=Language Resource Center (Columbia University) 420 West 118th Street New York NY 10027 10027;X-APPLE-RADIUS=500;X-TITLE=420 West 118th Street:geo:-73.9597206,40.8077432
END:VEVENT
END:VCALENDAR