BEGIN:VCALENDAR
VERSION:2.0
PRODID:-//NYCDH Week - ECPv6.15.17//NONSGML v1.0//EN
CALSCALE:GREGORIAN
METHOD:PUBLISH
X-WR-CALNAME:NYCDH Week
X-ORIGINAL-URL:https://nycdh.org/dhweek
X-WR-CALDESC:Events for NYCDH Week
REFRESH-INTERVAL;VALUE=DURATION:PT1H
X-Robots-Tag:noindex
X-PUBLISHED-TTL:PT1H
BEGIN:VTIMEZONE
TZID:America/New_York
BEGIN:DAYLIGHT
TZOFFSETFROM:-0500
TZOFFSETTO:-0400
TZNAME:EDT
DTSTART:20210314T070000
END:DAYLIGHT
BEGIN:STANDARD
TZOFFSETFROM:-0400
TZOFFSETTO:-0500
TZNAME:EST
DTSTART:20211107T060000
END:STANDARD
BEGIN:DAYLIGHT
TZOFFSETFROM:-0500
TZOFFSETTO:-0400
TZNAME:EDT
DTSTART:20220313T070000
END:DAYLIGHT
BEGIN:STANDARD
TZOFFSETFROM:-0400
TZOFFSETTO:-0500
TZNAME:EST
DTSTART:20221106T060000
END:STANDARD
BEGIN:DAYLIGHT
TZOFFSETFROM:-0500
TZOFFSETTO:-0400
TZNAME:EDT
DTSTART:20230312T070000
END:DAYLIGHT
BEGIN:STANDARD
TZOFFSETFROM:-0400
TZOFFSETTO:-0500
TZNAME:EST
DTSTART:20231105T060000
END:STANDARD
END:VTIMEZONE
BEGIN:VEVENT
DTSTART;TZID=America/New_York:20220208T100000
DTEND;TZID=America/New_York:20220208T120000
DTSTAMP:20260421T021153
CREATED:20220125T205009Z
LAST-MODIFIED:20220127T224421Z
UID:6923-1644314400-1644321600@nycdh.org
SUMMARY:The Oracle for Transfeminist Technologies
DESCRIPTION:We need more spaces to practice what adrienne maree brown calls “radical imagination\,” especially in digital humanities. In this session\, we’ll be playing with The Oracle for Transfeminist Technologies deck (https://www.transfeministech.codingrights.org/) and collectively imagining responses that bring us closer to liberation and each other. “The wisdom of the Oracle\, embedded with transfeminist values\,” the deck’s instructions tell us\, “will help us foresee a future where technologies are designed by people who are too often excluded from or targeted by technology in today’s world.” In breakout rooms\, small groups will collaborate to redesign quotidian objects and imagine a more just future.
URL:https://nycdh.org/dhweek/event/the-oracle-for-transfeminist-technologies/
LOCATION:Online\, New York\, NY\, United States
CATEGORIES:2022,Event
ORGANIZER;CN="Alicia Peaker":MAILTO:apeaker@barnard.edu
END:VEVENT
END:VCALENDAR