BEGIN:VCALENDAR
VERSION:2.0
PRODID:-//NYCDH Week - ECPv6.15.17//NONSGML v1.0//EN
CALSCALE:GREGORIAN
METHOD:PUBLISH
X-WR-CALNAME:NYCDH Week
X-ORIGINAL-URL:https://nycdh.org/dhweek
X-WR-CALDESC:Events for NYCDH Week
REFRESH-INTERVAL;VALUE=DURATION:PT1H
X-Robots-Tag:noindex
X-PUBLISHED-TTL:PT1H
BEGIN:VTIMEZONE
TZID:America/New_York
BEGIN:DAYLIGHT
TZOFFSETFROM:-0500
TZOFFSETTO:-0400
TZNAME:EDT
DTSTART:20150308T070000
END:DAYLIGHT
BEGIN:STANDARD
TZOFFSETFROM:-0400
TZOFFSETTO:-0500
TZNAME:EST
DTSTART:20151101T060000
END:STANDARD
BEGIN:DAYLIGHT
TZOFFSETFROM:-0500
TZOFFSETTO:-0400
TZNAME:EDT
DTSTART:20160313T070000
END:DAYLIGHT
BEGIN:STANDARD
TZOFFSETFROM:-0400
TZOFFSETTO:-0500
TZNAME:EST
DTSTART:20161106T060000
END:STANDARD
BEGIN:DAYLIGHT
TZOFFSETFROM:-0500
TZOFFSETTO:-0400
TZNAME:EDT
DTSTART:20170312T070000
END:DAYLIGHT
BEGIN:STANDARD
TZOFFSETFROM:-0400
TZOFFSETTO:-0500
TZNAME:EST
DTSTART:20171105T060000
END:STANDARD
END:VTIMEZONE
BEGIN:VEVENT
DTSTART;TZID=America/New_York:20160212T090000
DTEND;TZID=America/New_York:20160212T110000
DTSTAMP:20260423T084442
CREATED:20151208T213438Z
LAST-MODIFIED:20161122T220629Z
UID:72-1455267600-1455274800@nycdh.org
SUMMARY:Raspberry Pi
DESCRIPTION:An introduction to the hardware & software of the Raspberry Pi\, a small\, credit-card sized computer useful for teaching & learning computing\, programming\, digital design and electronics. This workshop will follow the process of setting up a Raspberry Pi\, from box to working computer\, and cover several small computing projects. This workshops is best suited for those comfortable with computer hardware and familiar with programming concepts.
URL:https://nycdh.org/dhweek/event/raspberry-pi/
LOCATION:School of Information\, Pratt Institute\, Room 609\, Pratt Institute\, School of Information\, 144 W 14th Street\, New York\, NY 10011\, Room 609
CATEGORIES:Intermediate,Raspberry Pi
ORGANIZER;CN="Joshua Dull":MAILTO:jdull@pratt.edu
END:VEVENT
END:VCALENDAR