BEGIN:VCALENDAR
VERSION:2.0
PRODID:-//NYCDH Week - ECPv6.15.17//NONSGML v1.0//EN
CALSCALE:GREGORIAN
METHOD:PUBLISH
X-WR-CALNAME:NYCDH Week
X-ORIGINAL-URL:https://nycdh.org/dhweek
X-WR-CALDESC:Events for NYCDH Week
REFRESH-INTERVAL;VALUE=DURATION:PT1H
X-Robots-Tag:noindex
X-PUBLISHED-TTL:PT1H
BEGIN:VTIMEZONE
TZID:America/New_York
BEGIN:DAYLIGHT
TZOFFSETFROM:-0500
TZOFFSETTO:-0400
TZNAME:EDT
DTSTART:20180311T070000
END:DAYLIGHT
BEGIN:STANDARD
TZOFFSETFROM:-0400
TZOFFSETTO:-0500
TZNAME:EST
DTSTART:20181104T060000
END:STANDARD
BEGIN:DAYLIGHT
TZOFFSETFROM:-0500
TZOFFSETTO:-0400
TZNAME:EDT
DTSTART:20190310T070000
END:DAYLIGHT
BEGIN:STANDARD
TZOFFSETFROM:-0400
TZOFFSETTO:-0500
TZNAME:EST
DTSTART:20191103T060000
END:STANDARD
BEGIN:DAYLIGHT
TZOFFSETFROM:-0500
TZOFFSETTO:-0400
TZNAME:EDT
DTSTART:20200308T070000
END:DAYLIGHT
BEGIN:STANDARD
TZOFFSETFROM:-0400
TZOFFSETTO:-0500
TZNAME:EST
DTSTART:20201101T060000
END:STANDARD
BEGIN:DAYLIGHT
TZOFFSETFROM:-0500
TZOFFSETTO:-0400
TZNAME:EDT
DTSTART:20210314T070000
END:DAYLIGHT
BEGIN:STANDARD
TZOFFSETFROM:-0400
TZOFFSETTO:-0500
TZNAME:EST
DTSTART:20211107T060000
END:STANDARD
BEGIN:DAYLIGHT
TZOFFSETFROM:-0500
TZOFFSETTO:-0400
TZNAME:EDT
DTSTART:20220313T070000
END:DAYLIGHT
BEGIN:STANDARD
TZOFFSETFROM:-0400
TZOFFSETTO:-0500
TZNAME:EST
DTSTART:20221106T060000
END:STANDARD
BEGIN:DAYLIGHT
TZOFFSETFROM:-0500
TZOFFSETTO:-0400
TZNAME:EDT
DTSTART:20230312T070000
END:DAYLIGHT
BEGIN:STANDARD
TZOFFSETFROM:-0400
TZOFFSETTO:-0500
TZNAME:EST
DTSTART:20231105T060000
END:STANDARD
END:VTIMEZONE
BEGIN:VEVENT
DTSTART;TZID=America/New_York:20220209T100000
DTEND;TZID=America/New_York:20220209T120000
DTSTAMP:20260420T202301
CREATED:20220125T205334Z
LAST-MODIFIED:20220203T002546Z
UID:6928-1644400800-1644408000@nycdh.org
SUMMARY:Fostering Community and Collaboration in the Digital Humanities within and beyond CUNY
DESCRIPTION:The CUNY Academic Commons is a WordPress/Buddy platform that connects students\, faculty and staff across CUNY’s 25 campuses\, acting as a hub for various DH activities across the university. The Commons facilitates the teaching of DH courses\, sharing and hosting events\, creating spaces for working groups to collaborate\, and developing websites and digital projects. The flexibility of the Common’s WordPress/BuddyPress framework offers opportunities to work privately with a specific group or to host public-facing projects and events that invite participation from wider audiences.  \nThe session will demonstrate how the CUNY Academic Commons framework offers a space to build community and foster collaboration for working in the digital humanities within and beyond CUNY.  We will share examples of DH courses\, working groups\, projects\, and events hosted on the platform. Drawing on our experiences supporting the CUNY Academic Commons\, we will offer strategies for using WordPress/Buddypress platforms\, such as the Humanities Commons\, to facilitate collaboration and develop accessible\, public resources beyond a university setting.
URL:https://nycdh.org/dhweek/event/fostering-community-and-collaboration-in-the-digital-humanities-within-and-beyond-cuny/
LOCATION:Online\, New York\, NY\, United States
CATEGORIES:2022,Beginner,BuddyPress,CMSs,Demonstration,Digital Humanities,homefeature,Wordpress
ORGANIZER;CN="Laurie Hurson":MAILTO:laurie.hurson@gmail.com
END:VEVENT
BEGIN:VEVENT
DTSTART;TZID=America/New_York:20200207T130000
DTEND;TZID=America/New_York:20200207T150000
DTSTAMP:20260420T202301
CREATED:20200124T165422Z
LAST-MODIFIED:20210205T174400Z
UID:4159-1581080400-1581087600@nycdh.org
SUMMARY:Open & Digital Pedagogy: Teaching with WordPress and the CUNY Academic Commons
DESCRIPTION:This workshop will present models and strategies for teaching with WordPress. We’ll explore open teaching\, considering methods and digital tools that allow instructors and their students to engage with wider audiences and public discourses. The workshop will also introduce the CUNY Academic Commons\, a WordPress platform for the CUNY community\, and demonstrate how this platform has been used in classes across the university. \nEquipment: Please bring a laptop.\nPrerequisites: None; This workshop is geared towards all levels of WordPress skill and experience. We encourage WordPress novices to attend\, though some knowledge of the platform will be beneficial to the workshop experience.
URL:https://nycdh.org/dhweek/event/open-digital-pedagogy-teaching-with-wordpress-and-the-cuny-academic-commons/
LOCATION:CUNY Graduate Center\, Room C201\, 365 Fifth Avenue\, New York\, NY\, 10016\, United States
CATEGORIES:Beginner,Intermediate,Pedagogy
ORGANIZER;CN="Laurie Hurson":MAILTO:laurie.hurson@gmail.com
GEO:40.7486485;-73.984007
X-APPLE-STRUCTURED-LOCATION;VALUE=URI;X-ADDRESS=CUNY Graduate Center Room C201 365 Fifth Avenue New York NY 10016 United States;X-APPLE-RADIUS=500;X-TITLE=365 Fifth Avenue:geo:-73.984007,40.7486485
END:VEVENT
BEGIN:VEVENT
DTSTART;TZID=America/New_York:20190206T150000
DTEND;TZID=America/New_York:20190206T170000
DTSTAMP:20260420T202301
CREATED:20190123T222825Z
LAST-MODIFIED:20190124T032412Z
UID:2738-1549465200-1549472400@nycdh.org
SUMMARY:Open Pedagogy & Teaching with WordPress and the CUNY Academic Commons
DESCRIPTION:This session will introduce the open teaching possibilities of the CUNY Academic Commons. We will detail how the Commons facilitates teaching with OER and will walk you through several course models for open teaching. \nRequirements: Attendees should bring their own laptop.
URL:https://nycdh.org/dhweek/event/open-pedagogy-teaching-with-wordpress-and-the-cuny-academic-commons/
LOCATION:CUNY Graduate Center\, Room 9207\, 365 Fifth Avenue\, New York\, NY\, 10016\, United States
CATEGORIES:Beginner,Intermediate,Pedagogy
ORGANIZER;CN="Laurie Hurson":MAILTO:laurie.hurson@gmail.com
END:VEVENT
END:VCALENDAR