BEGIN:VCALENDAR
VERSION:2.0
PRODID:-//NYCDH Week - ECPv6.15.17//NONSGML v1.0//EN
CALSCALE:GREGORIAN
METHOD:PUBLISH
X-ORIGINAL-URL:https://nycdh.org/dhweek
X-WR-CALDESC:Events for NYCDH Week
REFRESH-INTERVAL;VALUE=DURATION:PT1H
X-Robots-Tag:noindex
X-PUBLISHED-TTL:PT1H
BEGIN:VTIMEZONE
TZID:America/New_York
BEGIN:DAYLIGHT
TZOFFSETFROM:-0500
TZOFFSETTO:-0400
TZNAME:EDT
DTSTART:20170312T070000
END:DAYLIGHT
BEGIN:STANDARD
TZOFFSETFROM:-0400
TZOFFSETTO:-0500
TZNAME:EST
DTSTART:20171105T060000
END:STANDARD
BEGIN:DAYLIGHT
TZOFFSETFROM:-0500
TZOFFSETTO:-0400
TZNAME:EDT
DTSTART:20180311T070000
END:DAYLIGHT
BEGIN:STANDARD
TZOFFSETFROM:-0400
TZOFFSETTO:-0500
TZNAME:EST
DTSTART:20181104T060000
END:STANDARD
BEGIN:DAYLIGHT
TZOFFSETFROM:-0500
TZOFFSETTO:-0400
TZNAME:EDT
DTSTART:20190310T070000
END:DAYLIGHT
BEGIN:STANDARD
TZOFFSETFROM:-0400
TZOFFSETTO:-0500
TZNAME:EST
DTSTART:20191103T060000
END:STANDARD
END:VTIMEZONE
BEGIN:VEVENT
DTSTART;TZID=America/New_York:20180206T183000
DTEND;TZID=America/New_York:20180206T203000
DTSTAMP:20260420T182902
CREATED:20180202T182608Z
LAST-MODIFIED:20180202T184112Z
UID:2181-1517941800-1517949000@nycdh.org
SUMMARY:Teaching with WordPress
DESCRIPTION:Join staff from the Teaching and Learning Center for a workshop on how to teach with WordPress. WordPress is a web-based publishing platform that\, when used in college courses\, can facilitate a variety of writing and multi-modal assignments and can help faculty harness the power of networks in and across their teaching. WordPress seamlessly integrates a variety of web applications in ways that empower students and instructors to take full advantage of the open web\, while also offering granular privacy and design controls that allow educators to build the kinds of digital teaching and learning spaces they want. \nLEVEL: Beginner
URL:https://nycdh.org/dhweek/event/teaching-with-wordpress/
LOCATION:CUNY Graduate Center\, Room 9207\, 365 Fifth Avenue\, New York\, NY\, 10016\, United States
CATEGORIES:Beginner,CMSs,Wordpress
ORGANIZER;CN="Luke Waltzer":MAILTO:lwaltzer@gc.cuny.edu
END:VEVENT
END:VCALENDAR