BEGIN:VCALENDAR
VERSION:2.0
PRODID:-//NYCDH Week - ECPv6.15.17//NONSGML v1.0//EN
CALSCALE:GREGORIAN
METHOD:PUBLISH
X-WR-CALNAME:NYCDH Week
X-ORIGINAL-URL:https://nycdh.org/dhweek
X-WR-CALDESC:Events for NYCDH Week
REFRESH-INTERVAL;VALUE=DURATION:PT1H
X-Robots-Tag:noindex
X-PUBLISHED-TTL:PT1H
BEGIN:VTIMEZONE
TZID:America/New_York
BEGIN:DAYLIGHT
TZOFFSETFROM:-0500
TZOFFSETTO:-0400
TZNAME:EDT
DTSTART:20170312T070000
END:DAYLIGHT
BEGIN:STANDARD
TZOFFSETFROM:-0400
TZOFFSETTO:-0500
TZNAME:EST
DTSTART:20171105T060000
END:STANDARD
BEGIN:DAYLIGHT
TZOFFSETFROM:-0500
TZOFFSETTO:-0400
TZNAME:EDT
DTSTART:20180311T070000
END:DAYLIGHT
BEGIN:STANDARD
TZOFFSETFROM:-0400
TZOFFSETTO:-0500
TZNAME:EST
DTSTART:20181104T060000
END:STANDARD
BEGIN:DAYLIGHT
TZOFFSETFROM:-0500
TZOFFSETTO:-0400
TZNAME:EDT
DTSTART:20190310T070000
END:DAYLIGHT
BEGIN:STANDARD
TZOFFSETFROM:-0400
TZOFFSETTO:-0500
TZNAME:EST
DTSTART:20191103T060000
END:STANDARD
END:VTIMEZONE
BEGIN:VEVENT
DTSTART;TZID=America/New_York:20180207T130000
DTEND;TZID=America/New_York:20180207T150000
DTSTAMP:20260423T042815
CREATED:20180122T195207Z
LAST-MODIFIED:20180207T172308Z
UID:1703-1518008400-1518015600@nycdh.org
SUMMARY:Publishing Sites with GitHub Pages
DESCRIPTION:This workshop is for staff\, students\, and scholars of all kinds who want to publish content online without paying hosting fees or getting stuck in a particular platform. In the course the session\, participants will set up their own website using Jekyll and GitHub Pages. We will learn how to format text with Markdown and pull in open source themes with GitHub. The pacing will be geared towards absolute beginners\, and will serve as an entry point into the world of web development. \nLEVEL: Beginner\nNOTES: Bring laptop of any kind with a modern browser
URL:https://nycdh.org/dhweek/event/publishing-sites-with-github-pages/
LOCATION:Studio@Butler\, 535 W. 114th St.\, New York\, NY\, 10027\, United States
CATEGORIES:Beginner,Github,Web Publishing
ORGANIZER;CN="Marii Nyr%C3%B6p":MAILTO:marii@nyu.edu
GEO:40.8064029;-73.9632198
X-APPLE-STRUCTURED-LOCATION;VALUE=URI;X-ADDRESS=Studio@Butler 535 W. 114th St. New York NY 10027 United States;X-APPLE-RADIUS=500;X-TITLE=535 W. 114th St.:geo:-73.9632198,40.8064029
END:VEVENT
END:VCALENDAR