BEGIN:VCALENDAR
VERSION:2.0
PRODID:-//NYCDH Week - ECPv6.15.17//NONSGML v1.0//EN
CALSCALE:GREGORIAN
METHOD:PUBLISH
X-ORIGINAL-URL:https://nycdh.org/dhweek
X-WR-CALDESC:Events for NYCDH Week
REFRESH-INTERVAL;VALUE=DURATION:PT1H
X-Robots-Tag:noindex
X-PUBLISHED-TTL:PT1H
BEGIN:VTIMEZONE
TZID:America/New_York
BEGIN:DAYLIGHT
TZOFFSETFROM:-0500
TZOFFSETTO:-0400
TZNAME:EDT
DTSTART:20180311T070000
END:DAYLIGHT
BEGIN:STANDARD
TZOFFSETFROM:-0400
TZOFFSETTO:-0500
TZNAME:EST
DTSTART:20181104T060000
END:STANDARD
BEGIN:DAYLIGHT
TZOFFSETFROM:-0500
TZOFFSETTO:-0400
TZNAME:EDT
DTSTART:20190310T070000
END:DAYLIGHT
BEGIN:STANDARD
TZOFFSETFROM:-0400
TZOFFSETTO:-0500
TZNAME:EST
DTSTART:20191103T060000
END:STANDARD
BEGIN:DAYLIGHT
TZOFFSETFROM:-0500
TZOFFSETTO:-0400
TZNAME:EDT
DTSTART:20200308T070000
END:DAYLIGHT
BEGIN:STANDARD
TZOFFSETFROM:-0400
TZOFFSETTO:-0500
TZNAME:EST
DTSTART:20201101T060000
END:STANDARD
BEGIN:DAYLIGHT
TZOFFSETFROM:-0500
TZOFFSETTO:-0400
TZNAME:EDT
DTSTART:20210314T070000
END:DAYLIGHT
BEGIN:STANDARD
TZOFFSETFROM:-0400
TZOFFSETTO:-0500
TZNAME:EST
DTSTART:20211107T060000
END:STANDARD
END:VTIMEZONE
BEGIN:VEVENT
DTSTART;TZID=America/New_York:20200204T180000
DTEND;TZID=America/New_York:20200204T200000
DTSTAMP:20260421T003606
CREATED:20200117T185620Z
LAST-MODIFIED:20200204T194316Z
UID:4029-1580839200-1580846400@nycdh.org
SUMMARY:An Introduction to Wikidata
DESCRIPTION:This workshop has been cancelled due to unforeseen circumstances. Please accept our apologies for this late notice.\nIf Wikipedia aims to provide access to the sum of all human knowledge\, Wikidata aims to structure it. The newest project of the Wikimedia movement\, Wikidata is a collaboratively edited\, free repository of linked open data that connects knowledge across all 301 language editions of Wikipedia and its sister projects. This workshop will introduce attendees to Wikidata and its applications to the digital humanities\, with opportunities for hands-on editing. \nEquipment Requirements: laptop
URL:https://nycdh.org/dhweek/event/an-introduction-to-wikidata-2/
LOCATION:METRO\, 599 11th Avenue\, 8th floor\, New York\, NY\, 10036\, United States
CATEGORIES:Data Management,wikipedia
ORGANIZER;CN="Megan Wacha":MAILTO:megan@wikimedianyc.org
GEO:40.573477;-74.1187026
X-APPLE-STRUCTURED-LOCATION;VALUE=URI;X-ADDRESS=METRO 599 11th Avenue 8th floor New York NY 10036 United States;X-APPLE-RADIUS=500;X-TITLE=599 11th Avenue\, 8th floor:geo:-74.1187026,40.573477
END:VEVENT
BEGIN:VEVENT
DTSTART;TZID=America/New_York:20190207T150000
DTEND;TZID=America/New_York:20190207T170000
DTSTAMP:20260421T003606
CREATED:20190120T193356Z
LAST-MODIFIED:20190201T165229Z
UID:2662-1549551600-1549558800@nycdh.org
SUMMARY:An Introduction to Wikidata
DESCRIPTION:If Wikipedia aims to provide access to the sum of all human knowledge\, Wikidata aims to structure it. The newest project of the Wikimedia movement\, Wikidata is a collaboratively edited\, free repository of linked open data that connects knowledge across all 301 language editions of Wikipedia and its sister projects. This workshop will introduce attendees to Wikidata and its applications to the digital humanities\, with opportunities for hands-on editing. \nRequirements: Attendees should bring their own laptop. \n 
URL:https://nycdh.org/dhweek/event/an-introduction-to-wikidata/
LOCATION:Pace University\, 1 Pace Plaza\, Birnbaum Library\, Fishbowl Room\, 1 Pace Plaza\, New York\, NY\, United States
CATEGORIES:Beginner,CMSs,Intermediate,wikipedia
ORGANIZER;CN="Megan Wacha":MAILTO:megan@wikimedianyc.org
END:VEVENT
END:VCALENDAR