BEGIN:VCALENDAR
VERSION:2.0
PRODID:-//NYCDH Week - ECPv6.15.17//NONSGML v1.0//EN
CALSCALE:GREGORIAN
METHOD:PUBLISH
X-ORIGINAL-URL:https://nycdh.org/dhweek
X-WR-CALDESC:Events for NYCDH Week
REFRESH-INTERVAL;VALUE=DURATION:PT1H
X-Robots-Tag:noindex
X-PUBLISHED-TTL:PT1H
BEGIN:VTIMEZONE
TZID:America/New_York
BEGIN:DAYLIGHT
TZOFFSETFROM:-0500
TZOFFSETTO:-0400
TZNAME:EDT
DTSTART:20160313T070000
END:DAYLIGHT
BEGIN:STANDARD
TZOFFSETFROM:-0400
TZOFFSETTO:-0500
TZNAME:EST
DTSTART:20161106T060000
END:STANDARD
BEGIN:DAYLIGHT
TZOFFSETFROM:-0500
TZOFFSETTO:-0400
TZNAME:EDT
DTSTART:20170312T070000
END:DAYLIGHT
BEGIN:STANDARD
TZOFFSETFROM:-0400
TZOFFSETTO:-0500
TZNAME:EST
DTSTART:20171105T060000
END:STANDARD
BEGIN:DAYLIGHT
TZOFFSETFROM:-0500
TZOFFSETTO:-0400
TZNAME:EDT
DTSTART:20180311T070000
END:DAYLIGHT
BEGIN:STANDARD
TZOFFSETFROM:-0400
TZOFFSETTO:-0500
TZNAME:EST
DTSTART:20181104T060000
END:STANDARD
BEGIN:DAYLIGHT
TZOFFSETFROM:-0500
TZOFFSETTO:-0400
TZNAME:EDT
DTSTART:20190310T070000
END:DAYLIGHT
BEGIN:STANDARD
TZOFFSETFROM:-0400
TZOFFSETTO:-0500
TZNAME:EST
DTSTART:20191103T060000
END:STANDARD
END:VTIMEZONE
BEGIN:VEVENT
DTSTART;TZID=America/New_York:20180206T140000
DTEND;TZID=America/New_York:20180206T160000
DTSTAMP:20260423T062148
CREATED:20180118T200132Z
LAST-MODIFIED:20180122T183913Z
UID:1586-1517925600-1517932800@nycdh.org
SUMMARY:Introduction to QGIS
DESCRIPTION:This workshop introduces the fundamentals of computer-based mapping using QGIS\, an open-source mapping platform popular in both academia and the commercial world. Topics will include basic mapping skills such as uploading existing spatial datasets (shape files) to a project\, editing shapefiles\, adding a vector layer\, and joining layers to discover new spatial information. By participating in this workshop\, you will be able to create a simple map and use QGIS to analyze spatial information. No previous mapping experience is required. Participants must bring their own computer with QGIS installed. \nPlease install QGIS before attending http://www.qgis.org/en/site/forusers/download.html. If you need help with the installation\, please contact Michelle McSweeney at m.mcsweeney@columbia.edu \nLEVEL: Beginner\nNOTES: Personal laptop with administrator capabilities
URL:https://nycdh.org/dhweek/event/introduction-to-qgis/
LOCATION:Studio@Butler\, 535 W. 114th St.\, New York\, NY\, 10027\, United States
CATEGORIES:Beginner,GIS,Mapping
ORGANIZER;CN="Michelle McSweeney":MAILTO:m.mcsweeney@columbia.edu
GEO:40.8064029;-73.9632198
X-APPLE-STRUCTURED-LOCATION;VALUE=URI;X-ADDRESS=Studio@Butler 535 W. 114th St. New York NY 10027 United States;X-APPLE-RADIUS=500;X-TITLE=535 W. 114th St.:geo:-73.9632198,40.8064029
END:VEVENT
BEGIN:VEVENT
DTSTART;TZID=America/New_York:20170208T080000
DTEND;TZID=America/New_York:20170208T100000
DTSTAMP:20260423T062148
CREATED:20170111T235225Z
LAST-MODIFIED:20170112T011238Z
UID:360-1486540800-1486548000@nycdh.org
SUMMARY:Making Maps into Webmaps with Leaflet.js
DESCRIPTION:The workshop will introduce participants to one method of turning a map into a Web Map. The primary difference between a static map and a web map (in addition to the fact that one is on the web) is interactivity. We expect webmaps to respond to users by showing popups\, highlighting features\, or by being able to change layers and information. In this workshop\, participants will be introduced to the basics of turning a map into a webmap.\nWe will be using the Javascript Library\, Leaftlet to turn a pre-made static map with multiple layers of information into an interactive map that can be displayed within a webpage.\nThis workshop will be highly scaffolded so that knowledge of HTML\, CSS\, and Javascript is not necessary\, though familiarity with these languages will be helpful to get the most out of making web maps in this way. However\, this workshop will provide a gentle introduction to the power of these languages and one tangible application.\nBy the end of this workshop\, participants will be able to:\n* Embed a static map into a web page\n* Select tiles for the base map based on their needs\n* Make custom markers for data points\n* Add interactivity to a map by including tool tips\nParticipants will get the most out of this workshop by taking ‘Making Maps with QGIS’\, but no GIS knowledge is assumed. \nSkill Level\nBeginner \nPrerequisites\nNone. Familiarity with GIS\, HTML\, CSS\, and Javascript is beneficial. \nEquipment Requirements\nLaptop
URL:https://nycdh.org/dhweek/event/making-maps-into-webmaps-with-leaflet-js/
LOCATION:Studio@Butler\, 535 W. 114th St.\, New York\, NY\, 10027\, United States
CATEGORIES:Beginner,Mapping
ORGANIZER;CN="Michelle McSweeney":MAILTO:m.mcsweeney@columbia.edu
GEO:40.8064029;-73.9632198
X-APPLE-STRUCTURED-LOCATION;VALUE=URI;X-ADDRESS=Studio@Butler 535 W. 114th St. New York NY 10027 United States;X-APPLE-RADIUS=500;X-TITLE=535 W. 114th St.:geo:-73.9632198,40.8064029
END:VEVENT
BEGIN:VEVENT
DTSTART;TZID=America/New_York:20170207T100000
DTEND;TZID=America/New_York:20170207T120000
DTSTAMP:20260423T062148
CREATED:20170112T002515Z
LAST-MODIFIED:20170112T012023Z
UID:356-1486461600-1486468800@nycdh.org
SUMMARY:Introduction to Mapping with QGIS
DESCRIPTION:This workshop will introduce participants to creating static maps using QGIS. \nQGIS is an open source mapping software that allows users to create maps and analyze data with a spatial component. This workshop is intended for those new to GIS who want to get started creating maps. \nBy the end of this session\, participants will be able to: \n\nCreate a base map\nAdd layers of data to a basemap\nPerform a spatial join on two data sets\nPerform calculations on a data set within QGIS.\n\nThese skills provide the foundation for analyzing spatial data and representing it for further analysis. We will discuss where to find spatial data as well. Participants in this workshop are encouraged to take the second half of this workshop where we will cover turning QGIS maps into web maps using Leaflet. \nSkill Level\nBeginner \nPrerequisites\nNone \nEquipment Requirements\nParticipants must install QGIS in advance of the workshop. We will send out a link to registrants in advance of the workshop. Registrants must be able to download data to their machine.
URL:https://nycdh.org/dhweek/event/introduction-to-mapping-with-qgis/
LOCATION:Studio@Butler\, 535 W. 114th St.\, New York\, NY\, 10027\, United States
CATEGORIES:Beginner,Mapping
ORGANIZER;CN="Michelle McSweeney":MAILTO:m.mcsweeney@columbia.edu
GEO:40.8064029;-73.9632198
X-APPLE-STRUCTURED-LOCATION;VALUE=URI;X-ADDRESS=Studio@Butler 535 W. 114th St. New York NY 10027 United States;X-APPLE-RADIUS=500;X-TITLE=535 W. 114th St.:geo:-73.9632198,40.8064029
END:VEVENT
END:VCALENDAR