BEGIN:VCALENDAR
VERSION:2.0
PRODID:-//NYCDH Week - ECPv6.15.17//NONSGML v1.0//EN
CALSCALE:GREGORIAN
METHOD:PUBLISH
X-ORIGINAL-URL:https://nycdh.org/dhweek
X-WR-CALDESC:Events for NYCDH Week
REFRESH-INTERVAL;VALUE=DURATION:PT1H
X-Robots-Tag:noindex
X-PUBLISHED-TTL:PT1H
BEGIN:VTIMEZONE
TZID:America/New_York
BEGIN:DAYLIGHT
TZOFFSETFROM:-0500
TZOFFSETTO:-0400
TZNAME:EDT
DTSTART:20170312T070000
END:DAYLIGHT
BEGIN:STANDARD
TZOFFSETFROM:-0400
TZOFFSETTO:-0500
TZNAME:EST
DTSTART:20171105T060000
END:STANDARD
BEGIN:DAYLIGHT
TZOFFSETFROM:-0500
TZOFFSETTO:-0400
TZNAME:EDT
DTSTART:20180311T070000
END:DAYLIGHT
BEGIN:STANDARD
TZOFFSETFROM:-0400
TZOFFSETTO:-0500
TZNAME:EST
DTSTART:20181104T060000
END:STANDARD
BEGIN:DAYLIGHT
TZOFFSETFROM:-0500
TZOFFSETTO:-0400
TZNAME:EDT
DTSTART:20190310T070000
END:DAYLIGHT
BEGIN:STANDARD
TZOFFSETFROM:-0400
TZOFFSETTO:-0500
TZNAME:EST
DTSTART:20191103T060000
END:STANDARD
END:VTIMEZONE
BEGIN:VEVENT
DTSTART;TZID=America/New_York:20180206T100000
DTEND;TZID=America/New_York:20180206T120000
DTSTAMP:20260423T042924
CREATED:20180123T175435Z
LAST-MODIFIED:20180123T185218Z
UID:1727-1517911200-1517918400@nycdh.org
SUMMARY:Action Learning
DESCRIPTION:Action Learning enforces the power of questions through a very simple\, yet highly effective and challenging method. In Action Learning\, a group of 6-8 participants develops leadership skills\, by working together on solving a complex problem. Questions are the driving force of Action Learning\, and empower participants to discover the root of problems and to unlock hidden knowledge. \nIn this event you will experience a total action learning demonstration. In an extensive debrief we will reflect on the Action Learning Coaching process and discuss observations. One of these participants should be prepared to share a professional problem that they would like to work on (fix) in the session. If you are interested in this workshop and are willing to share your professional problem for the workshop\, please register and contact Mies de Konig. \nBecause of the highly interactive nature of this event there will only be space for 8 participants. \nLEVEL: Beginner
URL:https://nycdh.org/dhweek/event/action-learning/
LOCATION:The New York Public Library\, 39th Street Offices\, 5th Floor Leadership Education Center\, 455 5th Avenue\, New York\, NY\, 10016\, United States
CATEGORIES:Beginner
ORGANIZER;CN="Miles de Konig":MAILTO:miesdekoning@nypl.org
GEO:40.7519471;-73.9817188
X-APPLE-STRUCTURED-LOCATION;VALUE=URI;X-ADDRESS=The New York Public Library 39th Street Offices 5th Floor Leadership Education Center 455 5th Avenue New York NY 10016 United States;X-APPLE-RADIUS=500;X-TITLE=455 5th Avenue:geo:-73.9817188,40.7519471
END:VEVENT
END:VCALENDAR