BEGIN:VCALENDAR
VERSION:2.0
PRODID:-//NYCDH Week - ECPv6.15.17//NONSGML v1.0//EN
CALSCALE:GREGORIAN
METHOD:PUBLISH
X-WR-CALNAME:NYCDH Week
X-ORIGINAL-URL:https://nycdh.org/dhweek
X-WR-CALDESC:Events for NYCDH Week
REFRESH-INTERVAL;VALUE=DURATION:PT1H
X-Robots-Tag:noindex
X-PUBLISHED-TTL:PT1H
BEGIN:VTIMEZONE
TZID:America/New_York
BEGIN:DAYLIGHT
TZOFFSETFROM:-0500
TZOFFSETTO:-0400
TZNAME:EDT
DTSTART:20210314T070000
END:DAYLIGHT
BEGIN:STANDARD
TZOFFSETFROM:-0400
TZOFFSETTO:-0500
TZNAME:EST
DTSTART:20211107T060000
END:STANDARD
BEGIN:DAYLIGHT
TZOFFSETFROM:-0500
TZOFFSETTO:-0400
TZNAME:EDT
DTSTART:20220313T070000
END:DAYLIGHT
BEGIN:STANDARD
TZOFFSETFROM:-0400
TZOFFSETTO:-0500
TZNAME:EST
DTSTART:20221106T060000
END:STANDARD
BEGIN:DAYLIGHT
TZOFFSETFROM:-0500
TZOFFSETTO:-0400
TZNAME:EDT
DTSTART:20230312T070000
END:DAYLIGHT
BEGIN:STANDARD
TZOFFSETFROM:-0400
TZOFFSETTO:-0500
TZNAME:EST
DTSTART:20231105T060000
END:STANDARD
END:VTIMEZONE
BEGIN:VEVENT
DTSTART;TZID=America/New_York:20220207T120000
DTEND;TZID=America/New_York:20220207T170000
DTSTAMP:20260421T033234
CREATED:20211216T145033Z
LAST-MODIFIED:20220204T192921Z
UID:6735-1644235200-1644253200@nycdh.org
SUMMARY:NYCDH Kickoff Event 2022: NYCDH Supporting One Another
DESCRIPTION:“Finding\, Cultivating\, and Sustaining Support for Your DH Project.” \nThis year’s NYCDH Week will kick off with a roundtable that will bring into conversation a variety of perspectives on the services\, structures\, and approaches necessary to conceive of and execute successful digital projects from experts in this field. The roundtable and subsequent discussion will help familiarize our NYCDH community with the wide range of structures of support that are available to NYCDH members and how to go about gaining access to that support. \nWe are proud to announce that our roundtable participants include: \nJennifer Serventi – Senior Program Officer\, Office of Digital Humanities\, National Endowment for the Humanities. \n\nJennifer is a Senior Program Officer in the Office of Digital Humanities. In that office\, she works with the Institutes for Advanced Topics in the Digital Humanities program and the Digital Humanities Advancement Grants programs. Prior to joining ODH in 2007\, she served in NEH’s Divisions of Research and Education Programs. Before coming to the Endowment in 1994\, she was a staff member at the Institute of Museum and Library Services.\n\nMoacir P. de Sá Pereira (he/his/him) – Research Data Librarian at Columbia University Libraries \n\nMoacir is a scholar of literature and space. He taught at New York University\, Vilnius Gediminas Technical University\, and l’École nationale des chartes before coming to Columbia.\n\nJim Groom – co-founder Reclaim Hosting \n\nJim is the co-founder of Reclaim Hosting\, an independent web hosting company focused on the higher education community. Previously he was the director of the Division of Teaching and Learning Technologies and adjunct professor at the University of Mary Washington in Fredericksburg\, Virginia. His current passions are 80s arcade cabinets and exploring how to use Docker to open up the possibilities of cloud-based hosting for academics and beyond.\n\nJason Rhody – Director Digital Culture Program\, Social Data Initiative\, and the Media & Democracy program at the Social Science Research Council (SSRC) \n\nJason directs the Digital Culture program\, Social Data Initiative\, and the Media & Democracy program at the Social Science Research Council (SSRC).  Previously\, he served as senior program officer at the National Endowment for the Humanities (NEH)\, where he helped create the Office of Digital Humanities (ODH). In that role\, he developed and managed multiple grant programs that enabled scholars\, librarians\, and archivists to harness emerging technologies to advance research\, encourage scholarly inquiry of digital culture\, and foster collaboration across international and disciplinary boundaries.  Jason received his PhD in English from the University of Maryland where\, prior to joining NEH in 2003\, he managed and advised digital humanities projects at the Maryland Institute for Technology in the Humanities (MITH) and taught courses in literature and digital media.\n\nKatina Rogers – Independent Scholar \n\nKatina is an educational consultant\, working with institutions to design and implement structures that are creative\, sustainable\, and equitable. She has over a decade of experience as an administrator\, researcher\, and faculty member\, and is the author of Putting the Humanities Ph.D. to Work: Thriving in and beyond the Classroom (Duke University Press\, 2020). Katina’s scholarly work focuses on higher education reform\, including scholarly communication practices\, professionalization and career development\, public scholarship\, and advocacy for fair labor policies.\n\n\n2022 Award Winners\nAs is tradition\, following the introduction and kickoff roundtable we will be announcing the winners of our annual Graduate Student awards with presentations by the winners \n \n\n\n\n\nFirst Place\nNicole Cote (Graduate Center\, CUNY)\, “VisDepot: An Introductory Resource for Data Visualization”\n\n\nSecond Place\nCorey D Clawson (Rutgers University-Newark)\, “Archivepelago: Mapping Queer Exile and Artistic Influence Using Graph Database Technology”\n\n\nThird Place Mention\nJulia G. Fuller (Graduate Center\, CUNY)\, ‘Visual Vixens”\n\n\nHonorable Mention\nLauren Busser (New York University)\, “Knitted Soft Circuits for S.T.E.A.M Education”\n\n\nHonorable Mention\nIan Gregory (Pratt Institute)\, “Mental Acuity Bot for the Elderly (MABel)”\n\n\n\n\n\n \nFirst Place \nNicole Cote (Graduate Center\, CUNY)\, “VisDepot: An Introductory Resource for Data Visualization” \nSecond Place\nCorey D Clawson (Rutgers University-Newark)\, “Archivepelago: Mapping Queer Exile and Artistic Influence Using Graph Database Technology” \nThird Place\nMention Julia G. Fuller (Graduate Center\, CUNY)\, ‘Visual Vixens” \nHonorable Mention\nLauren Busser (New York University)\, “Knitted Soft Circuits for S.T.E.A.M Education” \nHonorable Mention\nIan Gregory (Pratt Institute)\, “Mental Acuity Bot for the Elderly (MABel)” \n\n\nClick here for more info about NYCDH Graduate Student Awards \n\nSchedule\n \n\n\n\n\nNoon – 12:30\nWelcome and Introduction to the Week\n\n\n12:30 – 2:00 \n“Finding\, Cultivating\, and Sustaining Support for Your DH Project” – A Roundtable\n\n\n2:00 – 2:30\nBreak\n\n\n2:30 – 4:00\nGraduate Student award announcement and presentations\n\n\n\n\n\n \nNoon – 12:30 \nWelcome and Introduction to the Week \n12:30 – 2:00 \n“Finding\, Cultivating\, and Sustaining Support for Your DH Project” – A Roundtable \n2:00 – 2:30\nBreak \n2:30 – 4:00 \nGraduate Student Award Announcement and Presentations
URL:https://nycdh.org/dhweek/event/nycdh-kickoff-event-2022/
LOCATION:Online\, New York\, NY\, United States
CATEGORIES:2022,Event
END:VEVENT
END:VCALENDAR