BEGIN:VCALENDAR
VERSION:2.0
PRODID:-//NYCDH Week - ECPv6.15.17//NONSGML v1.0//EN
CALSCALE:GREGORIAN
METHOD:PUBLISH
X-WR-CALNAME:NYCDH Week
X-ORIGINAL-URL:https://nycdh.org/dhweek
X-WR-CALDESC:Events for NYCDH Week
REFRESH-INTERVAL;VALUE=DURATION:PT1H
X-Robots-Tag:noindex
X-PUBLISHED-TTL:PT1H
BEGIN:VTIMEZONE
TZID:America/New_York
BEGIN:DAYLIGHT
TZOFFSETFROM:-0500
TZOFFSETTO:-0400
TZNAME:EDT
DTSTART:20160313T070000
END:DAYLIGHT
BEGIN:STANDARD
TZOFFSETFROM:-0400
TZOFFSETTO:-0500
TZNAME:EST
DTSTART:20161106T060000
END:STANDARD
BEGIN:DAYLIGHT
TZOFFSETFROM:-0500
TZOFFSETTO:-0400
TZNAME:EDT
DTSTART:20170312T070000
END:DAYLIGHT
BEGIN:STANDARD
TZOFFSETFROM:-0400
TZOFFSETTO:-0500
TZNAME:EST
DTSTART:20171105T060000
END:STANDARD
BEGIN:DAYLIGHT
TZOFFSETFROM:-0500
TZOFFSETTO:-0400
TZNAME:EDT
DTSTART:20180311T070000
END:DAYLIGHT
BEGIN:STANDARD
TZOFFSETFROM:-0400
TZOFFSETTO:-0500
TZNAME:EST
DTSTART:20181104T060000
END:STANDARD
END:VTIMEZONE
BEGIN:VEVENT
DTSTART;TZID=America/New_York:20170206T120000
DTEND;TZID=America/New_York:20170206T140000
DTSTAMP:20260423T063220
CREATED:20170114T001905Z
LAST-MODIFIED:20170127T122519Z
UID:548-1486382400-1486389600@nycdh.org
SUMMARY:Digibar!
DESCRIPTION:Join the NYCDH gang at The Liberty Bar (29 W. 35th St.\, New York\, NY 10001) for some food\, folks\, and fun. Banter\, network\, collaborate\, or scheme; it’s all easier with a frosty beverage or tasty cocktail! \nCheck out the space here: http://youvis.it/nn6Hf1
URL:https://nycdh.org/dhweek/event/digibar-2/
LOCATION:Liberty Bar\, 29 W. 35th St.\, New York\, NY\, 10001\, United States
ORGANIZER;CN="Stephen Klein":MAILTO:sklein@gc.cuny.edu
GEO:40.7499318;-73.9854829
X-APPLE-STRUCTURED-LOCATION;VALUE=URI;X-ADDRESS=Liberty Bar 29 W. 35th St. New York NY 10001 United States;X-APPLE-RADIUS=500;X-TITLE=29 W. 35th St.:geo:-73.9854829,40.7499318
END:VEVENT
END:VCALENDAR