BEGIN:VCALENDAR
VERSION:2.0
PRODID:-//NYCDH Week - ECPv6.15.17//NONSGML v1.0//EN
CALSCALE:GREGORIAN
METHOD:PUBLISH
X-ORIGINAL-URL:https://nycdh.org/dhweek
X-WR-CALDESC:Events for NYCDH Week
REFRESH-INTERVAL;VALUE=DURATION:PT1H
X-Robots-Tag:noindex
X-PUBLISHED-TTL:PT1H
BEGIN:VTIMEZONE
TZID:America/New_York
BEGIN:DAYLIGHT
TZOFFSETFROM:-0500
TZOFFSETTO:-0400
TZNAME:EDT
DTSTART:20190310T070000
END:DAYLIGHT
BEGIN:STANDARD
TZOFFSETFROM:-0400
TZOFFSETTO:-0500
TZNAME:EST
DTSTART:20191103T060000
END:STANDARD
BEGIN:DAYLIGHT
TZOFFSETFROM:-0500
TZOFFSETTO:-0400
TZNAME:EDT
DTSTART:20200308T070000
END:DAYLIGHT
BEGIN:STANDARD
TZOFFSETFROM:-0400
TZOFFSETTO:-0500
TZNAME:EST
DTSTART:20201101T060000
END:STANDARD
BEGIN:DAYLIGHT
TZOFFSETFROM:-0500
TZOFFSETTO:-0400
TZNAME:EDT
DTSTART:20210314T070000
END:DAYLIGHT
BEGIN:STANDARD
TZOFFSETFROM:-0400
TZOFFSETTO:-0500
TZNAME:EST
DTSTART:20211107T060000
END:STANDARD
END:VTIMEZONE
BEGIN:VEVENT
DTSTART;TZID=America/New_York:20200206T140000
DTEND;TZID=America/New_York:20200206T160000
DTSTAMP:20260421T074710
CREATED:20200122T154324Z
LAST-MODIFIED:20200128T211946Z
UID:4108-1580997600-1581004800@nycdh.org
SUMMARY:The Making and Knowing Project’s Digital Critical Edition and English Translation of a 16th-c. Manuscript of Artisanal Recipes
DESCRIPTION:The Making and Knowing Project (Center for Science and Society\, Columbia University) is excited to present Secrets of Craft and Nature in Renaissance France—a digital critical edition and English translation of a sixteenth-century French manuscript of artisanal recipes. The publication of this edition marks the culmination over five years of iterative\, collaborative\, and interdisciplinary work by over 400 scholars and students worldwide. The transcribed\, translated\, and encoded text of BnF Ms Fr 640 is accompanied by research essays\, field notes from recipe reconstructions in the Making and Knowing Laboratory\, text-level editorial comments\, a glossary of terms\, search and navigation features\, and raw data files for export and analysis. \nIn this demonstration\, the Project team will present the edition and its features. Digital Lead Terry Catapano and Designer-Developer Nick Laiacona will discuss the challenges and workarounds in creating a function-rich static site\, and Laiacona will present work-in-progress toward the creation of a “community edition\,” an open-source customizable version of the edition infrastructure—in other words\, a community software platform that other scholars and students can use to present their own texts. The Project team will conclude by demonstrating some of the textual analyses made possible by its custom semantic markup. \nEquipment: Laptop (optional) \n 
URL:https://nycdh.org/dhweek/event/how-can-digital-historical-texts-be-used-examples-from-the-making-and-knowing-project-2/
LOCATION:Columbia University\, Fayerweather Hall\, Room 513\, 1180 Amsterdam Avenue\, New York\, NY\, 10027\, United States
CATEGORIES:Beginner,Text Analysis
ORGANIZER;CN="Tianna Uchacz":MAILTO:thu2102@columbia.edu
END:VEVENT
END:VCALENDAR