BEGIN:VCALENDAR
VERSION:2.0
PRODID:-//NYCDH Week - ECPv6.15.17//NONSGML v1.0//EN
CALSCALE:GREGORIAN
METHOD:PUBLISH
X-WR-CALNAME:NYCDH Week
X-ORIGINAL-URL:https://nycdh.org/dhweek
X-WR-CALDESC:Events for NYCDH Week
REFRESH-INTERVAL;VALUE=DURATION:PT1H
X-Robots-Tag:noindex
X-PUBLISHED-TTL:PT1H
BEGIN:VTIMEZONE
TZID:America/New_York
BEGIN:DAYLIGHT
TZOFFSETFROM:-0500
TZOFFSETTO:-0400
TZNAME:EDT
DTSTART:20150308T070000
END:DAYLIGHT
BEGIN:STANDARD
TZOFFSETFROM:-0400
TZOFFSETTO:-0500
TZNAME:EST
DTSTART:20151101T060000
END:STANDARD
BEGIN:DAYLIGHT
TZOFFSETFROM:-0500
TZOFFSETTO:-0400
TZNAME:EDT
DTSTART:20160313T070000
END:DAYLIGHT
BEGIN:STANDARD
TZOFFSETFROM:-0400
TZOFFSETTO:-0500
TZNAME:EST
DTSTART:20161106T060000
END:STANDARD
BEGIN:DAYLIGHT
TZOFFSETFROM:-0500
TZOFFSETTO:-0400
TZNAME:EDT
DTSTART:20170312T070000
END:DAYLIGHT
BEGIN:STANDARD
TZOFFSETFROM:-0400
TZOFFSETTO:-0500
TZNAME:EST
DTSTART:20171105T060000
END:STANDARD
BEGIN:DAYLIGHT
TZOFFSETFROM:-0500
TZOFFSETTO:-0400
TZNAME:EDT
DTSTART:20180311T070000
END:DAYLIGHT
BEGIN:STANDARD
TZOFFSETFROM:-0400
TZOFFSETTO:-0500
TZNAME:EST
DTSTART:20181104T060000
END:STANDARD
BEGIN:DAYLIGHT
TZOFFSETFROM:-0500
TZOFFSETTO:-0400
TZNAME:EDT
DTSTART:20190310T070000
END:DAYLIGHT
BEGIN:STANDARD
TZOFFSETFROM:-0400
TZOFFSETTO:-0500
TZNAME:EST
DTSTART:20191103T060000
END:STANDARD
BEGIN:DAYLIGHT
TZOFFSETFROM:-0500
TZOFFSETTO:-0400
TZNAME:EDT
DTSTART:20200308T070000
END:DAYLIGHT
BEGIN:STANDARD
TZOFFSETFROM:-0400
TZOFFSETTO:-0500
TZNAME:EST
DTSTART:20201101T060000
END:STANDARD
END:VTIMEZONE
BEGIN:VEVENT
DTSTART;TZID=America/New_York:20190206T103000
DTEND;TZID=America/New_York:20190206T120000
DTSTAMP:20260421T034502
CREATED:20190120T184155Z
LAST-MODIFIED:20190124T031254Z
UID:2621-1549449000-1549454400@nycdh.org
SUMMARY:Intro to the Command Line
DESCRIPTION:Learn how to use the command line to perform basic tasks. We’ll begin by discussing why humanists would want to learn something so technical\, then jump into learning how to create and edit files and directories. Knowledge of the command line can be applied in many contexts\, including several of the other workshops offered this week! \nRequirements: Attendees should bring their own laptop.
URL:https://nycdh.org/dhweek/event/intro-to-the-command-line-3/
LOCATION:Bobst Library\, NYU\, Room 619\, 70 Washington Square S\, New York\, NY\, 10012\, United States
CATEGORIES:Beginner,Command Line,Text Analysis
ORGANIZER;CN="Zach Coble":MAILTO:zach.coble@nyu.edu
GEO:40.7294345;-73.9972124
X-APPLE-STRUCTURED-LOCATION;VALUE=URI;X-ADDRESS=Bobst Library NYU Room 619 70 Washington Square S New York NY 10012 United States;X-APPLE-RADIUS=500;X-TITLE=70 Washington Square S:geo:-73.9972124,40.7294345
END:VEVENT
BEGIN:VEVENT
DTSTART;TZID=America/New_York:20170207T053000
DTEND;TZID=America/New_York:20170207T070000
DTSTAMP:20260421T034502
CREATED:20170112T002831Z
LAST-MODIFIED:20170112T011935Z
UID:334-1486445400-1486450800@nycdh.org
SUMMARY:Intro to the Command Line
DESCRIPTION:Learn how to use the command line to perform basic tasks. We’ll begin by discussing why humanists would want to learn something so technical\, then jump into learning how to create and edit files\, and also learn some tricks for text analysis. Knowledge of the command line can be applied in many contexts\, including several of the other workshops offered this week! \nSkill Level\nBeginner \nPrerequisites\nNone \nEquipment Requirements\nNone (computers provided\, but attendees are encouraged to bring own laptops)
URL:https://nycdh.org/dhweek/event/intro-to-the-command-line-2/
LOCATION:Bobst Library\, NYU\, Room 619\, 70 Washington Square S\, New York\, NY\, 10012\, United States
CATEGORIES:Command Line
ORGANIZER;CN="Zach Coble":MAILTO:zach.coble@nyu.edu
GEO:40.7294345;-73.9972124
X-APPLE-STRUCTURED-LOCATION;VALUE=URI;X-ADDRESS=Bobst Library NYU Room 619 70 Washington Square S New York NY 10012 United States;X-APPLE-RADIUS=500;X-TITLE=70 Washington Square S:geo:-73.9972124,40.7294345
END:VEVENT
BEGIN:VEVENT
DTSTART;TZID=America/New_York:20160210T100000
DTEND;TZID=America/New_York:20160210T120000
DTSTAMP:20260421T034502
CREATED:20151208T212843Z
LAST-MODIFIED:20161122T220923Z
UID:66-1455098400-1455105600@nycdh.org
SUMMARY:Intro to the Command Line
DESCRIPTION:Learn how to use the command line to perform basic tasks. We’ll begin by discussing why humanists would want to learn something so technical\, then jump into learning how to create and edit files and directories. Knowledge of the command line can be applied in many contexts\, including several of the other workshops offered this week!
URL:https://nycdh.org/dhweek/event/intro-to-the-command-line/
LOCATION:New York University
CATEGORIES:Command Line
ORGANIZER;CN="Zach Coble":MAILTO:zach.coble@nyu.edu
END:VEVENT
END:VCALENDAR