BEGIN:VCALENDAR
VERSION:2.0
PRODID:-//NYCDH Week - ECPv6.15.17//NONSGML v1.0//EN
CALSCALE:GREGORIAN
METHOD:PUBLISH
X-WR-CALNAME:NYCDH Week
X-ORIGINAL-URL:https://nycdh.org/dhweek
X-WR-CALDESC:Events for NYCDH Week
REFRESH-INTERVAL;VALUE=DURATION:PT1H
X-Robots-Tag:noindex
X-PUBLISHED-TTL:PT1H
BEGIN:VTIMEZONE
TZID:America/New_York
BEGIN:DAYLIGHT
TZOFFSETFROM:-0500
TZOFFSETTO:-0400
TZNAME:EDT
DTSTART:20200308T070000
END:DAYLIGHT
BEGIN:STANDARD
TZOFFSETFROM:-0400
TZOFFSETTO:-0500
TZNAME:EST
DTSTART:20201101T060000
END:STANDARD
BEGIN:DAYLIGHT
TZOFFSETFROM:-0500
TZOFFSETTO:-0400
TZNAME:EDT
DTSTART:20210314T070000
END:DAYLIGHT
BEGIN:STANDARD
TZOFFSETFROM:-0400
TZOFFSETTO:-0500
TZNAME:EST
DTSTART:20211107T060000
END:STANDARD
BEGIN:DAYLIGHT
TZOFFSETFROM:-0500
TZOFFSETTO:-0400
TZNAME:EDT
DTSTART:20220313T070000
END:DAYLIGHT
BEGIN:STANDARD
TZOFFSETFROM:-0400
TZOFFSETTO:-0500
TZNAME:EST
DTSTART:20221106T060000
END:STANDARD
END:VTIMEZONE
BEGIN:VEVENT
DTSTART;TZID=America/New_York:20210208T120000
DTEND;TZID=America/New_York:20210208T180000
DTSTAMP:20260420T220805
CREATED:20201209T165020Z
LAST-MODIFIED:20210208T142455Z
UID:5032-1612785600-1612807200@nycdh.org
SUMMARY:NYCDH Kickoff Event 2021
DESCRIPTION:NYC Digital Humanities\nin a Context of Radical Care\nThis year’s kickoff event will focus collective attention and action on the relationship between individual digital humanists and NYCDH as a community of practice impacted by ongoing crises and traumas\, such as the COVID-19 pandemic\, racial injustice\, budget austerity\, labor conditions\, and pedagogical transition\, that expose the inequitable conditions in which we do our work. In A Burst of Light\, NYC-based poet Audre Lorde writes: “Caring for myself is not self-indulgence\, it is self-preservation\, and that is an act of political warfare.” Foregrounding the unequal\, varied\, and fluid impacts of the past year’s events on the NYC DH community as individuals and as a collective\, our kickoff events and week-long focus groups will consider how “radical care” might mobilize communities toward positive social action while resisting its potential to reinforce systemic inequity. How might the NYC DH community come together through a shared understanding of radical care and “show up” for one another\, moving us toward hopeful change? \nIn place of the traditional keynote lecture\, this year’s kickoff ceremony will feature a conversation between two members of our NYC DH community\, Madiha Zahrah Choksi\, Research and Learning Technologies Librarian at Columbia University\, and Lisa Rhody\, Deputy Director of Digital Initiatives at The Graduate Center\, City University of New York. Following the conversation\, there will be opportunities for breakout room discussions and networking sessions. \nMadiha Zahrah Choksi \n\nLisa Marie Rhody \n\nAs is tradition\, following the keynote we will be announcing the winners of our annual Graduate Student awards with presentations by the winners \nSchedule\nNoon – 1:30 \n\nIntroduction to the week\nKickoff keynote talk\n\n1:30 – 2:30 \n\nBreakout Room Discussions\nNetworking Sessions\n\n4:30 – 6:00 \n\nGraduate Student award announcement and presentations\n\n2020 Award Winners\n \n\n\n\n\nFirst Place\nHilary Wilson (CUNY Graduate Center)\, “Urban Policy from the Post-WWII Period to the Present”\n\n\nSecond Place\nDaniel Fox (CUNY Graduate Center)\, “Is there Gender Bias in the Genre Labels for Musicians on Wikipedia?”\n\n\nHonorable Mention\nKristen Hackett (CUNY Graduate Center)\, “Recalibrating Queens”\n\n\nHonorable Mention\nMaria Agustina Checa (CUNY Graduate Center)\, “Magnetismo Sónico”\n\n\nHonorable Mention\nLara Alonso (CUNY Graduate Center)\, “Corona Stories”\n\n\n\n\n\nClick here for more info about NYCDH Graduate Student Awards
URL:https://nycdh.org/dhweek/event/nycdh-kickoff-event-2021/
LOCATION:New York\, NY\, United States
END:VEVENT
END:VCALENDAR