BEGIN:VCALENDAR
VERSION:2.0
PRODID:-//NYCDH Week - ECPv6.15.17//NONSGML v1.0//EN
CALSCALE:GREGORIAN
METHOD:PUBLISH
X-WR-CALNAME:NYCDH Week
X-ORIGINAL-URL:https://nycdh.org/dhweek
X-WR-CALDESC:Events for NYCDH Week
REFRESH-INTERVAL;VALUE=DURATION:PT1H
X-Robots-Tag:noindex
X-PUBLISHED-TTL:PT1H
BEGIN:VTIMEZONE
TZID:America/New_York
BEGIN:DAYLIGHT
TZOFFSETFROM:-0500
TZOFFSETTO:-0400
TZNAME:EDT
DTSTART:20190310T070000
END:DAYLIGHT
BEGIN:STANDARD
TZOFFSETFROM:-0400
TZOFFSETTO:-0500
TZNAME:EST
DTSTART:20191103T060000
END:STANDARD
BEGIN:DAYLIGHT
TZOFFSETFROM:-0500
TZOFFSETTO:-0400
TZNAME:EDT
DTSTART:20200308T070000
END:DAYLIGHT
BEGIN:STANDARD
TZOFFSETFROM:-0400
TZOFFSETTO:-0500
TZNAME:EST
DTSTART:20201101T060000
END:STANDARD
BEGIN:DAYLIGHT
TZOFFSETFROM:-0500
TZOFFSETTO:-0400
TZNAME:EDT
DTSTART:20210314T070000
END:DAYLIGHT
BEGIN:STANDARD
TZOFFSETFROM:-0400
TZOFFSETTO:-0500
TZNAME:EST
DTSTART:20211107T060000
END:STANDARD
END:VTIMEZONE
BEGIN:VEVENT
DTSTART;TZID=America/New_York:20200205T150000
DTEND;TZID=America/New_York:20200205T170000
DTSTAMP:20260420T200703
CREATED:20200117T161439Z
LAST-MODIFIED:20200127T153809Z
UID:4013-1580914800-1580922000@nycdh.org
SUMMARY:Introduction to OpenRefine
DESCRIPTION:OpenRefine is a popular open-source application for data analysis\, clean up\, and enrichment. It can help you prepare your digital humanities dataset for further analysis and visualization through: \n\ntext filters and facets\nbatch editing\nassisted clustering of terms\nsplitting and merging values\nadvanced transformations\, such as regular expressions\n\nIt also allows you to export your operation history\, which helps with research reproducibility. \nIn this beginner-level workshop\, we’ll cover the basic features and functionalities of OpenRefine\, with a taste of more advanced operations using GREL (General Refine Expression Language) and regular expressions. We’ll also have a discussion about how data cleaning fits into our digital humanities work\, inspired by Katie Rawson and Trevor Muñoz’s article “Against Cleaning” (http://curatingmenus.org/articles/against-cleaning/). \nEquipment Requirements: If possible\, please bring your own laptop. Some laptops will be available to borrow on site. If you will be using your own laptop\, please install the latest stable version of OpenRefine (available at http://openrefine.org/download.html) ahead of time. Workshop datasets will be made available for download closer to the date of the sessions.
URL:https://nycdh.org/dhweek/event/introduction-to-openrefine/
LOCATION:Bobst Library\, NYU\, Room 743\, 70 Washington Square South\, New York\, NY\, 10012\, United States
CATEGORIES:Data Management
ORGANIZER;CN="Alexandra Alisa Provo":MAILTO:alexandra.provo@nyu.edu
END:VEVENT
BEGIN:VEVENT
DTSTART;TZID=America/New_York:20200205T133000
DTEND;TZID=America/New_York:20200205T150000
DTSTAMP:20260420T200703
CREATED:20200117T190126Z
LAST-MODIFIED:20200117T190126Z
UID:4032-1580909400-1580914800@nycdh.org
SUMMARY:Zine Union Catalog: Bringing Together Disparate\, Unruly Data
DESCRIPTION:The Zine Union Catalog\, or ZineCat\, is a catalog built on Collective Access\, a digital asset manager similar to\, but with more complete metadata connectors than Omeka. ZineCat brings together records from six libraries with wildly different metadata schema. They are public\, academic\, community\, and digital libraries using RDA\, xZINECOREx\, LibraryThing\, and homegrown/standalone schema. Lauren Kehoe and Jenna Freedman developed the functional prototype as their CUNY Graduate Center MADH capstone\, building on work begun in the zine librarian community in 2009 and adhering to the Zine Librarians Code of Ethics\, which establishes standards for honoring the needs of authors and creators’ wants\, needs\, and changing identities. ZineCat still has a long way to go\, in terms of functionality\, but with over 31\,000 records from its first six member libraries\, it is already serving zine creators\, scholars\, and lay readers’ needs. \n 
URL:https://nycdh.org/dhweek/event/zine-union-catalog-bringing-together-disparate-unruly-data/
LOCATION:Bobst Library\, NYU\, Room 743\, 70 Washington Square South\, New York\, NY\, 10012\, United States
CATEGORIES:Beginner,DAM
ORGANIZER;CN="Jenna Freedman":MAILTO:jfreedma@barnard.edu
END:VEVENT
END:VCALENDAR