BEGIN:VCALENDAR
VERSION:2.0
PRODID:-//NYCDH Week - ECPv6.15.17//NONSGML v1.0//EN
CALSCALE:GREGORIAN
METHOD:PUBLISH
X-WR-CALNAME:NYCDH Week
X-ORIGINAL-URL:https://nycdh.org/dhweek
X-WR-CALDESC:Events for NYCDH Week
REFRESH-INTERVAL;VALUE=DURATION:PT1H
X-Robots-Tag:noindex
X-PUBLISHED-TTL:PT1H
BEGIN:VTIMEZONE
TZID:America/New_York
BEGIN:DAYLIGHT
TZOFFSETFROM:-0500
TZOFFSETTO:-0400
TZNAME:EDT
DTSTART:20160313T070000
END:DAYLIGHT
BEGIN:STANDARD
TZOFFSETFROM:-0400
TZOFFSETTO:-0500
TZNAME:EST
DTSTART:20161106T060000
END:STANDARD
BEGIN:DAYLIGHT
TZOFFSETFROM:-0500
TZOFFSETTO:-0400
TZNAME:EDT
DTSTART:20170312T070000
END:DAYLIGHT
BEGIN:STANDARD
TZOFFSETFROM:-0400
TZOFFSETTO:-0500
TZNAME:EST
DTSTART:20171105T060000
END:STANDARD
BEGIN:DAYLIGHT
TZOFFSETFROM:-0500
TZOFFSETTO:-0400
TZNAME:EDT
DTSTART:20180311T070000
END:DAYLIGHT
BEGIN:STANDARD
TZOFFSETFROM:-0400
TZOFFSETTO:-0500
TZNAME:EST
DTSTART:20181104T060000
END:STANDARD
BEGIN:DAYLIGHT
TZOFFSETFROM:-0500
TZOFFSETTO:-0400
TZNAME:EDT
DTSTART:20190310T070000
END:DAYLIGHT
BEGIN:STANDARD
TZOFFSETFROM:-0400
TZOFFSETTO:-0500
TZNAME:EST
DTSTART:20191103T060000
END:STANDARD
BEGIN:DAYLIGHT
TZOFFSETFROM:-0500
TZOFFSETTO:-0400
TZNAME:EDT
DTSTART:20200308T070000
END:DAYLIGHT
BEGIN:STANDARD
TZOFFSETFROM:-0400
TZOFFSETTO:-0500
TZNAME:EST
DTSTART:20201101T060000
END:STANDARD
END:VTIMEZONE
BEGIN:VEVENT
DTSTART;TZID=America/New_York:20190206T150000
DTEND;TZID=America/New_York:20190206T170000
DTSTAMP:20260421T020214
CREATED:20190120T192818Z
LAST-MODIFIED:20190206T205600Z
UID:2658-1549465200-1549472400@nycdh.org
SUMMARY:Doing DH at a Predominantly Technical University
DESCRIPTION:Do you work at a predominantly technical university? Are you Interested in developing curricula and degree programs in Digital Humanities? This workshop will introduce work being done to develop Digital Humanities at ITMO University in Saint-Petersburg (Russia)\, which recently established an International DH Lab co-directed by workshop instructors Antonina Puchkovskaya and Kimon Keramidas. During the workshop\, we will share the challenges of developing DH curriculum and programming at a predominantly technical university\, address the different administrative and pedagogical perspectives at tech institutions\, discuss how getting buy-in from constituencies can pose particular challenges. We will also discuss how collaborative work started during NYCDH Week 2018 led to the establishment of the center and the development of a MA in Digital Humanities that will be launching in the fall of 2019. The workshop will also cover using the cultural heritage sector to find projects and an open conversation with people already working or just starting to develop DH in environments such as this. \nRequirements: none.
URL:https://nycdh.org/dhweek/event/doing-dh-at-a-predominantly-technical-university/
LOCATION:NYU XE: Experimental Humanities and Social Enagement\, Conference Room\, 24 E 8th St.\, New York\, NY\, 10003\, United States
CATEGORIES:Beginner,Pedagogy
ORGANIZER;CN="Kimon Keramidas":MAILTO:kimon.keramidas@nyu.edu
GEO:40.73169;-73.995173
X-APPLE-STRUCTURED-LOCATION;VALUE=URI;X-ADDRESS=NYU XE: Experimental Humanities and Social Enagement Conference Room 24 E 8th St. New York NY 10003 United States;X-APPLE-RADIUS=500;X-TITLE=24 E 8th St.:geo:-73.995173,40.73169
END:VEVENT
BEGIN:VEVENT
DTSTART;TZID=America/New_York:20180208T090000
DTEND;TZID=America/New_York:20180208T110000
DTSTAMP:20260421T020214
CREATED:20180118T200518Z
LAST-MODIFIED:20180207T172116Z
UID:1589-1518080400-1518087600@nycdh.org
SUMMARY:How to Make Your Humanities Course More Digital: The Syllabus Re-design
DESCRIPTION:One of the most valuable tools in any course is the syllabus as it establishes the first connection between teachers and students\, which also means the syllabus can set the course tone and create the impression of whether the course will a success or failure. A good\, concise syllabus can answer many of the initial questions students may have as well as lessen anxieties felt by students. The power of the syllabus cannot be understated\, which is why the principles of syllabus design require exploration and discovery. \nIn the age of digitizing of almost every aspect of our lives it is important to pay attention to how we approach teaching Humanities courses. By exploring the consequences of integrating the infocommunication technologies into social media\, politics\, economics and social life we could create a fruitful DH course syllabus by re-designing an existed one. \nHow to make your Humanities course more digital? What platform to choose for communicating with your students? How to adjust the tasks to make them more effective and productive for your class? \nBy the end of this task-based learning workshop\, participants will not only have learned the core principles of re-designing the Humanities course syllabus\, but will have been provided by a vital supplementary pedagogical training to make the existed Humanities course more digital. \nLEVEL: Beginners\nNOTES: N/A
URL:https://nycdh.org/dhweek/event/how-to-make-your-humanities-course-more-digital-the-syllabus-re-design/
LOCATION:NYU XE: Experimental Humanities and Social Enagement\, Conference Room\, 24 E 8th St.\, New York\, NY\, 10003\, United States
CATEGORIES:Beginner,Pedagogy
ORGANIZER;CN="Antonina A. Puchkovskaia":MAILTO:artonina@gmail.com
GEO:40.73169;-73.995173
X-APPLE-STRUCTURED-LOCATION;VALUE=URI;X-ADDRESS=NYU XE: Experimental Humanities and Social Enagement Conference Room 24 E 8th St. New York NY 10003 United States;X-APPLE-RADIUS=500;X-TITLE=24 E 8th St.:geo:-73.995173,40.73169
END:VEVENT
BEGIN:VEVENT
DTSTART;TZID=America/New_York:20180207T100000
DTEND;TZID=America/New_York:20180207T120000
DTSTAMP:20260421T020214
CREATED:20180118T205114Z
LAST-MODIFIED:20180123T180849Z
UID:1635-1517997600-1518004800@nycdh.org
SUMMARY:Introduction to Carto
DESCRIPTION:This workshop will introduce participants to Carto\, a freemium\, open-source mapping platform. It will include a short review of digital mapping\, background information about the platform\, and a hands-on demonstration of how to create a simple map on Carto. The workshop will also briefly describe ways to develop personal data that is compatible with Carto\, although the hands-on portion will be completed using a dataset available online. \nThe Introduction to Carto workshop is intended for new Carto users who are minimally familiar with mapping. It will also serve as a refresher for more advanced users of Carto who are unfamiliar with the platform’s new interface. \nLEVEL: Beginner\nNOTES: Attendees will need a laptop to participate in the hands-on portion. They will also need to create an account at https://carto.com/ before the workshop.
URL:https://nycdh.org/dhweek/event/introduction-to-carto/
LOCATION:NYU XE: Experimental Humanities and Social Enagement\, Conference Room\, 24 E 8th St.\, New York\, NY\, 10003\, United States
CATEGORIES:Beginner,Mapping
ORGANIZER;CN="Heather V. Hill":MAILTO:hhill3@fordham.edu
GEO:40.73169;-73.995173
X-APPLE-STRUCTURED-LOCATION;VALUE=URI;X-ADDRESS=NYU XE: Experimental Humanities and Social Enagement Conference Room 24 E 8th St. New York NY 10003 United States;X-APPLE-RADIUS=500;X-TITLE=24 E 8th St.:geo:-73.995173,40.73169
END:VEVENT
BEGIN:VEVENT
DTSTART;TZID=America/New_York:20170210T050000
DTEND;TZID=America/New_York:20170210T070000
DTSTAMP:20260421T020214
CREATED:20170112T010715Z
LAST-MODIFIED:20170112T095336Z
UID:350-1486702800-1486710000@nycdh.org
SUMMARY:Advanced Text Analysis with SpaCy and Scikit-Learn
DESCRIPTION:This workshop is an introduction to the Python module SpaCy\, a new library for natural language processing written in Cython\, and Scikit-Learn\, a library for machine learning. It is intended for intermediate to advanced Python programmers who are familiar with natural language processing suites such as the NLTK\, and who are ready to explore next-generation tools. We will cover advanced topics such as word embeddings\, dependency parsing\, and machine learning. \nSkill Level\nIntermediate/Advanced \nPrerequisites\nFamiliarity with Python is required. \nEquipment Requirements\nPlease bring a laptop on which you’ve installed Python 3\, SpaCy\, Scikit-Learn\, and the NLTK. \n 
URL:https://nycdh.org/dhweek/event/advanced-text-analysis-with-spacy-and-scikit-learn/
LOCATION:NYU XE: Experimental Humanities and Social Enagement\, Conference Room\, 24 E 8th St.\, New York\, NY\, 10003\, United States
CATEGORIES:Advanced,Intermediate,Programming Languages,Python
ORGANIZER;CN="Jonathan Reeve":MAILTO:jonathan.reeve@columbia.edu
GEO:40.73169;-73.995173
X-APPLE-STRUCTURED-LOCATION;VALUE=URI;X-ADDRESS=NYU XE: Experimental Humanities and Social Enagement Conference Room 24 E 8th St. New York NY 10003 United States;X-APPLE-RADIUS=500;X-TITLE=24 E 8th St.:geo:-73.995173,40.73169
END:VEVENT
BEGIN:VEVENT
DTSTART;TZID=America/New_York:20170209T080000
DTEND;TZID=America/New_York:20170209T100000
DTSTAMP:20260421T020214
CREATED:20170123T190233Z
LAST-MODIFIED:20170124T010340Z
UID:849-1486627200-1486634400@nycdh.org
SUMMARY:Digital Mapping for JavaScript Novices
DESCRIPTION:JavaScript is one of the most popular and ubiquitous programming languages in history. Because every web browser speaks it\, it’s worth knowing at least a little bit when doing any kind of web-based DH work. This workshop takes JavaScript novices (and those with more experience) and introduces them the language with the goal of making an interactive web map using Leaflet. \nSkill Level\nBeginner \nPrerequisites\nSome HTML and/or JavaScript knowledge is useful but not required. \nEquipment Requirements\nComputer w/ text editor and browser
URL:https://nycdh.org/dhweek/event/digital-mapping-for-javascript-novices/
LOCATION:NYU XE: Experimental Humanities and Social Enagement\, Conference Room\, 24 E 8th St.\, New York\, NY\, 10003\, United States
CATEGORIES:Beginner,Mapping
ORGANIZER;CN="Moacir P. de S%C3%A1 Pereira":MAILTO:moacir.p@columbia.edu
GEO:40.73169;-73.995173
X-APPLE-STRUCTURED-LOCATION;VALUE=URI;X-ADDRESS=NYU XE: Experimental Humanities and Social Enagement Conference Room 24 E 8th St. New York NY 10003 United States;X-APPLE-RADIUS=500;X-TITLE=24 E 8th St.:geo:-73.995173,40.73169
END:VEVENT
BEGIN:VEVENT
DTSTART;TZID=America/New_York:20170209T050000
DTEND;TZID=America/New_York:20170209T070000
DTSTAMP:20260421T020214
CREATED:20170112T005959Z
LAST-MODIFIED:20170203T223726Z
UID:344-1486616400-1486623600@nycdh.org
SUMMARY:Planning and Prototyping a Digital Humanities Project
DESCRIPTION:In this workshop\, we’ll cover how to plan and prototype an online\, interactive digital humanities storytelling project. The planning phase will include rapid sketching\, user experience methods\, and two ways of working: from big picture to details\, and details to the big picture. We’ll investigate which method is appropriate in typical digital humanities circumstances. The interactives will be produced as sketches in free visualization software\, Tableau Public\, and we’ll also discuss other free academic sketching and protoyping resources available to digital humanists\, such as R and Shiny R. \nSkill Level\nBeginner \nPrerequisites\nNone \nEquipment Requirements\nLaptops\, notebooks\, pens\, and sticky notes
URL:https://nycdh.org/dhweek/event/planning-and-prototyping-a-digital-humanities-project/
LOCATION:NYU XE: Experimental Humanities and Social Enagement\, Conference Room\, 24 E 8th St.\, New York\, NY\, 10003\, United States
CATEGORIES:Beginner,Digital Humanities
ORGANIZER;CN="Joshua Korenblat":MAILTO:korenblj@newpaltz.edu
GEO:40.73169;-73.995173
X-APPLE-STRUCTURED-LOCATION;VALUE=URI;X-ADDRESS=NYU XE: Experimental Humanities and Social Enagement Conference Room 24 E 8th St. New York NY 10003 United States;X-APPLE-RADIUS=500;X-TITLE=24 E 8th St.:geo:-73.995173,40.73169
END:VEVENT
BEGIN:VEVENT
DTSTART;TZID=America/New_York:20170208T080000
DTEND;TZID=America/New_York:20170208T100000
DTSTAMP:20260421T020214
CREATED:20170123T045842Z
LAST-MODIFIED:20170123T045922Z
UID:837-1486540800-1486548000@nycdh.org
SUMMARY:Sustaining and Growing your DH Projects
DESCRIPTION:What does it take for a DH project to go from concept to community treasure? While some DH projects are purely experimental\, many project leaders are eager to see their work grow and develop over time and become useful to a significant community of scholars and students. \nThis workshop will introduce digital project leaders to the basics of dynamic sustainability\, the notion that for a project to continue to grow and develop over time\, its leaders must create and encourage an ongoing cycle of support. Using examples of success stories from the field\, the session will offer an outline of some practical steps you can take to develop a reliable sustainability model\, exploring the role of audience\, the host institution\, and the potential for a range of revenue sources. Participants at all stages of work\, from developing proposals to running established projects\, are encouraged to attend. \nWorkshop leader Nancy Maron is author of Sustaining the Digital Humanities\, Guide to the Best Revenue Models and Funding Sources for your Digital Resources\, and several other reports and case studies concerning strategies for DH support. Prior to founding BlueSky to BluePrint\, she led the Sustainability and Scholarly Communications team at Ithaka S+R. She currently serves as President of the Board of the Yonkers Public Library. \nSkill Level\nBeginner \nPrerequisites\nNone \nEquipment Requirements\nNone \n 
URL:https://nycdh.org/dhweek/event/sustaining-and-growing-your-dh-projects/
LOCATION:NYU XE: Experimental Humanities and Social Enagement\, Conference Room\, 24 E 8th St.\, New York\, NY\, 10003\, United States
CATEGORIES:Beginner,Data Management
ORGANIZER;CN="Nancy Maron":MAILTO: nancy@blueskytoblueprint.com
GEO:40.73169;-73.995173
X-APPLE-STRUCTURED-LOCATION;VALUE=URI;X-ADDRESS=NYU XE: Experimental Humanities and Social Enagement Conference Room 24 E 8th St. New York NY 10003 United States;X-APPLE-RADIUS=500;X-TITLE=24 E 8th St.:geo:-73.995173,40.73169
END:VEVENT
BEGIN:VEVENT
DTSTART;TZID=America/New_York:20170208T043000
DTEND;TZID=America/New_York:20170208T063000
DTSTAMP:20260421T020214
CREATED:20170111T233135Z
LAST-MODIFIED:20170112T011426Z
UID:338-1486528200-1486535400@nycdh.org
SUMMARY:Machine Learning for the Study of Literary and Historical Corpora
DESCRIPTION:Depending on participant interest\, this workshop will discuss either (1) principal component analysis or (2) word embeddings as a technique for exploring large digitized corpora\, with particular emphasis on applications to literary and historical study. The workshop will be conducted using Jupyter notebooks in Python. \nNo prior experience with Python is assumed\, but elementary knowledge of Python will be helpful. Participants will learn what these techniques are\, some of the assumptions these techniques make\, and how they can immediately apply these techniques to their own set of literary or historical texts. Larger implications of using these techniques for humanist study will also be discussed. \nSkill Level\nBeginner to Intermediate \nPrerequisites\nNone \nEquipment Requirements\nLaptops required\, participants will access jupyter notebooks via their web browser (no install required)
URL:https://nycdh.org/dhweek/event/machine-learning-for-the-study-of-literary-and-historical-corpora/
LOCATION:NYU XE: Experimental Humanities and Social Enagement\, Conference Room\, 24 E 8th St.\, New York\, NY\, 10003\, United States
CATEGORIES:Beginner,Intermediate,Programming Languages,Python
ORGANIZER;CN="Aaron Plasek":MAILTO:aaron.plasek@columbia.edu
GEO:40.73169;-73.995173
X-APPLE-STRUCTURED-LOCATION;VALUE=URI;X-ADDRESS=NYU XE: Experimental Humanities and Social Enagement Conference Room 24 E 8th St. New York NY 10003 United States;X-APPLE-RADIUS=500;X-TITLE=24 E 8th St.:geo:-73.995173,40.73169
END:VEVENT
BEGIN:VEVENT
DTSTART;TZID=America/New_York:20170207T080000
DTEND;TZID=America/New_York:20170207T100000
DTSTAMP:20260421T020214
CREATED:20170111T235016Z
LAST-MODIFIED:20170112T011953Z
UID:358-1486454400-1486461600@nycdh.org
SUMMARY:Sampling for the Digital Humanities
DESCRIPTION:Do you have a huge archive to analyze? Do you want to find trends in a large data set? Are your methods time-consuming and difficult to automate? Sampling may be the answer! Learn how sampling can save you time and energy\, why representative sampling matters\, how to pick random subsets of your data\, and how to test if your sample is big enough to generalize! \nSkill Level\nIntermediate \nPrerequisites\nNone \nEquipment Requirements\nNone\, laptop and data if available
URL:https://nycdh.org/dhweek/event/sampling-for-the-digital-humanities/
LOCATION:NYU XE: Experimental Humanities and Social Enagement\, Conference Room\, 24 E 8th St.\, New York\, NY\, 10003\, United States
CATEGORIES:Intermediate,Statistics,Visualization
ORGANIZER;CN="Angus Grieve-Smith":MAILTO:angus@grieve-smith.com
GEO:40.73169;-73.995173
X-APPLE-STRUCTURED-LOCATION;VALUE=URI;X-ADDRESS=NYU XE: Experimental Humanities and Social Enagement Conference Room 24 E 8th St. New York NY 10003 United States;X-APPLE-RADIUS=500;X-TITLE=24 E 8th St.:geo:-73.995173,40.73169
END:VEVENT
BEGIN:VEVENT
DTSTART;TZID=America/New_York:20170207T050000
DTEND;TZID=America/New_York:20170207T063000
DTSTAMP:20260421T020214
CREATED:20170111T233555Z
LAST-MODIFIED:20170112T011908Z
UID:332-1486443600-1486449000@nycdh.org
SUMMARY:Visualizing Qualitative Data
DESCRIPTION:This presentation will introduce attendees to the fundamentals of Nvivo queries and analyses. Participants will be shown to easy-to-follow demonstrations of NVivo functions that allow users to visualize information from data sources such as surveys\, literature reviews\, and interview transcripts. The workshop is geared toward beginners who have had little previous exposure to NVivo. Attendees must bring their own laptops to the session. \nSkill Level\nBeginner \nPrerequisites\nNone \nEquipment Requirements\nLaptop
URL:https://nycdh.org/dhweek/event/visualizing-qualitative-data/
LOCATION:NYU XE: Experimental Humanities and Social Enagement\, Conference Room\, 24 E 8th St.\, New York\, NY\, 10003\, United States
CATEGORIES:Beginner,Visualization
ORGANIZER;CN="Ah-Young Song":MAILTO:as4493@tc.columbia.edu
GEO:40.73169;-73.995173
X-APPLE-STRUCTURED-LOCATION;VALUE=URI;X-ADDRESS=NYU XE: Experimental Humanities and Social Enagement Conference Room 24 E 8th St. New York NY 10003 United States;X-APPLE-RADIUS=500;X-TITLE=24 E 8th St.:geo:-73.995173,40.73169
END:VEVENT
END:VCALENDAR