BEGIN:VCALENDAR
VERSION:2.0
PRODID:-//NYCDH Week - ECPv6.15.17//NONSGML v1.0//EN
CALSCALE:GREGORIAN
METHOD:PUBLISH
X-WR-CALNAME:NYCDH Week
X-ORIGINAL-URL:https://nycdh.org/dhweek
X-WR-CALDESC:Events for NYCDH Week
REFRESH-INTERVAL;VALUE=DURATION:PT1H
X-Robots-Tag:noindex
X-PUBLISHED-TTL:PT1H
BEGIN:VTIMEZONE
TZID:America/New_York
BEGIN:DAYLIGHT
TZOFFSETFROM:-0500
TZOFFSETTO:-0400
TZNAME:EDT
DTSTART:20160313T070000
END:DAYLIGHT
BEGIN:STANDARD
TZOFFSETFROM:-0400
TZOFFSETTO:-0500
TZNAME:EST
DTSTART:20161106T060000
END:STANDARD
BEGIN:DAYLIGHT
TZOFFSETFROM:-0500
TZOFFSETTO:-0400
TZNAME:EDT
DTSTART:20170312T070000
END:DAYLIGHT
BEGIN:STANDARD
TZOFFSETFROM:-0400
TZOFFSETTO:-0500
TZNAME:EST
DTSTART:20171105T060000
END:STANDARD
BEGIN:DAYLIGHT
TZOFFSETFROM:-0500
TZOFFSETTO:-0400
TZNAME:EDT
DTSTART:20180311T070000
END:DAYLIGHT
BEGIN:STANDARD
TZOFFSETFROM:-0400
TZOFFSETTO:-0500
TZNAME:EST
DTSTART:20181104T060000
END:STANDARD
END:VTIMEZONE
BEGIN:VEVENT
DTSTART;TZID=America/New_York:20170210T080000
DTEND;TZID=America/New_York:20170210T100000
DTSTAMP:20260423T110751
CREATED:20170112T000920Z
LAST-MODIFIED:20170112T010654Z
UID:374-1486713600-1486720800@nycdh.org
SUMMARY:Multimedia Film Analysis
DESCRIPTION:A workshop focusing on demonstrations and applications of easy-to-use tools for film/audiovisual media analysis\, such as video annotation software and interactive image annotation tools. In addition to brief how-to tutorials\, this workshop will also give examples of how to productively incorporate those tools into multimedia assignments for Film and Media Studies courses. \nSkill Level\nBeginner/ Intermediate \nPrerequisites\nNone \nEquipment & Software requirements\nLaptop (optional)
URL:https://nycdh.org/dhweek/event/multimedia-film-analysis/
LOCATION:Tisch School of the Arts: Cinema Studies Department\, Room 652\, 721 Broadway\, New York\, NY\, 10003\, United States
CATEGORIES:Audiovisual,Beginner,Film Studies,Intermediate
ORGANIZER;CN="Marina Hassapopoulou":MAILTO:mh193@nyu.edu
GEO:40.7295255;-73.9938442
X-APPLE-STRUCTURED-LOCATION;VALUE=URI;X-ADDRESS=Tisch School of the Arts: Cinema Studies Department Room 652 721 Broadway New York NY 10003 United States;X-APPLE-RADIUS=500;X-TITLE=721 Broadway:geo:-73.9938442,40.7295255
END:VEVENT
END:VCALENDAR