BEGIN:VCALENDAR
VERSION:2.0
PRODID:-//NYCDH Week - ECPv6.15.17//NONSGML v1.0//EN
CALSCALE:GREGORIAN
METHOD:PUBLISH
X-WR-CALNAME:NYCDH Week
X-ORIGINAL-URL:https://nycdh.org/dhweek
X-WR-CALDESC:Events for NYCDH Week
REFRESH-INTERVAL;VALUE=DURATION:PT1H
X-Robots-Tag:noindex
X-PUBLISHED-TTL:PT1H
BEGIN:VTIMEZONE
TZID:America/New_York
BEGIN:DAYLIGHT
TZOFFSETFROM:-0500
TZOFFSETTO:-0400
TZNAME:EDT
DTSTART:20180311T070000
END:DAYLIGHT
BEGIN:STANDARD
TZOFFSETFROM:-0400
TZOFFSETTO:-0500
TZNAME:EST
DTSTART:20181104T060000
END:STANDARD
BEGIN:DAYLIGHT
TZOFFSETFROM:-0500
TZOFFSETTO:-0400
TZNAME:EDT
DTSTART:20190310T070000
END:DAYLIGHT
BEGIN:STANDARD
TZOFFSETFROM:-0400
TZOFFSETTO:-0500
TZNAME:EST
DTSTART:20191103T060000
END:STANDARD
BEGIN:DAYLIGHT
TZOFFSETFROM:-0500
TZOFFSETTO:-0400
TZNAME:EDT
DTSTART:20200308T070000
END:DAYLIGHT
BEGIN:STANDARD
TZOFFSETFROM:-0400
TZOFFSETTO:-0500
TZNAME:EST
DTSTART:20201101T060000
END:STANDARD
BEGIN:DAYLIGHT
TZOFFSETFROM:-0500
TZOFFSETTO:-0400
TZNAME:EDT
DTSTART:20210314T070000
END:DAYLIGHT
BEGIN:STANDARD
TZOFFSETFROM:-0400
TZOFFSETTO:-0500
TZNAME:EST
DTSTART:20211107T060000
END:STANDARD
END:VTIMEZONE
BEGIN:VEVENT
DTSTART;TZID=America/New_York:20200206T150000
DTEND;TZID=America/New_York:20200206T170000
DTSTAMP:20260420T200703
CREATED:20200124T170104Z
LAST-MODIFIED:20200124T170104Z
UID:4252-1581001200-1581008400@nycdh.org
SUMMARY:Simple CV
DESCRIPTION:Create a PDF and HTML CV for yourself out of plain text files and set up a free personal CV website. \nEquipment Requirements: Attendees should bring their own laptop and pre-install Visual Studio Code. \n 
URL:https://nycdh.org/dhweek/event/simple-cv-2/
LOCATION:Studio Lehman\, Lehman Social Sciences Library\, 420 W 118th St\, Room 215 International Affairs Building \, New York\, NY\, 10027
CATEGORIES:Beginner,HTML
ORGANIZER;CN="Moacir P. de S%C3%A1 Pereira":MAILTO:moacir.p@columbia.edu
END:VEVENT
BEGIN:VEVENT
DTSTART;TZID=America/New_York:20200205T150000
DTEND;TZID=America/New_York:20200205T170000
DTSTAMP:20260420T200703
CREATED:20200123T190356Z
LAST-MODIFIED:20200124T170231Z
UID:4249-1580914800-1580922000@nycdh.org
SUMMARY:Git in a Jiff
DESCRIPTION:Learn the basics of using Git to put your projects\, articles\, and chapters under version control. Then\, learn to integrate Git with Visual Studio Code. \nEquipment Requirements: Attendees should bring their own laptop and pre-install Visual Studio Code. \n  \n 
URL:https://nycdh.org/dhweek/event/git-in-a-jiff/
LOCATION:Studio Lehman\, Lehman Social Sciences Library\, 420 W 118th St\, Room 215 International Affairs Building \, New York\, NY\, 10027
CATEGORIES:Beginner,Github
ORGANIZER;CN="Moacir P. de S%C3%A1 Pereira":MAILTO:moacir.p@columbia.edu
END:VEVENT
BEGIN:VEVENT
DTSTART;TZID=America/New_York:20200204T150000
DTEND;TZID=America/New_York:20200204T170000
DTSTAMP:20260420T200703
CREATED:20200124T170031Z
LAST-MODIFIED:20200127T145413Z
UID:4246-1580828400-1580835600@nycdh.org
SUMMARY:Make a Simple Webmap with Leaflet
DESCRIPTION:Learn to make a website from scratch that features a simple webmap with Leaflet. \nPrerequisites: HTML and JavaScript knowledge is useful but not required.\nEquipment Requirements: Attendees should bring their own laptop and pre-install Visual Studio Code. \n  \nLehman Library 215\nSIPA building\n420 W 118th
URL:https://nycdh.org/dhweek/event/make-a-simple-webmap-with-leaflet-2/
LOCATION:Studio Lehman\, Lehman Social Sciences Library\, 420 W 118th St\, Room 215 International Affairs Building \, New York\, NY\, 10027
CATEGORIES:Beginner,HTML,JavaScript,Mapping
ORGANIZER;CN="Moacir P. de S%C3%A1 Pereira":MAILTO:moacir.p@columbia.edu
END:VEVENT
BEGIN:VEVENT
DTSTART;TZID=America/New_York:20190207T150000
DTEND;TZID=America/New_York:20190207T170000
DTSTAMP:20260420T200703
CREATED:20190120T200254Z
LAST-MODIFIED:20190124T172016Z
UID:2690-1549551600-1549558800@nycdh.org
SUMMARY:Git and Atom
DESCRIPTION:Learn how to use Git to put your projects\, articles\, and chapters under version control. Then\, see how easy it is to integrate Git with Atom\, a hackable text editor. \nRequirements: Attendees should bring their own laptop.
URL:https://nycdh.org/dhweek/event/git-and-atom/
LOCATION:Studio Lehman\, Lehman Social Sciences Library\, 420 W 118th St\, Room 215 International Affairs Building \, New York\, NY\, 10027
CATEGORIES:Beginner,Github
ORGANIZER;CN="Moacir P. de S%C3%A1 Pereira":MAILTO:moacir.p@columbia.edu
END:VEVENT
BEGIN:VEVENT
DTSTART;TZID=America/New_York:20190206T150000
DTEND;TZID=America/New_York:20190206T170000
DTSTAMP:20260420T200703
CREATED:20190120T200039Z
LAST-MODIFIED:20190124T032237Z
UID:2686-1549465200-1549472400@nycdh.org
SUMMARY:Simple-CV
DESCRIPTION:Create a pdf and html CV for yourself out of plain text files and set up a personal CV page for free. \nRequirements: Attendees should bring their own laptop. \n  \n 
URL:https://nycdh.org/dhweek/event/simple-cv/
LOCATION:Studio Lehman\, Lehman Social Sciences Library\, 420 W 118th St\, Room 215 International Affairs Building \, New York\, NY\, 10027
ORGANIZER;CN="Moacir P. de S%C3%A1 Pereira":MAILTO:moacir.p@columbia.edu
END:VEVENT
BEGIN:VEVENT
DTSTART;TZID=America/New_York:20190205T150000
DTEND;TZID=America/New_York:20190205T170000
DTSTAMP:20260420T200703
CREATED:20190120T200812Z
LAST-MODIFIED:20190122T202136Z
UID:2695-1549378800-1549386000@nycdh.org
SUMMARY:Make a simple webmap with Leaflet
DESCRIPTION:Learn to make a website from scratch that features a simple webmap with Leaflet. \nPrerequisites: HTML and JavaScript knowledge is useful but not required. \nRequirements: attendees should bring their own laptop.
URL:https://nycdh.org/dhweek/event/make-a-simple-webmap-with-leaflet/
LOCATION:Studio Lehman\, Lehman Social Sciences Library\, 420 W 118th St\, Room 215 International Affairs Building \, New York\, NY\, 10027
CATEGORIES:Beginner
ORGANIZER;CN="Moacir P. de S%C3%A1 Pereira":MAILTO:moacir.p@columbia.edu
END:VEVENT
END:VCALENDAR