BEGIN:VCALENDAR
VERSION:2.0
PRODID:-//NYCDH Week - ECPv6.15.17//NONSGML v1.0//EN
CALSCALE:GREGORIAN
METHOD:PUBLISH
X-WR-CALNAME:NYCDH Week
X-ORIGINAL-URL:https://nycdh.org/dhweek
X-WR-CALDESC:Events for NYCDH Week
REFRESH-INTERVAL;VALUE=DURATION:PT1H
X-Robots-Tag:noindex
X-PUBLISHED-TTL:PT1H
BEGIN:VTIMEZONE
TZID:America/New_York
BEGIN:DAYLIGHT
TZOFFSETFROM:-0500
TZOFFSETTO:-0400
TZNAME:EDT
DTSTART:20150308T070000
END:DAYLIGHT
BEGIN:STANDARD
TZOFFSETFROM:-0400
TZOFFSETTO:-0500
TZNAME:EST
DTSTART:20151101T060000
END:STANDARD
BEGIN:DAYLIGHT
TZOFFSETFROM:-0500
TZOFFSETTO:-0400
TZNAME:EDT
DTSTART:20160313T070000
END:DAYLIGHT
BEGIN:STANDARD
TZOFFSETFROM:-0400
TZOFFSETTO:-0500
TZNAME:EST
DTSTART:20161106T060000
END:STANDARD
BEGIN:DAYLIGHT
TZOFFSETFROM:-0500
TZOFFSETTO:-0400
TZNAME:EDT
DTSTART:20170312T070000
END:DAYLIGHT
BEGIN:STANDARD
TZOFFSETFROM:-0400
TZOFFSETTO:-0500
TZNAME:EST
DTSTART:20171105T060000
END:STANDARD
END:VTIMEZONE
BEGIN:VEVENT
DTSTART;TZID=America/New_York:20160212T050000
DTEND;TZID=America/New_York:20160212T070000
DTSTAMP:20260423T083504
CREATED:20160121T024346Z
LAST-MODIFIED:20161122T220716Z
UID:169-1455253200-1455260400@nycdh.org
SUMMARY:Typography for [Digital] Humanists
DESCRIPTION:“Typography is what language looks like.” This quote by educator and designer Ellen Lupton has been used countless times to explain how typography\, the arrangement and use of type\, permeates our visual landscape\, from the printed page to screens to physical environments. Those who work in the digital humanities are called upon to make typographic choices everyday\, yet few have any training in how to select\, arrange and design with type to create effective messages. This workshop will provide an overview of basic typographic principles and will focus specifically on issues related to typography for [digital] humanists\, such as typeface selection for digital projects\, web typography tools and typography for UI/ UX design. Participants must bring a laptop with a recent version of Chrome installed. \nLocation: \nLL608\nLowenstein Building\nFordham University\n60th and Columbus
URL:https://nycdh.org/dhweek/event/typography-for-digital-humanists/
LOCATION:Fordham University’s Lincoln Center Campus\, Room TBA\, 113 W 60th Street\, New York\, 10023\, United States
CATEGORIES:Beginner,Design,Editing,Intermediate
ORGANIZER;CN="Amy Papaelias":MAILTO:papaelia@newpaltz.edu
GEO:40.7708109;-73.9851512
X-APPLE-STRUCTURED-LOCATION;VALUE=URI;X-ADDRESS=Fordham University’s Lincoln Center Campus Room TBA 113 W 60th Street New York 10023 United States;X-APPLE-RADIUS=500;X-TITLE=113 W 60th Street:geo:-73.9851512,40.7708109
END:VEVENT
BEGIN:VEVENT
DTSTART;TZID=America/New_York:20160209T083000
DTEND;TZID=America/New_York:20160209T103000
DTSTAMP:20260423T083504
CREATED:20160126T114340Z
LAST-MODIFIED:20161122T222233Z
UID:215-1455006600-1455013800@nycdh.org
SUMMARY:Lightning Talks 2016
DESCRIPTION:A integral part of the NYCDH agenda is supporting and building our community! To foster this initiative\, the kick off event for NYCDH Week features a session of three-and-a-half minute (3:30) lightning talks that showcase a wide range of DH work done across the NYCDH community. Following is a list of presenters from 2016: \nScheduled Presenters\n \n\n\n\n\n\n\n\n\n\nName\nInstitution\nProject Title\nTwitter Handle\nProject URL\n\n\nAngus Grieve-Smith\nNYU\nThe Digital Parisian Stage: A representative corpus of 19th-Century French Theater\n@grvsmth\nhttp://grieve-smith.com/\nblog/stage/\n\n\nMarion Thain\nNYU\nThe Victorian Lives and Letters Consortium\n@MarionThain\nhttps://sites.google.com/\na/nyu.edu/marion-thain/\n\n\nEllen Hoobler\nCornell College\nOf ceramics and software: ancient Zapotec tombs given new digital life\n@zapotecurn\ndigitalzapotectombs.com\n\n\nCaroline Catchpole\nMETRO\nCulture in Transit: Creating a mobile digitization service\n@DigitizeNYC\nhttp://www.mnylc.org/cit/\n\n\nLiza Harrell-Edge\nThe New School\nChallenges Integrating Curatorial/Interpretive Content with “Straight” Digital Collections\n@lizahar\nhttp://digitalarchives.library\n.newschool.edu\n\n\nEric Lease Morgan\nUniversity of Notre Dame\nText mining JSTOR\, EEBO\, and the HathiTrust\n@Ericleasemorgan\nHttp://planet.infomotions.com\n\n\nEric Lease Morgan\nUniversity of Notre dame\nAnalysis of fine art through digital image inspection\n@Ericleasemorgan\nHttp://planet.infomotions.com\n\n\nWalter Perry\nFiduciary Automation\nPrecision Digital Law (Like Precision Medicine)\n@weperry\n\n\n\nAugustus Wendell & Burcak Ozludil\nNJIT\nVisualizing Spaces of Madness: An Ottoman Asylum\n\n\n\n\nEmily Fuhrman\nColumbia University\nSpatial Text: Mapping Indexicality in Walter Benjamin’s _The Arcades Project_\n@xxzvx\nemilyfuhrman.co\n\n\nNathan LaFave\nNYU\nLanguage Attitudes Toward New York City English on Twitter\n\nhttps://sites.google.com/\na/nyu.edu/nlafave/\n\n\nScott Zukowski\nStony Brook University\nPedagogy and the Digital Humanities: Creating Authentic Learning Experiences\n\nhttp://arcg.is/1N4amu8\n\n\nAnders Wallace\nCUNY Graduate Center\nSeduction By Design: Masculinity\, Pickup Artists\, and the Uses of Social Media in Virtual Social Skills Training Communities\n\n\n\n\nJonathan Reeve\nColumbia University\nBuilding the Collaborative\, Open-Source Critical Edition of James Joyce’s Portrait of the Artist as a Young Man in TEI XML\n@j0_0n\nhttps://github.com/\nJonathanReeve/\ncorpus-joyce-portrait-TEI\n\n\nHeather Hill\nFordham University\nExploring Place in the French of Italy\n@HeatherVHill\nhttps://heathervhill.\nwordpress.com/\n\n\nBoyda Johnstone\nFordham University\nHook & Eye: Feminist Blogging in the Academy\n@boydajosa\nhttp://hookandeye.ca\n\n\nAaron Plasek\nColumbia/NYU\nOn the notion of “Best Available”: experimental humanities as pedagogical practice and ethical investigation\n@aaronplasek\nhttp://aaronplasek.com
URL:https://nycdh.org/dhweek/event/lightning-talks-16/
LOCATION:Fordham University’s Lincoln Center Campus\, Room TBA\, 113 W 60th Street\, New York\, 10023\, United States
ORGANIZER;CN="Kimon Keramidas":MAILTO:kimon.keramidas@nyu.edu
GEO:40.7708109;-73.9851512
X-APPLE-STRUCTURED-LOCATION;VALUE=URI;X-ADDRESS=Fordham University’s Lincoln Center Campus Room TBA 113 W 60th Street New York 10023 United States;X-APPLE-RADIUS=500;X-TITLE=113 W 60th Street:geo:-73.9851512,40.7708109
END:VEVENT
BEGIN:VEVENT
DTSTART;TZID=America/New_York:20160209T081500
DTEND;TZID=America/New_York:20160209T090000
DTSTAMP:20260423T083504
CREATED:20160211T100013Z
LAST-MODIFIED:20160211T233449Z
UID:240-1455005700-1455008400@nycdh.org
SUMMARY:Presentations by NYCDH Graduate Student Award Winners
DESCRIPTION:Scheduled Presenters\n \n\n\n\n\n\n\n\n\n\nName\nInstitution\nProject Title\nTwitter Handle\nProject URL\n\n\nChristy Pottroff\nFordham\nThe U.S. Goes Postal: Mapping Union and War in the Antebellum Era\n@ChristyPottroff\nhttp://www.christypottroff.com/\npage-dh/\n\n\nJonathan Reeve\nColumbia University\nGit-Lit\n@j0_0n\nhttp://git-lit.github.io/\n\n\nEileen Clancy\nCUNY Graduate Center\nBeyond Citation\n@clancynewyork\nhttp://www.beyondcitation.org/\n\n\nMargaret Galvan\nCUNY Graduate Center\nMapping and Networking Alison Bechdel to Grassroots Periodical Culture\, 1983-2008\n@magdor\nhttp://margaretgalvan.org/mapping\n-and-networking-bechdel/\n\n\nAlice Lynn McMichael\nCUNY Graduate Center\nReconstructing a Sacred Barrier: Testing the Virtual Waters of 3D Modeling\n@ByzCapp\nhttp://documentingcappadocia.\nnewmedialab.cuny.edu/nycdh-lightening-talk/\n\n\nConnor Gaudet\nNYU\nD-FOCRO: Directory-Formatted OCR Output\n@cegaudet\nhttps://nycdh.org/members/cegaudet/
URL:https://nycdh.org/dhweek/event/presentations-by-nycdh-graduate-student-award-winners/
LOCATION:Fordham University’s Lincoln Center Campus\, Room TBA\, 113 W 60th Street\, New York\, 10023\, United States
GEO:40.7708109;-73.9851512
X-APPLE-STRUCTURED-LOCATION;VALUE=URI;X-ADDRESS=Fordham University’s Lincoln Center Campus Room TBA 113 W 60th Street New York 10023 United States;X-APPLE-RADIUS=500;X-TITLE=113 W 60th Street:geo:-73.9851512,40.7708109
END:VEVENT
BEGIN:VEVENT
DTSTART;TZID=America/New_York:20160209T073000
DTEND;TZID=America/New_York:20160209T120000
DTSTAMP:20260423T083504
CREATED:20151214T204953Z
LAST-MODIFIED:20160211T100030Z
UID:78-1455003000-1455019200@nycdh.org
SUMMARY:NYCDH Week Kickoff Gathering
DESCRIPTION:Our big event! The afternoon of networking\, lightning talks and an NYCDH roundtable will be followed by a social outing at a local watering hole. This is your opportunity to see old friends\, meet new ones and get to know your New York City Digital Humanities community. Looking forward to seeing you there! \nPlease RSVP here. \n~ SCHEDULE ~ \n\n\n\n12:30-1:00\nWinding Up\nMeet old friends\, make new ones\, get pumped up for the festivities that lie ahead!\n\n\n1:00-1:15\nIntro to NYCDH\nA quick framing of the day\, NYCDH’s origins\, and the impetus behind DHWeek\n\n\n1:15-2:00\nPresentations by NYCDH Graduate Student Award Winners\n\n\n2:00-2:45\nLightning Talks Pt 1\n\n\n2:45-3:00\nBreak\n\n\n3:00-3:45\nLightning Talks Pt 2 – Graduate Student Work\n\n\n3:45-4:30\nNYCDH Roundtable\nA panel of NYCDH Steering Committee members discuss the role they see NYCDH playing in the community from their personal and institutional perspectives.\n\n\n4:30-5:00\nWinding Down\nTake some time to catch your breath\, exchange ideas with new colleagues\, and think about future projects and collaborations.\n\n\n5:00\nOff to Digibar!
URL:https://nycdh.org/dhweek/event/nycdh-week-kickoff-gathering/
LOCATION:Fordham University’s Lincoln Center Campus\, Room TBA\, 113 W 60th Street\, New York\, 10023\, United States
CATEGORIES:Digital Humanities
GEO:40.7708109;-73.9851512
X-APPLE-STRUCTURED-LOCATION;VALUE=URI;X-ADDRESS=Fordham University’s Lincoln Center Campus Room TBA 113 W 60th Street New York 10023 United States;X-APPLE-RADIUS=500;X-TITLE=113 W 60th Street:geo:-73.9851512,40.7708109
END:VEVENT
END:VCALENDAR