BEGIN:VCALENDAR
VERSION:2.0
PRODID:-//NYCDH Week - ECPv6.15.17//NONSGML v1.0//EN
CALSCALE:GREGORIAN
METHOD:PUBLISH
X-ORIGINAL-URL:https://nycdh.org/dhweek
X-WR-CALDESC:Events for NYCDH Week
REFRESH-INTERVAL;VALUE=DURATION:PT1H
X-Robots-Tag:noindex
X-PUBLISHED-TTL:PT1H
BEGIN:VTIMEZONE
TZID:America/New_York
BEGIN:DAYLIGHT
TZOFFSETFROM:-0500
TZOFFSETTO:-0400
TZNAME:EDT
DTSTART:20190310T070000
END:DAYLIGHT
BEGIN:STANDARD
TZOFFSETFROM:-0400
TZOFFSETTO:-0500
TZNAME:EST
DTSTART:20191103T060000
END:STANDARD
BEGIN:DAYLIGHT
TZOFFSETFROM:-0500
TZOFFSETTO:-0400
TZNAME:EDT
DTSTART:20200308T070000
END:DAYLIGHT
BEGIN:STANDARD
TZOFFSETFROM:-0400
TZOFFSETTO:-0500
TZNAME:EST
DTSTART:20201101T060000
END:STANDARD
BEGIN:DAYLIGHT
TZOFFSETFROM:-0500
TZOFFSETTO:-0400
TZNAME:EDT
DTSTART:20210314T070000
END:DAYLIGHT
BEGIN:STANDARD
TZOFFSETFROM:-0400
TZOFFSETTO:-0500
TZNAME:EST
DTSTART:20211107T060000
END:STANDARD
END:VTIMEZONE
BEGIN:VEVENT
DTSTART;TZID=America/New_York:20200206T100000
DTEND;TZID=America/New_York:20200206T120000
DTSTAMP:20260420T200806
CREATED:20200122T170250Z
LAST-MODIFIED:20200204T222021Z
UID:4151-1580983200-1580990400@nycdh.org
SUMMARY:Intro to Carto
DESCRIPTION:With almost 40% of the entire world carrying a GPS device around with them in their bag or pocket\, digital mapping has exploded in both popularity and accessibility. Carto offers a powerful platform to creatively design maps to explore spatial relationships embedded in any topic or subject you are passionate about. Join us for Intro Carto\, which will cover all the basics you’ll need to create beautiful and powerful digital maps. We will provide sample datasets you can use in this workshop. No mapping experience required and all are welcome. \nEquipment: Laptops \nPrerequisites: No mapping experience necessary \n 
URL:https://nycdh.org/dhweek/event/intro-to-carto/
LOCATION:Fordham University’s Lincoln Center Campus\, LL 601\, 113 W. 60th St.\, New York\, NY\, 10019\, United States
CATEGORIES:Beginner,Carto,Mapping,Visualization
ORGANIZER;CN="Heather Hill":MAILTO:hhill3@fordham.edu
END:VEVENT
END:VCALENDAR