BEGIN:VCALENDAR
VERSION:2.0
PRODID:-//NYCDH Week - ECPv6.15.17//NONSGML v1.0//EN
CALSCALE:GREGORIAN
METHOD:PUBLISH
X-WR-CALNAME:NYCDH Week
X-ORIGINAL-URL:https://nycdh.org/dhweek
X-WR-CALDESC:Events for NYCDH Week
REFRESH-INTERVAL;VALUE=DURATION:PT1H
X-Robots-Tag:noindex
X-PUBLISHED-TTL:PT1H
BEGIN:VTIMEZONE
TZID:America/New_York
BEGIN:DAYLIGHT
TZOFFSETFROM:-0500
TZOFFSETTO:-0400
TZNAME:EDT
DTSTART:20160313T070000
END:DAYLIGHT
BEGIN:STANDARD
TZOFFSETFROM:-0400
TZOFFSETTO:-0500
TZNAME:EST
DTSTART:20161106T060000
END:STANDARD
BEGIN:DAYLIGHT
TZOFFSETFROM:-0500
TZOFFSETTO:-0400
TZNAME:EDT
DTSTART:20170312T070000
END:DAYLIGHT
BEGIN:STANDARD
TZOFFSETFROM:-0400
TZOFFSETTO:-0500
TZNAME:EST
DTSTART:20171105T060000
END:STANDARD
BEGIN:DAYLIGHT
TZOFFSETFROM:-0500
TZOFFSETTO:-0400
TZNAME:EDT
DTSTART:20180311T070000
END:DAYLIGHT
BEGIN:STANDARD
TZOFFSETFROM:-0400
TZOFFSETTO:-0500
TZNAME:EST
DTSTART:20181104T060000
END:STANDARD
END:VTIMEZONE
BEGIN:VEVENT
DTSTART;TZID=America/New_York:20170207T133000
DTEND;TZID=America/New_York:20170207T153000
DTSTAMP:20260423T063106
CREATED:20170128T015057Z
LAST-MODIFIED:20170128T024249Z
UID:1001-1486474200-1486481400@nycdh.org
SUMMARY:Strategies for Interactive and Immersive Dance
DESCRIPTION:We will discuss strategies for creating experiences and performances that cross the domains of software\, sound\, and dance while respecting each medium’s idiosyncratic strengths. D. Schmüdde will provide a brief overview of the hardware\, software\, and original code he wrote to track bodies and manipulate sound in “Borderless.” Co-creator Kim Burgas will discuss the process of developing a physical language for video and highlight how the subject matter affected the medium and how the medium affected the subject. After establishing this context\, the group will workshop themes and initiatives brought by each member. This may include specific projects or general research interests. We’ll discuss tools and techniques\, implementing by direct experimentation wherever possible. \nSkill Level\nBeginner \nPrerequisites\nNone \nEquipment & Software requirements\nNone
URL:https://nycdh.org/dhweek/event/strategies-for-interactive-and-immersive-dance/
LOCATION:Kitchen Table Coders\, 274 Morgan\, Brooklyn\, NY\, 11211\, United States
CATEGORIES:Beginner,Interactive Design,Performance
ORGANIZER;CN="D. Schm%C3%BCdde":MAILTO:d@schmud.de
GEO:40.7139481;-73.9348124
X-APPLE-STRUCTURED-LOCATION;VALUE=URI;X-ADDRESS=Kitchen Table Coders 274 Morgan Brooklyn NY 11211 United States;X-APPLE-RADIUS=500;X-TITLE=274 Morgan:geo:-73.9348124,40.7139481
END:VEVENT
END:VCALENDAR