BEGIN:VCALENDAR
VERSION:2.0
PRODID:-//NYCDH Week - ECPv6.15.17//NONSGML v1.0//EN
CALSCALE:GREGORIAN
METHOD:PUBLISH
X-ORIGINAL-URL:https://nycdh.org/dhweek
X-WR-CALDESC:Events for NYCDH Week
REFRESH-INTERVAL;VALUE=DURATION:PT1H
X-Robots-Tag:noindex
X-PUBLISHED-TTL:PT1H
BEGIN:VTIMEZONE
TZID:America/New_York
BEGIN:DAYLIGHT
TZOFFSETFROM:-0500
TZOFFSETTO:-0400
TZNAME:EDT
DTSTART:20180311T070000
END:DAYLIGHT
BEGIN:STANDARD
TZOFFSETFROM:-0400
TZOFFSETTO:-0500
TZNAME:EST
DTSTART:20181104T060000
END:STANDARD
BEGIN:DAYLIGHT
TZOFFSETFROM:-0500
TZOFFSETTO:-0400
TZNAME:EDT
DTSTART:20190310T070000
END:DAYLIGHT
BEGIN:STANDARD
TZOFFSETFROM:-0400
TZOFFSETTO:-0500
TZNAME:EST
DTSTART:20191103T060000
END:STANDARD
BEGIN:DAYLIGHT
TZOFFSETFROM:-0500
TZOFFSETTO:-0400
TZNAME:EDT
DTSTART:20200308T070000
END:DAYLIGHT
BEGIN:STANDARD
TZOFFSETFROM:-0400
TZOFFSETTO:-0500
TZNAME:EST
DTSTART:20201101T060000
END:STANDARD
END:VTIMEZONE
BEGIN:VEVENT
DTSTART;TZID=America/New_York:20190206T130000
DTEND;TZID=America/New_York:20190206T150000
DTSTAMP:20260421T063551
CREATED:20190120T193822Z
LAST-MODIFIED:20190124T035740Z
UID:2665-1549458000-1549465200@nycdh.org
SUMMARY:Data Epistemologies: Intro to Data Taxonomies
DESCRIPTION:Increasingly\, humanities scholars are turning to data as a key element of both humanities research and teaching: as DH methods become more prevalent and accessible\, students and researchers begin to seek out\, digitize\, or generate data sets such as cartographic data for mapping\, unstructured textual data for distant reading and computational processing\, or controlled vocabularies for XML/TEI markup. \nBut it’s not always clear what forms our humanities data can and should take\, or how these structures might affect the results of our work. In this session\, participants will receive a primer in data formats and uses\, including the differences between structured\, semi-structured\, and unstructured data and the file formats they encompass. We will work together to think critically about the implications of data organization (including for ethics and accessibility) and about how data-driven projects can serve as sites of epistemological critique\, pedagogy\, and self-reflection in our work and the work of those we teach. \nThis workshop is meant primarily for humanities instructors or students who are interested in the *idea* of data-driven projects\, either as pedagogical tools or components of their own research\, but don’t feel they have the basic familiarity with data taxonomies necessary to make informed\, intentional decisions. While we won’t linger on any one particular tool or file format (except by popular demand)\, participants are encouraged to bring a laptop (Chromebooks OK) to explore some data files up close and tinker with structures. Emphasis will be on data drawn from sources pertaining to history and literature\, but I’m happy to take requests by email in advance of our meeting! \nLaptop computer recommended but not required.
URL:https://nycdh.org/dhweek/event/data-epistemologies-intro-to-data-taxonomies/
LOCATION:NYU English Department Event Space\, 244 Greene St.\, First floor\, New York\, NY\, 10003
CATEGORIES:Beginner,Pedagogy
ORGANIZER;CN="Grace Afsari-Mamagani":MAILTO:gam351@nyu.edu
END:VEVENT
END:VCALENDAR