BEGIN:VCALENDAR
VERSION:2.0
PRODID:-//NYCDH Week - ECPv6.15.17//NONSGML v1.0//EN
CALSCALE:GREGORIAN
METHOD:PUBLISH
X-WR-CALNAME:NYCDH Week
X-ORIGINAL-URL:https://nycdh.org/dhweek
X-WR-CALDESC:Events for NYCDH Week
REFRESH-INTERVAL;VALUE=DURATION:PT1H
X-Robots-Tag:noindex
X-PUBLISHED-TTL:PT1H
BEGIN:VTIMEZONE
TZID:America/New_York
BEGIN:DAYLIGHT
TZOFFSETFROM:-0500
TZOFFSETTO:-0400
TZNAME:EDT
DTSTART:20160313T070000
END:DAYLIGHT
BEGIN:STANDARD
TZOFFSETFROM:-0400
TZOFFSETTO:-0500
TZNAME:EST
DTSTART:20161106T060000
END:STANDARD
BEGIN:DAYLIGHT
TZOFFSETFROM:-0500
TZOFFSETTO:-0400
TZNAME:EDT
DTSTART:20170312T070000
END:DAYLIGHT
BEGIN:STANDARD
TZOFFSETFROM:-0400
TZOFFSETTO:-0500
TZNAME:EST
DTSTART:20171105T060000
END:STANDARD
BEGIN:DAYLIGHT
TZOFFSETFROM:-0500
TZOFFSETTO:-0400
TZNAME:EDT
DTSTART:20180311T070000
END:DAYLIGHT
BEGIN:STANDARD
TZOFFSETFROM:-0400
TZOFFSETTO:-0500
TZNAME:EST
DTSTART:20181104T060000
END:STANDARD
END:VTIMEZONE
BEGIN:VEVENT
DTSTART;TZID=America/New_York:20170210T110000
DTEND;TZID=America/New_York:20170210T130000
DTSTAMP:20260423T050051
CREATED:20170112T001538Z
LAST-MODIFIED:20170112T010633Z
UID:376-1486724400-1486731600@nycdh.org
SUMMARY:Sensing Urban Noise
DESCRIPTION:Whether you’re an expert maker\, artist\, or simply interested in learning how easy it is to get up and running in sensing\, mapping\, and using soundscape data for music creation\, please join the Citygram-IBM hosted Noisescapes Workshop & Hackathon by bringing your laptop/notebook computer. We will provide the rest: access to NYU’s Citygram’s API to enable sound data streaming from sensor nodes in areas such as the NYU campus. We’ll have Raspberry Pi’s “nodes” available with onboard audio capture equipment streaming sound data. \nWe will be using and introducing our software as well as third party apps including Supercollider\, for mapping data to sound with a global goal of contributing in this idea of “soundmapping our world” for fun\, for understanding soundscapes\, for mitigating urban noise pollution\, or to make music or visualizations through real-time data streams. \nSkill Level\nAll levels \nPrerequisites\nNone \nEquipment & Software requirements\nLaptop\, limited computers available onsite
URL:https://nycdh.org/dhweek/event/sensing-urban-noise/
LOCATION:NYU Steinhardt School\, 6th Floor Conference Room\, 35 West 4th Street\, New York\, NY\, 10012
CATEGORIES:Audiovisual,Beginner,Raspberry Pi
ORGANIZER;CN="Tae Hong Park":MAILTO:thp1@nyu.edu
GEO:40.7293724;-73.995937
X-APPLE-STRUCTURED-LOCATION;VALUE=URI;X-ADDRESS=NYU Steinhardt School 6th Floor Conference Room 35 West 4th Street New York NY 10012;X-APPLE-RADIUS=500;X-TITLE=35 West 4th Street:geo:-73.995937,40.7293724
END:VEVENT
END:VCALENDAR