BEGIN:VCALENDAR
VERSION:2.0
PRODID:-//NYCDH Week - ECPv6.15.17//NONSGML v1.0//EN
CALSCALE:GREGORIAN
METHOD:PUBLISH
X-ORIGINAL-URL:https://nycdh.org/dhweek
X-WR-CALDESC:Events for NYCDH Week
REFRESH-INTERVAL;VALUE=DURATION:PT1H
X-Robots-Tag:noindex
X-PUBLISHED-TTL:PT1H
BEGIN:VTIMEZONE
TZID:America/New_York
BEGIN:DAYLIGHT
TZOFFSETFROM:-0500
TZOFFSETTO:-0400
TZNAME:EDT
DTSTART:20190310T070000
END:DAYLIGHT
BEGIN:STANDARD
TZOFFSETFROM:-0400
TZOFFSETTO:-0500
TZNAME:EST
DTSTART:20191103T060000
END:STANDARD
BEGIN:DAYLIGHT
TZOFFSETFROM:-0500
TZOFFSETTO:-0400
TZNAME:EDT
DTSTART:20200308T070000
END:DAYLIGHT
BEGIN:STANDARD
TZOFFSETFROM:-0400
TZOFFSETTO:-0500
TZNAME:EST
DTSTART:20201101T060000
END:STANDARD
BEGIN:DAYLIGHT
TZOFFSETFROM:-0500
TZOFFSETTO:-0400
TZNAME:EDT
DTSTART:20210314T070000
END:DAYLIGHT
BEGIN:STANDARD
TZOFFSETFROM:-0400
TZOFFSETTO:-0500
TZNAME:EST
DTSTART:20211107T060000
END:STANDARD
END:VTIMEZONE
BEGIN:VEVENT
DTSTART;TZID=America/New_York:20200206T150000
DTEND;TZID=America/New_York:20200206T170000
DTSTAMP:20260420T200809
CREATED:20200121T164837Z
LAST-MODIFIED:20200121T164837Z
UID:4081-1581001200-1581008400@nycdh.org
SUMMARY:Translating Questions into Actionable Research
DESCRIPTION:Researchers are often driven by a hunch\, a practical problem or a gap in existing knowledge. However\, successfully translating research questions into data collection and analysis methods requires skills and experience. This workshop will review commonly used methods for collecting primary sources data (questionnaires\, interviews\, observations)\, as well as qualitative and quantitative approaches to data analysis. At the end of the workshop\, participants will have a better understanding of methodological options and issues that affect their research inquiries.
URL:https://nycdh.org/dhweek/event/translating-questions-into-actionable-research/
LOCATION:Pratt Manhattan Center\, Room 610\, 144 West 14th\, Room 610\, New York\, NY\, 10011\, United States
CATEGORIES:Beginner,Data Management,Research
ORGANIZER;CN="Irene Lopatovska":MAILTO:ilopatov@pratt.edu
END:VEVENT
END:VCALENDAR