BEGIN:VCALENDAR
VERSION:2.0
PRODID:-//NYCDH Week - ECPv6.15.17//NONSGML v1.0//EN
CALSCALE:GREGORIAN
METHOD:PUBLISH
X-WR-CALNAME:NYCDH Week
X-ORIGINAL-URL:https://nycdh.org/dhweek
X-WR-CALDESC:Events for NYCDH Week
REFRESH-INTERVAL;VALUE=DURATION:PT1H
X-Robots-Tag:noindex
X-PUBLISHED-TTL:PT1H
BEGIN:VTIMEZONE
TZID:America/New_York
BEGIN:DAYLIGHT
TZOFFSETFROM:-0500
TZOFFSETTO:-0400
TZNAME:EDT
DTSTART:20150308T070000
END:DAYLIGHT
BEGIN:STANDARD
TZOFFSETFROM:-0400
TZOFFSETTO:-0500
TZNAME:EST
DTSTART:20151101T060000
END:STANDARD
BEGIN:DAYLIGHT
TZOFFSETFROM:-0500
TZOFFSETTO:-0400
TZNAME:EDT
DTSTART:20160313T070000
END:DAYLIGHT
BEGIN:STANDARD
TZOFFSETFROM:-0400
TZOFFSETTO:-0500
TZNAME:EST
DTSTART:20161106T060000
END:STANDARD
BEGIN:DAYLIGHT
TZOFFSETFROM:-0500
TZOFFSETTO:-0400
TZNAME:EDT
DTSTART:20170312T070000
END:DAYLIGHT
BEGIN:STANDARD
TZOFFSETFROM:-0400
TZOFFSETTO:-0500
TZNAME:EST
DTSTART:20171105T060000
END:STANDARD
END:VTIMEZONE
BEGIN:VEVENT
DTSTART;TZID=America/New_York:20160212T080000
DTEND;TZID=America/New_York:20160212T100000
DTSTAMP:20260423T072252
CREATED:20160121T024859Z
LAST-MODIFIED:20161122T220650Z
UID:173-1455264000-1455271200@nycdh.org
SUMMARY:Easy-to-use Digital Tools for Film Analysis
DESCRIPTION:A workshop focusing on demonstrations and applications of easy-to-use platforms for film/audiovisual media analysis\, such as video annotation software\, and interactive image annotation tools like Thinglink. In addition to brief how-to tutorials\, this workshop will also give examples of how to productively incorporate those tools into multimedia assignments for Film and Media Studies courses. A selection of student projects from past courses I taught will be included\, including collaborative DH class projects\, and participants can also share their own examples during the workshop. \n[Note: The workshop will be accessible enough for tech novices\, in hopes of encouraging more educators (especially in Film Studies – an area where there is demand for this type of workshop) to think of alternatives to the traditional academic paper\, for instance.] \n\n\nLocation: Room 652\, Department of Cinema Studies\, 6th floor\, Tisch School of the Arts\, 721 Broadway\, NY 10003. Non NYU attendees must present ID at the front desk. \n\nWe recommended that attendees bring their laptops.
URL:https://nycdh.org/dhweek/event/easy-to-use-digital-tools-for-film-analysis/
LOCATION:Tisch School of the Arts\, 721 Broadway\, New York\, NY\, 10003\, United States
CATEGORIES:Beginner,Intermediate
ORGANIZER;CN="Marina Hassapopoulou":MAILTO:mh193@nyu.edu
GEO:40.7295102;-73.9938432
X-APPLE-STRUCTURED-LOCATION;VALUE=URI;X-ADDRESS=Tisch School of the Arts 721 Broadway New York NY 10003 United States;X-APPLE-RADIUS=500;X-TITLE=721 Broadway:geo:-73.9938432,40.7295102
END:VEVENT
END:VCALENDAR